{"text_format":"1","workbook":"xlsx","n_sheets":4,"sheets":["Settings","Schedule","WeekendsAndHolidays","Lookup"],"not_rendered":{"charts":0,"images":0,"macros":1,"external_links":1,"defined_names":1,"comments":0,"pivot_tables":0},"unopened":[],"bounds":{"document_bytes":16777216,"sheet_cells":100000,"rows_first":2000,"rows_last":500,"rows_between":2000,"halvings":0,"cell_chars":16384,"cell_head_chars":4096},"cells_cut":0,"cells_raw":0,"read":"whole","date_system":"1900"}

{"sheet":"Settings","index":0,"n_rows":9,"n_cols":2,"rows_kept":9,"cut":false,"hidden":false,"merged":[]}
[]
[]
[]
[]
["Current Path:",{"$f":"LEFT(CELL(\"filename\",A1),FIND(\"[\",CELL(\"filename\",A1))-1)","v":"C:\\Users\\psuci\\AppData\\Roaming\\Microsoft\\Excel\\"}]
["Current Filename:",{"$f":"MID(CELL(\"filename\"),SEARCH(\"[\",CELL(\"filename\"))+1, SEARCH(\"]\",CELL(\"filename\"))-SEARCH(\"[\",CELL(\"filename\"))-1)","v":"ProjectSchedulingSystem - 2021-11-21 (version 1).xlsb"}]
["Current Sheet:",{"$f":"MID(CELL(\"filename\",A1),FIND(\"]\",CELL(\"filename\",A1))+1,255)","v":"Settings"}]
[]
["Auto Filename:",{"$f":"IF(RIGHT(B5,1)=\"\\\",B5,B5&\"\\\")&B6","v":"C:\\Users\\psuci\\AppData\\Roaming\\Microsoft\\Excel\\ProjectSchedulingSystem - 2021-11-21 (version 1).xlsb"}]

{"sheet":"Schedule","index":1,"n_rows":200,"n_cols":134,"rows_kept":200,"cut":false,"hidden":false,"merged":[[15,37,18,37],[17,12,17,13],[17,14,17,15],[15,38,18,38],[15,39,18,39],[15,40,18,40],[15,41,18,41],[15,42,18,42],[15,43,18,43],[15,32,18,32],[15,33,18,33],[15,34,18,34],[15,35,18,35],[15,36,18,36],[17,0,18,0],[15,29,18,29],[15,30,18,30],[15,31,18,31],[17,17,18,17],[17,18,18,18],[17,19,18,19],[17,20,18,20],[17,1,18,1],[17,7,18,7],[17,10,17,11],[17,5,17,6],[17,9,18,9],[15,50,18,50],[15,51,18,51],[15,52,18,52],[15,53,18,53],[15,54,18,54],[15,55,18,55],[15,44,18,44],[15,45,18,45],[15,46,18,46],[15,47,18,47],[15,48,18,48],[15,49,18,49],[15,62,18,62],[15,63,18,63],[15,64,18,64],[15,65,18,65],[15,66,18,66],[15,67,18,67],[15,56,18,56],[15,57,18,57],[15,58,18,58],[15,59,18,59],[15,60,18,60],[15,61,18,61],[15,74,18,74],[15,75,18,75],[15,76,18,76],[15,77,18,77],[15,78,18,78],[15,79,18,79],[15,68,18,68],[15,69,18,69],[15,70,18,70],[15,71,18,71],[15,72,18,72],[15,73,18,73],[15,86,18,86],[15,87,18,87],[15,88,18,88],[15,89,18,89],[15,90,18,90],[15,91,18,91],[15,80,18,80],[15,81,18,81],[15,82,18,82],[15,83,18,83],[15,84,18,84],[15,85,18,85],[15,98,18,98],[15,99,18,99],[15,100,18,100],[15,101,18,101],[15,102,18,102],[15,103,18,103],[15,92,18,92],[15,93,18,93],[15,94,18,94],[15,95,18,95],[15,96,18,96],[15,97,18,97],[15,113,18,113],[15,114,18,114],[15,115,18,115],[15,104,18,104],[15,105,18,105],[15,106,18,106],[15,107,18,107],[15,108,18,108],[15,109,18,109],[1,39,2,58],[3,39,3,69],[1,36,1,38],[2,36,2,38],[3,36,3,38],[4,36,4,38],[15,130,18,130],[15,128,18,128],[15,129,18,129],[15,122,18,122],[15,123,18,123],[15,124,18,124],[15,125,18,125],[15,126,18,126],[15,127,18,127],[15,116,18,116],[15,117,18,117],[15,118,18,118],[15,119,18,119],[15,120,18,120],[15,121,18,121],[15,110,18,110],[15,111,18,111],[15,112,18,112]]}
[null,null,{"$f":"MID(CELL(\"filename\",B2),FIND(\"]\",CELL(\"filename\",B2))+1,255)","v":"Schedule"},null,"Relationships:","Finish to Start","B starts when A finishes",null,null,null,"Selected Row:",2,null,null,null,null,null,null,null,"Current Activity:","Hindu Wedding (HW)----Wedding",null,{"$f":"ADDRESS(ROW(B19),COLUMN(B19),1,1,C1)","v":"Schedule!$B$19"}]
[null,null,null,null,null,"Finish to Finish","B finishes when A finishes",null,null,null,"Highlight Predecessors/Successors:",null,null,null,null,null,null,null,null,"Late Start:",{"$f":"IFERROR(VLOOKUP(U$1,$B$20:$AD$20000,$W2,FALSE),0)","v":"2022-03-02"},{"$f":"COLUMN(X19)","v":24},{"$f":"V2-COLUMN(INDIRECT(W$1,TRUE))+1","v":23},null,null,null,null,null,null,null,null,null,null,null,null,"Center on Today?",null,null,null,"<--Neither option defaults to the beginning of the earliest active project."]
[null,null,null,null,null,"Start to Start","B starts when A starts","Milestone:",null,{"$f":"IF(AND(L2=\"x\",L1>=ROW(A20)),INDIRECT(ADDRESS($L$1,2,1,1),TRUE),\"\")","v":""},null,null,null,null,null,null,null,null,null,"Late Finish:",{"$f":"IFERROR(VLOOKUP(U$1,$B$20:$AD$20000,$W3,FALSE),0)","v":"2022-03-02"},{"$f":"COLUMN(Y19)","v":25},{"$f":"V3-COLUMN(INDIRECT(W$1,TRUE))+1","v":24},null,null,null,null,null,null,null,null,null,null,null,null,"-OR- Use Start Date:",null,null,null,null,null,null,null,null,null,null,null,null,null,null,null,null,null,null,null,null,null,null,null,null,null,null,null,null,null,null,null,null,null,null,null,null,null,null,null,null,null,null,null,null,null,null,null,null,null,null,null,null,null,null,null,null,null,null,null,null,null,null,null,null,null,null,null,null,null,null,null,null,null,null,null,null,null,null,null,null,null,null,null,null,null,null,null,null,null,null,null,null,null,null,null,null,null,{"$f":"DR14","v":"2012-02-28T14:24:00"}]
[null,null,null,null,null,"Start to Finish","B can't finish until A starts","Relationship:",null,{"$f":"IF(AND($L$2=\"x\",$L$1>ROW($A$19)),INDIRECT(ADDRESS($L$1,7,1,1),TRUE),\"\")","v":""},null,null,null,null,null,null,null,null,null,"Predecessor Activity:",{"$f":"IFERROR(VLOOKUP(U$1,$B$20:$AD$20000,$W4,FALSE),0)","v":0},{"$f":"COLUMN(G19)","v":7},{"$f":"V4-COLUMN(INDIRECT(W$1,TRUE))+1","v":6},null,null,null,null,null,null,null,null,null,null,null,null,"Scale:",null,null,null,"<--If no scale selected, Chart will fit to active project(s) or a default scale of 1.",null,null,null,null,null,null,null,null,null,null,null,null,null,null,null,null,null,null,null,null,null,null,null,null,null,null,null,null,null,null,null,null,null,null,null,null,null,null,null,null,null,null,null,null,null,null,null,null,null,null,null,null,null,null,null,null,null,null,null,null,null,null,null,null,null,null,null,null,null,null,null,null,null,null,null,null,null,null,null,null,null,null,null,null,null,null,null,null,null,null,null,null,null,{"$f":"DR20","v":0}]
[null,null,null,null,null,"Start","Actual Start Date is used (milestone only)",null,null,null,"Predecessor:",null,null,null,null,null,null,null,null,"Predecessor Late Start:",{"$f":"IFERROR(VLOOKUP(U$4,$B$20:$AD$20000,$W5,FALSE),0)","v":"00:00:00"},{"$f":"COLUMN(X19)","v":24},{"$f":"V5-COLUMN(INDIRECT(W$1,TRUE))+1","v":23},null,null,null,null,null,null,null,null,null,null,null,null,"Divisions:",5]
[null,null,null,null,null,"End","Finds latest project date (milestone only)",null,"Critical Path Last Run:",null,"Current:",null,null,null,null,null,null,null,null,"Predecessor Late Finish:",{"$f":"IFERROR(VLOOKUP(U$4,$B$20:$AD$20000,$W6,FALSE),0)","v":"00:00:00"},{"$f":"COLUMN(Y19)","v":25},{"$f":"V6-COLUMN(INDIRECT(W$1,TRUE))+1","v":24}]
[]
[null,null,null,null,null,null,null,null,null,null,null,null,null,null,"GetProjectEnd Settings",null,null,null,null,null,null,null,null,null,null,"Active Search Range:",null,null,{"$f":"ADDRESS(ROW(T20),COLUMN(T20),1,1,C1)&\":\"&ADDRESS(ROW(T20)+COUNTA(T20:T9999)-1,COLUMN(T20))","v":"Schedule!$T$20:$T$200"}]
[null,null,null,null,null,null,null,null,null,null,null,null,null,null,"First Row:",20,null,null,null,null,null,null,null,null,null,null,null,"Beginning of the earliest activity:",{"$f":"IFERROR(SMALL(INDIRECT(AC8,TRUE),1),DATE(YEAR(TODAY()),MONTH(TODAY()),1))","v":"00:00:00"}]
[null,null,null,null,null,null,null,null,null,null,null,null,null,null,"Last Row:",{"$f":"LOOKUP(2,1/(C:C<>\"\"),ROW(C:C))","v":59}]
[null,null,null,null,null,null,null,null,null,null,null,null,null,null,"Project Name Column:",{"$f":"COLUMN(C20)","v":3},null,null,null,null,null,null,null,null,null,null,null,"Today:",{"$f":"TODAY()","v":"2021-12-15"}]
[null,null,null,null,null,null,null,null,null,null,null,null,null,null,"Date Column:",{"$f":"COLUMN(P20)","v":16},null,null,null,null,null,null,null,null,null,null,null,"Delta:",{"$f":"LARGE(AD13:VK13,1)-AD13","v":100}]
[null,null,null,null,null,null,null,null,null,null,null,null,null,null,null,null,null,null,null,null,null,null,null,null,null,null,null,"Average:",{"$f":"AC12/2","v":50},{"$f":"COLUMN()-COLUMN($AC13)","v":1},{"$f":"COLUMN()-COLUMN($AC13)","v":2},3,4,5,6,7,8,9,10,11,12,13,14,15,16,17,18,19,20,21,22,23,24,25,26,27,28,29,30,31,32,33,34,35,36,37,38,39,40,41,42,43,44,45,46,47,48,49,50,51,52,53,54,55,56,57,58,59,60,61,62,63,64,65,{"$f":"COLUMN()-COLUMN($AC13)","v":66},67,68,69,70,71,72,73,74,75,76,77,78,79,80,81,82,83,84,85,86,87,88,89,90,91,92,93,94,95,96,97,98,99,100,101]
[null,null,null,null,null,null,null,null,null,null,null,null,null,null,null,null,null,null,null,null,null,null,null,null,null,null,null,"Start Date:",{"$f":"IF(AND($AK$2<>\"x\",$AK$3=0),AC9,IF($AK$2=\"x\",AC11-(AC13*AC17),AK3))","v":"00:00:00"},{"$f":"AC16","v":"00:00:00"},{"$f":"AD14+$AC$17","v":"1901-03-20T07:12:00"},{"$f":"AE14+$AC$17","v":"1902-06-08T14:24:00"},"1903-08-27T21:36:00","1904-11-15T04:48:00","1906-02-03T12:00:00","1907-04-24T19:12:00","1908-07-13T02:24:00","1909-10-01T09:36:00","1910-12-20T16:48:00","1912-03-10","1913-05-29T07:12:00",{"$f":"AO14+$AC$17","v":"1914-08-17T14:24:00"},"1915-11-05T21:36:00","1917-01-24T04:48:00","1918-04-14T12:00:00","1919-07-03T19:12:00","1920-09-21T02:24:00","1921-12-10T09:36:00","1923-02-28T16:48:00","1924-05-19","1925-08-07T07:12:00","1926-10-26T14:24:00","1928-01-14T21:36:00","1929-04-04T04:48:00","1930-06-23T12:00:00","1931-09-11T19:12:00","1932-11-30T02:24:00","1934-02-18T09:36:00","1935-05-09T16:48:00","1936-07-28","1937-10-16T07:12:00","1939-01-04T14:24:00","1940-03-24T21:36:00","1941-06-13T04:48:00","1942-09-01T12:00:00","1943-11-20T19:12:00","1945-02-08T02:24:00","1946-04-29T09:36:00","1947-07-18T16:48:00","1948-10-06","1949-12-25T07:12:00","1951-03-15T14:24:00","1952-06-02T21:36:00","1953-08-22T04:48:00","1954-11-10T12:00:00","1956-01-29T19:12:00","1957-04-19T02:24:00","1958-07-08T09:36:00","1959-09-26T16:48:00","1960-12-15","1962-03-05T07:12:00","1963-05-24T14:24:00","1964-08-11T21:36:00","1965-10-31T04:48:00","1967-01-19T12:00:00","1968-04-08T19:12:00","1969-06-28T02:24:00","1970-09-16T09:36:00","1971-12-05T16:48:00","1973-02-23","1974-05-14T07:12:00","1975-08-02T14:24:00","1976-10-20T21:36:00","1978-01-09T04:48:00","1979-03-30T12:00:00","1980-06-17T19:12:00","1981-09-06T02:24:00","1982-11-25T09:36:00","1984-02-13T16:48:00","1985-05-04","1986-07-23T07:12:00","1987-10-11T14:24:00","1988-12-29T21:36:00","1990-03-20T04:48:00","1991-06-08T12:00:00",{"$f":"DA14+$AC$17","v":"1992-08-26T19:12:00"},"1993-11-15T02:24:00","1995-02-03T09:36:00","1996-04-23T16:48:00","1997-07-13","1998-10-01T07:12:00","1999-12-20T14:24:00","2001-03-09T21:36:00","2002-05-29T04:48:00","2003-08-17T12:00:00","2004-11-04T19:12:00","2006-01-24T02:24:00","2007-04-14T09:36:00","2008-07-02T16:48:00","2009-09-21","2010-12-10T07:12:00","2012-02-28T14:24:00","2013-05-18T21:36:00","2014-08-07T04:48:00","2015-10-26T12:00:00","2017-01-13T19:12:00","2018-04-04T02:24:00","2019-06-23T09:36:00","2020-09-10T16:48:00","2021-11-30","2023-02-18T07:12:00"]
[null,null,null,null,null,null,null,null,null,null,"Iferror:",{"$f":"\"\"","v":""},null,null,null,null,null,null,null,null,null,null,null,null,null,null,null,null,null,{"$f":"IF(AD14=AC11,2,1)","v":1},{"$f":"IF(ROUND(AE14,0)=$AC$11,2,IF((AE13/$AC$18)-ROUND(AE13/$AC$18,0)=0,1,0))","v":0},{"$f":"IF(ROUND(AF14,0)=$AC$11,2,IF((AF13/$AC$18)-ROUND(AF13/$AC$18,0)=0,1,0))","v":0},0,1,0,0,0,0,1,0,0,0,0,1,0,0,0,0,1,0,0,0,0,1,0,0,0,0,1,0,0,0,0,1,0,0,0,0,1,0,0,0,0,1,0,0,0,0,1,0,0,0,0,1,0,0,0,0,1,0,0,0,0,1,0,{"$f":"IF(ROUND(CR14,0)=$AC$11,2,IF((CR13/$AC$18)-ROUND(CR13/$AC$18,0)=0,1,0))","v":0},0,0,1,0,0,0,0,1,0,0,0,0,1,0,0,0,0,1,0,0,0,0,1,0,0,0,0,1,0,0,0,0,1,0,1]
[null,null,null,null,null,null,null,null,null,null,"Successor:",null,null,null,null,null,null,null,null,"Ready for Backward Pass?",{"$f":"IFERROR(IF(AND($U$4<>0,U6=0,U5=0,U2>0,U3>0),\"Yes\",\"No\"),\"\")","v":"No"},null,null,null,null,null,null,"Start Date:",{"$f":"IF(AND($AK$2<>\"x\",AK3=0),AC9,IF(AK3>0,AK3,AC14))","v":"00:00:00"},{"$f":"IF(AD15>0,AD14,\"\")","v":"00:00:00"},{"$f":"IF(AE15>0,AE14,\"\")","v":""},{"$f":"IF(AF15>0,AF14,\"\")","v":""},"","1904-11-15T04:48:00","","","","","1910-12-20T16:48:00","","","","","1917-01-24T04:48:00","","","","","1923-02-28T16:48:00","","","","","1929-04-04T04:48:00","","","","","1935-05-09T16:48:00","","","","","1941-06-13T04:48:00","","","","","1947-07-18T16:48:00","","","","","1953-08-22T04:48:00","","","","","1959-09-26T16:48:00","","","","","1965-10-31T04:48:00","","","","","1971-12-05T16:48:00","","","","","1978-01-09T04:48:00","",{"$f":"IF(CR15>0,CR14,\"\")","v":""},"","","1984-02-13T16:48:00","","","","","1990-03-20T04:48:00","","","","","1996-04-23T16:48:00","","","","","2002-05-29T04:48:00","","","","","2008-07-02T16:48:00","","","","","2014-08-07T04:48:00","","","","","2020-09-10T16:48:00","","2023-02-18T07:12:00"]
[null,null,null,null,null,null,null,null,null,null,null,null,null,null,null,null,null,null,null,null,null,null,null,null,null,"Critical Value:",2,"Scale:",{"$f":"IF(AK4>0,AK4,ROUNDUP((AC19-AC9)/AC12,1))","v":445.3}]
["Project- Activity","Full ID",null,null,null,"Relationship",null,"Estimated Duration\n(Days)",null,"Lead/Lag\n(Lag = pos, \nLead = neg)","Planned",null,"Actual",null,"Use",null,null,"Actual Duration","Active?","Active Start","End Project",null,null,null,null,null,null,"Division:",{"$f":"AK5","v":5}]
[null,null,"Project","Activity","Milestone","Relationship","to ID",null,"Resource/\nUser",null,"Start","End","Start","End","Start","End","Duration Adjusted for Time Not Worked",null,null,null,null,"Early Start","Early Finish","Late Start","Late Finish","Float","Critical?","Scale Date:",{"$f":"IFERROR(LARGE($U$20:$U$200,1),AC16+100)","v":"2021-11-21"}]
[{"$f":"IF(LEN($C20)>0,$C20&\"-\"&$D20,\"\")","v":""},{"$f":"IF(LEN($C20)>0,$C20&\"--\"&$D20&\"--\"&$E20,\"\")","v":""},null,null,null,null,null,null,null,null,{"$f":"IFERROR(_xlfn.SINGLE(IF($F20=\"End\",_xlfn.SINGLE(PlannedFinish($C20,$P$9,$P$10,$P$11,$P$12,ROW()))+$J20,IF(F20=\"Start\",M20,#NAME?(F20,G20,VLOOKUP(G20,$B$20:$P$9999,COLUMN(O$19)-1,FALSE),VLOOKUP($G20,$B$20:$P$9999,COLUMN(P$19)-1,FALSE),H20))))+IF(AND($J20<0,$F20=\"Finish to Start\"),$J20,0)+IF($J20>0,$J20,0),\"\")","v":""},{"$f":"IFERROR(IF(F20=\"End\",$O20,IF(F20=\"Start\",K20,PlannedStart(F20,G20,VLOOKUP(G20,$B$20:$P$9999,12,FALSE),VLOOKUP($G20,$B$20:$P$9999,13,FALSE),H20,O20))),$L$15)","v":""},null,null,{"$f":"IF(M20>0,M20,K20)","v":""},{"$f":"IF(N20>0,N20,L20)","v":""},null,{"$f":"IFERROR(P20-O20,0)","v":0},{"$f":"IF(OR(AND($F20=\"End\",LEN($N20)=0),AND(M20>0,ISBLANK(N20)=TRUE)),1,0)","v":0},{"$f":"IF(S20>0,O20,\"\")","v":""},{"$f":"IF(F20=\"End\",MAX(IF($C$20:$C$9999=C20,$P$20:$P$9999)),\"\")","v":""},{"$f":"O20","v":""},{"$f":"P20","v":""},null,null,{"$f":"IF(OR(X20=0,Y20=0),\"\",IF(AND(X20>0,V20>0),(X20-V20),0)+IF(AND(Y20>0,W20>0),W20-Y20,0))","v":""},{"$f":"IF($Z20=0,$AA$17,0)","v":0},null,null,{"$f":"IF(AND(AD$14>=$O20,AD$14<$P20),1+$AA20,IF(AND(ROUND(AD$14,0)>=$O20,ROUND(AD$14,0)<=$P20,OR($F20=\"Start\",$F20=\"End\")),10,0))","v":0},0,0,0,0,0,0,0,0,0,0,0,0,0,0,0,0,0,0,0,0,0,0,0,0,0,0,0,0,0,0,0,0,0,0,0,0,0,0,0,0,0,0,0,0,0,0,0,0,0,0,0,0,0,0,0,0,0,0,0,0,0,0,0,{"$f":"IF(AND(CP$14>=$O20,CP$14<$P20),1+$AA20,IF(AND(ROUND(CP$14,0)>=$O20,ROUND(CP$14,0)<=$P20,OR($F20=\"Start\",$F20=\"End\")),10,0))","v":0},0,0,0,0,0,0,0,0,0,0,0,0,0,0,0,0,0,0,0,0,0,0,0,0,0,0,0,{"$f":"IF(AND(DR$14>=$O20,DR$14<$P20),1+$AA20,IF(AND(ROUND(DR$14,0)>=$O20,ROUND(DR$14,0)<=$P20,OR($F20=\"Start\",$F20=\"End\")),10,0))","v":0},{"$f":"IF(AND(DS$14>=$O20,DS$14<$P20),1+$AA20,IF(AND(ROUND(DS$14,0)>=$O20,ROUND(DS$14,0)<=$P20,OR($F20=\"Start\",$F20=\"End\")),10,0))","v":0},0,0,0,0,0,0,0,null,{"$f":"IF(AND($L$2=\"x\",LEN($E20)>0),IF(AND(OR($F20=\"Finish to Start\",$F20=\"Finish to Finish\"),$G20=$J$3),\"S\",IF($B20=$J$4,\"P\",IF(AND(LEN($E20)>0,$B20=$J$3),\"A\",\"\"))),\"\")","v":""}]
[{"$f":"IF(LEN($C21)>0,$C21&\"-\"&$D21,\"\")","v":""},{"$f":"IF(LEN($C21)>0,$C21&\"--\"&$D21&\"--\"&$E21,\"\")","v":""},null,null,null,null,null,null,null,null,{"$f":"IFERROR(_xlfn.SINGLE(IF($F21=\"End\",PlannedFinish($C21,$P$9,$P$10,$P$11,$P$12,ROW()),IF(F21=\"Start\",M21,#NAME?(F21,G21,VLOOKUP(G21,$B$20:$P$9999,COLUMN(O$19)-1,FALSE),VLOOKUP($G21,$B$20:$P$9999,COLUMN(P$19)-1,FALSE),H21))))+IF(AND($J21<0,$F21=\"Finish to Start\"),$J21,0)+IF($J21>0,$J21,0),\"\")","v":""},{"$f":"IFERROR(IF(F21=\"End\",$O21,IF(F21=\"Start\",K21,PlannedStart(F21,G21,VLOOKUP(G21,$B$20:$P$9999,12,FALSE),VLOOKUP($G21,$B$20:$P$9999,13,FALSE),H21,O21))),$L$15)","v":""},null,null,{"$f":"IF(M21>0,M21,K21)","v":""},{"$f":"IF(N21>0,N21,L21)","v":""},null,{"$f":"IFERROR(P21-O21,0)","v":0},{"$f":"IF(OR(AND($F21=\"End\",LEN($N21)=0),AND(M21>0,ISBLANK(N21)=TRUE)),1,0)","v":0},{"$f":"IF(S21>0,O21,\"\")","v":""},{"$f":"IF(F21=\"End\",MAX(IF($C$20:$C$9999=C21,$P$20:$P$9999)),\"\")","v":""},{"$f":"O21","v":""},{"$f":"P21","v":""},null,null,{"$f":"IF(OR(X21=0,Y21=0),\"\",IF(AND(X21>0,V21>0),(X21-V21),0)+IF(AND(Y21>0,W21>0),W21-Y21,0))","v":""},{"$f":"IF($Z21=0,$AA$17,0)","v":0},null,null,0,0,0,0,0,0,0,0,0,0,0,0,0,0,0,0,0,0,0,0,0,0,0,0,0,0,0,0,0,0,0,0,0,0,0,0,0,0,0,0,0,0,0,0,0,0,0,0,0,0,0,0,0,0,0,0,0,0,0,0,0,0,0,0,0,0,0,0,0,0,0,0,0,0,0,0,0,0,0,0,0,0,0,0,0,0,0,0,0,0,0,0,{"$f":"IF(AND(DR$14>=$O21,DR$14<$P21),1+$AA21,IF(AND(ROUND(DR$14,0)>=$O21,ROUND(DR$14,0)<=$P21,OR($F21=\"Start\",$F21=\"End\")),10,0))","v":0},0,0,0,0,0,0,0,0,null,{"$f":"IF(AND($L$2=\"x\",LEN($E21)>0),IF(AND(OR($F21=\"Finish to Start\",$F21=\"Finish to Finish\"),$G21=$J$3),\"S\",IF($B21=$J$4,\"P\",IF(AND(LEN($E21)>0,$B21=$J$3),\"A\",\"\"))),\"\")","v":""}]
["Hindu Wedding (HW)-","Hindu Wedding (HW)----Project Start","Hindu Wedding (HW)",null,"Project Start","Start",null,0,null,null,{"$f":"IFERROR(_xlfn.SINGLE(IF($F22=\"End\",PlannedFinish($C22,$P$9,$P$10,$P$11,$P$12,ROW()),IF(F22=\"Start\",M22,#NAME?(F22,G22,VLOOKUP(G22,$B$20:$P$9999,COLUMN(O$19)-1,FALSE),VLOOKUP($G22,$B$20:$P$9999,COLUMN(P$19)-1,FALSE),H22))))+IF(AND($J22<0,$F22=\"Finish to Start\"),$J22,0)+IF($J22>0,$J22,0),\"\")","v":"2021-11-21"},{"$f":"IFERROR(IF(F22=\"End\",$O22,IF(F22=\"Start\",K22,PlannedStart(F22,G22,VLOOKUP(G22,$B$20:$P$9999,12,FALSE),VLOOKUP($G22,$B$20:$P$9999,13,FALSE),H22,O22))),$L$15)","v":"2021-11-21"},"2021-11-21",null,"2021-11-21","2021-11-21",null,0,1,"2021-11-21",{"$f":"IF(F22=\"End\",MAX(IF($C$20:$C$9999=C22,$P$20:$P$9999)),\"\")","v":""},"2021-11-21","2021-11-21","2021-11-21","2021-11-21",0,2,null,null,0,0,0,0,0,0,0,0,0,0,0,0,0,0,0,0,0,0,0,0,0,0,0,0,0,0,0,0,0,0,0,0,0,0,0,0,0,0,0,0,0,0,0,0,0,0,0,0,0,0,0,0,0,0,0,0,0,0,0,0,0,0,0,0,0,0,0,0,0,0,0,0,0,0,0,0,0,0,0,0,0,0,0,0,0,0,0,0,0,0,0,0,0,0,0,0,0,0,0,0,0,null,""]
["Hindu Wedding (HW)-","Hindu Wedding (HW)----Purchase Wedding Rings","Hindu Wedding (HW)",null,"Purchase Wedding Rings","Finish to Start","Hindu Wedding (HW)----Project Start",1,"Jim, Vyshali",null,{"$f":"IFERROR(_xlfn.SINGLE(IF($F23=\"End\",PlannedFinish($C23,$P$9,$P$10,$P$11,$P$12,ROW()),IF(F23=\"Start\",M23,#NAME?(F23,G23,VLOOKUP(G23,$B$20:$P$9999,COLUMN(O$19)-1,FALSE),VLOOKUP($G23,$B$20:$P$9999,COLUMN(P$19)-1,FALSE),H23))))+IF(AND($J23<0,$F23=\"Finish to Start\"),$J23,0)+IF($J23>0,$J23,0),\"\")","v":""},{"$f":"IFERROR(IF(F23=\"End\",$O23,IF(F23=\"Start\",K23,PlannedStart(F23,G23,VLOOKUP(G23,$B$20:$P$9999,12,FALSE),VLOOKUP($G23,$B$20:$P$9999,13,FALSE),H23,O23))),$L$15)","v":""},null,null,"","",null,0,0,"",{"$f":"IF(F23=\"End\",MAX(IF($C$20:$C$9999=LEFT(A23,FIND(\"-\",A23)-1),$P$20:$P$9999)),\"\")","v":""},"","",null,null,"",0,null,null,0,0,0,0,0,0,0,0,0,0,0,0,0,0,0,0,0,0,0,0,0,0,0,0,0,0,0,0,0,0,0,0,0,0,0,0,0,0,0,0,0,0,0,0,0,0,0,0,0,0,0,0,0,0,0,0,0,0,0,0,0,0,0,{"$f":"IF(AND(CO$14>=$O23,CO$14<$P23),1+$AA23,IF(AND(ROUND(CO$14,0)>=$O23,ROUND(CO$14,0)<=$P23,OR($F23=\"Start\",$F23=\"End\")),10,0))","v":0},0,0,0,0,0,0,0,0,0,0,0,0,0,0,0,0,0,0,0,0,0,0,0,0,0,0,0,0,0,0,0,0,0,0,0,0,0,null,""]
["Hindu Wedding (HW)-","Hindu Wedding (HW)----Purchase Engagement Ring","Hindu Wedding (HW)",null,"Purchase Engagement Ring","Finish to Start","Hindu Wedding (HW)----Purchase Wedding Rings",1,"Jim",null,{"$f":"IFERROR(_xlfn.SINGLE(IF($F24=\"End\",PlannedFinish($C24,$P$9,$P$10,$P$11,$P$12,ROW()),IF(F24=\"Start\",M24,#NAME?(F24,G24,VLOOKUP(G24,$B$20:$P$9999,COLUMN(O$19)-1,FALSE),VLOOKUP($G24,$B$20:$P$9999,COLUMN(P$19)-1,FALSE),H24))))+IF(AND($J24<0,$F24=\"Finish to Start\"),$J24,0)+IF($J24>0,$J24,0),\"\")","v":""},{"$f":"IFERROR(IF(F24=\"End\",$O24,IF(F24=\"Start\",K24,PlannedStart(F24,G24,VLOOKUP(G24,$B$20:$P$9999,12,FALSE),VLOOKUP($G24,$B$20:$P$9999,13,FALSE),H24,O24))),$L$15)","v":""},null,null,"","",null,0,0,"",{"$f":"IF(F24=\"End\",MAX(IF($C$20:$C$9999=C24,$P$20:$P$9999)),\"\")","v":""},"","",null,null,"",0,null,null,{"$f":"IF(AND(AD$14>=$O24,AD$14<$P24),1+$AA24,IF(AND(ROUND(AD$14,0)>=$O24,ROUND(AD$14,0)<=$P24,OR($F24=\"Start\",$F24=\"End\")),10,0))","v":0},0,0,0,0,0,0,0,0,0,{"$f":"IF(AND(AN$14>=$O24,AN$14<$P24),1+$AA24,IF(AND(ROUND(AN$14,0)>=$O24,ROUND(AN$14,0)<=$P24,OR($F24=\"Start\",$F24=\"End\")),10,0))","v":0},0,0,0,0,0,0,0,0,0,{"$f":"IF(AND(AX$14>=$O24,AX$14<$P24),1+$AA24,IF(AND(ROUND(AX$14,0)>=$O24,ROUND(AX$14,0)<=$P24,OR($F24=\"Start\",$F24=\"End\")),10,0))","v":0},0,0,0,0,0,0,0,0,0,{"$f":"IF(AND(BH$14>=$O24,BH$14<$P24),1+$AA24,IF(AND(ROUND(BH$14,0)>=$O24,ROUND(BH$14,0)<=$P24,OR($F24=\"Start\",$F24=\"End\")),10,0))","v":0},0,0,0,0,0,0,0,0,0,{"$f":"IF(AND(BR$14>=$O24,BR$14<$P24),1+$AA24,IF(AND(ROUND(BR$14,0)>=$O24,ROUND(BR$14,0)<=$P24,OR($F24=\"Start\",$F24=\"End\")),10,0))","v":0},0,0,0,0,0,0,0,0,0,{"$f":"IF(AND(CB$14>=$O24,CB$14<$P24),1+$AA24,IF(AND(ROUND(CB$14,0)>=$O24,ROUND(CB$14,0)<=$P24,OR($F24=\"Start\",$F24=\"End\")),10,0))","v":0},0,0,0,0,0,0,0,0,0,0,0,0,0,0,0,0,0,0,0,0,0,0,0,0,0,0,0,0,0,0,0,0,0,0,0,0,0,0,0,0,0,0,0,0,0,0,0,0,0,0,null,""]
["Hindu Wedding (HW)-","Hindu Wedding (HW)----Talk to the Priest","Hindu Wedding (HW)",null,"Talk to the Priest","Finish to Start","Hindu Wedding (HW)----Project Start",1,"Jim, Vyshali, Vivek",null,{"$f":"IFERROR(_xlfn.SINGLE(IF($F25=\"End\",PlannedFinish($C25,$P$9,$P$10,$P$11,$P$12,ROW()),IF(F25=\"Start\",M25,#NAME?(F25,G25,VLOOKUP(G25,$B$20:$P$9999,COLUMN(O$19)-1,FALSE),VLOOKUP($G25,$B$20:$P$9999,COLUMN(P$19)-1,FALSE),H25))))+IF(AND($J25<0,$F25=\"Finish to Start\"),$J25,0)+IF($J25>0,$J25,0),\"\")","v":""},{"$f":"IFERROR(IF(F25=\"End\",$O25,IF(F25=\"Start\",K25,PlannedStart(F25,G25,VLOOKUP(G25,$B$20:$P$9999,12,FALSE),VLOOKUP($G25,$B$20:$P$9999,13,FALSE),H25,O25))),$L$15)","v":""},"2021-12-10",null,"2021-12-10","",null,0,1,"2021-12-10",{"$f":"IF(F25=\"End\",MAX(IF($C$20:$C$9999=C25,$P$20:$P$9999)),\"\")","v":""},"2021-12-10","",null,null,"",0,null,null,0,0,0,0,0,0,0,0,0,0,0,0,0,0,0,0,0,0,0,0,0,0,0,0,0,0,0,0,0,0,0,0,0,0,0,0,0,0,0,0,0,0,0,0,0,0,0,0,0,0,0,0,0,0,0,0,0,0,0,0,0,0,0,0,0,0,0,0,0,0,0,0,0,0,0,0,0,0,0,0,0,0,0,0,0,0,0,0,0,0,0,0,0,0,0,0,0,0,0,0,0,null,""]
["Hindu Wedding (HW)-","Hindu Wedding (HW)----Select Hindu Wedding Date","Hindu Wedding (HW)",null,"Select Hindu Wedding Date","Finish to Start","Hindu Wedding (HW)----Talk to the Priest",2,"Jim, Vyshali, Vivek",null,{"$f":"IFERROR(_xlfn.SINGLE(IF($F26=\"End\",PlannedFinish($C26,$P$9,$P$10,$P$11,$P$12,ROW()),IF(F26=\"Start\",M26,#NAME?(F26,G26,VLOOKUP(G26,$B$20:$P$9999,COLUMN(O$19)-1,FALSE),VLOOKUP($G26,$B$20:$P$9999,COLUMN(P$19)-1,FALSE),H26))))+IF(AND($J26<0,$F26=\"Finish to Start\"),$J26,0)+IF($J26>0,$J26,0),\"\")","v":""},{"$f":"IFERROR(IF(F26=\"End\",$O26,IF(F26=\"Start\",K26,PlannedStart(F26,G26,VLOOKUP(G26,$B$20:$P$9999,12,FALSE),VLOOKUP($G26,$B$20:$P$9999,13,FALSE),H26,O26))),$L$15)","v":""},null,null,"","",null,0,0,"",{"$f":"IF(F26=\"End\",MAX(IF($C$20:$C$9999=C26,$P$20:$P$9999)),\"\")","v":""},"","",null,null,"",0,null,null,0,0,0,0,0,0,0,0,0,0,0,0,0,0,0,0,0,0,0,0,0,0,0,0,0,0,0,0,0,0,0,0,0,0,0,0,0,0,0,0,0,0,0,0,0,0,0,0,0,0,0,0,0,0,0,0,0,0,0,0,0,0,0,0,0,0,0,0,0,0,0,0,0,0,0,0,0,0,0,0,0,0,0,0,0,0,0,0,0,0,0,0,0,0,0,0,0,0,0,0,0,null,""]
["Hindu Wedding (HW)-","Hindu Wedding (HW)----Confirm venue for Hindu wedding","Hindu Wedding (HW)",null,"Confirm venue for Hindu wedding","Finish to Start","Hindu Wedding (HW)----Talk to the Priest",2,"Jim, Vyshali, Vivek",null,{"$f":"IFERROR(_xlfn.SINGLE(IF($F27=\"End\",PlannedFinish($C27,$P$9,$P$10,$P$11,$P$12,ROW()),IF(F27=\"Start\",M27,#NAME?(F27,G27,VLOOKUP(G27,$B$20:$P$9999,COLUMN(O$19)-1,FALSE),VLOOKUP($G27,$B$20:$P$9999,COLUMN(P$19)-1,FALSE),H27))))+IF(AND($J27<0,$F27=\"Finish to Start\"),$J27,0)+IF($J27>0,$J27,0),\"\")","v":""},{"$f":"IFERROR(IF(F27=\"End\",$O27,IF(F27=\"Start\",K27,PlannedStart(F27,G27,VLOOKUP(G27,$B$20:$P$9999,12,FALSE),VLOOKUP($G27,$B$20:$P$9999,13,FALSE),H27,O27))),$L$15)","v":""},null,null,"","",null,0,0,"",{"$f":"IF(F27=\"End\",MAX(IF($C$20:$C$9999=C27,$P$20:$P$9999)),\"\")","v":""},"","",null,null,"",0,null,null,0,0,0,0,0,0,0,0,0,0,0,0,0,0,0,0,0,0,0,0,0,0,0,0,0,0,0,0,0,0,0,0,0,0,0,0,0,0,0,0,0,0,0,0,0,0,0,0,0,0,0,0,0,0,0,0,0,0,0,0,0,0,0,0,0,0,0,0,0,0,0,0,0,0,0,0,0,0,0,0,0,0,0,0,0,0,0,0,0,0,0,0,0,0,0,0,0,0,0,0,0,null,""]
["Hindu Wedding (HW)-","Hindu Wedding (HW)----Research reception venues","Hindu Wedding (HW)",null,"Research reception venues","Finish to Start","Hindu Wedding (HW)----Talk to the Priest",2,"Jim, Vyshali, Vivek",null,{"$f":"IFERROR(_xlfn.SINGLE(IF($F28=\"End\",PlannedFinish($C28,$P$9,$P$10,$P$11,$P$12,ROW()),IF(F28=\"Start\",M28,#NAME?(F28,G28,VLOOKUP(G28,$B$20:$P$9999,COLUMN(O$19)-1,FALSE),VLOOKUP($G28,$B$20:$P$9999,COLUMN(P$19)-1,FALSE),H28))))+IF(AND($J28<0,$F28=\"Finish to Start\"),$J28,0)+IF($J28>0,$J28,0),\"\")","v":""},{"$f":"IFERROR(IF(F28=\"End\",$O28,IF(F28=\"Start\",K28,PlannedStart(F28,G28,VLOOKUP(G28,$B$20:$P$9999,12,FALSE),VLOOKUP($G28,$B$20:$P$9999,13,FALSE),H28,O28))),$L$15)","v":""},null,null,{"$f":"IF(M28>0,M28,K28)","v":""},{"$f":"IF(N28>0,N28,L28)","v":""},null,{"$f":"IFERROR(P28-O28,0)","v":0},0,{"$f":"IF(S28>0,O28,\"\")","v":""},{"$f":"IF(F28=\"End\",MAX(IF($C$20:$C$9999=C28,$P$20:$P$9999)),\"\")","v":""},"","",null,null,"",0,null,null,0,0,0,0,0,0,0,0,0,0,0,0,0,0,0,0,0,0,0,0,0,0,0,0,0,0,0,0,0,0,0,0,0,0,0,0,0,0,0,0,0,0,0,0,0,0,0,0,0,0,0,0,0,0,0,0,0,0,0,0,0,0,0,0,0,0,0,0,0,0,0,0,0,0,0,0,0,0,0,0,0,0,0,0,0,0,0,0,0,0,0,0,0,0,0,0,0,0,0,0,0,null,""]
["Hindu Wedding (HW)-","Hindu Wedding (HW)----Get invitee list from V family for HW","Hindu Wedding (HW)",null,"Get invitee list from V family for HW","Finish to Start","Hindu Wedding (HW)----Project Start",1,"Vyshali, Vivek, Mom B",null,{"$f":"IFERROR(_xlfn.SINGLE(IF($F29=\"End\",PlannedFinish($C29,$P$9,$P$10,$P$11,$P$12,ROW()),IF(F29=\"Start\",M29,#NAME?(F29,G29,VLOOKUP(G29,$B$20:$P$9999,COLUMN(O$19)-1,FALSE),VLOOKUP($G29,$B$20:$P$9999,COLUMN(P$19)-1,FALSE),H29))))+IF(AND($J29<0,$F29=\"Finish to Start\"),$J29,0)+IF($J29>0,$J29,0),\"\")","v":""},{"$f":"IFERROR(IF(F29=\"End\",$O29,IF(F29=\"Start\",K29,PlannedStart(F29,G29,VLOOKUP(G29,$B$20:$P$9999,12,FALSE),VLOOKUP($G29,$B$20:$P$9999,13,FALSE),H29,O29))),$L$15)","v":""},null,null,"","",null,0,0,"",{"$f":"IF(F29=\"End\",MAX(IF($C$20:$C$9999=C29,$P$20:$P$9999)),\"\")","v":""},"","",null,null,"",0,null,null,0,0,0,0,0,0,0,0,0,0,0,0,0,0,0,0,0,0,0,0,0,0,0,0,0,0,0,0,0,0,0,0,0,0,0,0,0,0,0,0,0,0,0,0,0,0,0,0,0,0,0,0,0,0,0,0,0,0,0,0,0,0,0,0,0,0,0,{"$f":"IF(AND(CS$14>=$O29,CS$14<$P29),1+$AA29,IF(AND(ROUND(CS$14,0)>=$O29,ROUND(CS$14,0)<=$P29,OR($F29=\"Start\",$F29=\"End\")),10,0))","v":0},0,0,0,0,0,0,0,0,0,{"$f":"IF(AND(DC$14>=$O29,DC$14<$P29),1+$AA29,IF(AND(ROUND(DC$14,0)>=$O29,ROUND(DC$14,0)<=$P29,OR($F29=\"Start\",$F29=\"End\")),10,0))","v":0},0,0,0,0,0,0,0,0,0,0,0,0,0,0,0,0,0,0,0,0,0,0,0,null,""]
["Hindu Wedding (HW)-","Hindu Wedding (HW)----Get invitee list from J family for HW","Hindu Wedding (HW)",null,"Get invitee list from J family for HW","Finish to Start","Hindu Wedding (HW)----Project Start",1,"Jim, Babs, Dad T",null,{"$f":"IFERROR(_xlfn.SINGLE(IF($F30=\"End\",PlannedFinish($C30,$P$9,$P$10,$P$11,$P$12,ROW()),IF(F30=\"Start\",M30,#NAME?(F30,G30,VLOOKUP(G30,$B$20:$P$9999,COLUMN(O$19)-1,FALSE),VLOOKUP($G30,$B$20:$P$9999,COLUMN(P$19)-1,FALSE),H30))))+IF(AND($J30<0,$F30=\"Finish to Start\"),$J30,0)+IF($J30>0,$J30,0),\"\")","v":""},{"$f":"IFERROR(IF(F30=\"End\",$O30,IF(F30=\"Start\",K30,PlannedStart(F30,G30,VLOOKUP(G30,$B$20:$P$9999,12,FALSE),VLOOKUP($G30,$B$20:$P$9999,13,FALSE),H30,O30))),$L$15)","v":""},null,null,"","",null,0,0,"",{"$f":"IF(F30=\"End\",MAX(IF($C$20:$C$9999=C30,$P$20:$P$9999)),\"\")","v":""},"","",null,null,"",0,null,null,0,0,0,0,0,0,0,0,0,0,0,0,0,0,0,0,0,0,0,0,0,0,0,0,0,0,0,0,0,0,0,0,0,0,0,0,0,0,0,0,0,0,0,0,0,0,0,0,0,0,0,0,0,0,0,0,0,0,0,0,0,0,0,0,{"$f":"IF(AND(CP$14>=$O30,CP$14<$P30),1+$AA30,IF(AND(ROUND(CP$14,0)>=$O30,ROUND(CP$14,0)<=$P30,OR($F30=\"Start\",$F30=\"End\")),10,0))","v":0},0,0,0,0,0,0,0,0,0,0,0,0,0,0,0,0,0,0,0,0,0,0,0,0,0,0,0,0,0,0,0,0,0,0,0,0,null,""]
["Hindu Wedding (HW)-","Hindu Wedding (HW)----Finalize attendee lists","Hindu Wedding (HW)",null,"Finalize attendee lists","Finish to Start","Hindu Wedding (HW)----Project Start",1,"ALL",null,{"$f":"IFERROR(_xlfn.SINGLE(IF($F31=\"End\",PlannedFinish($C31,$P$9,$P$10,$P$11,$P$12,ROW()),IF(F31=\"Start\",M31,#NAME?(F31,G31,VLOOKUP(G31,$B$20:$P$9999,COLUMN(O$19)-1,FALSE),VLOOKUP($G31,$B$20:$P$9999,COLUMN(P$19)-1,FALSE),H31))))+IF(AND($J31<0,$F31=\"Finish to Start\"),$J31,0)+IF($J31>0,$J31,0),\"\")","v":""},{"$f":"IFERROR(IF(F31=\"End\",$O31,IF(F31=\"Start\",K31,PlannedStart(F31,G31,VLOOKUP(G31,$B$20:$P$9999,12,FALSE),VLOOKUP($G31,$B$20:$P$9999,13,FALSE),H31,O31))),$L$15)","v":""},null,null,"","",null,0,0,"",{"$f":"IF(F31=\"End\",MAX(IF($C$20:$C$9999=C31,$P$20:$P$9999)),\"\")","v":""},"","",null,null,"",0,null,null,0,0,0,0,0,0,0,0,0,0,0,0,0,0,0,0,0,0,0,0,0,0,0,0,0,0,0,0,0,0,0,0,0,0,0,0,0,0,0,0,0,0,0,0,0,0,0,0,0,0,0,0,0,0,0,0,0,0,0,0,0,0,0,0,0,0,0,0,0,0,0,0,0,0,0,0,0,0,0,0,0,0,0,0,0,0,0,0,0,0,0,0,0,0,0,0,0,0,0,0,0,null,""]
["Hindu Wedding (HW)-","Hindu Wedding (HW)----Save the date notifications sent out","Hindu Wedding (HW)",null,"Save the date notifications sent out","Finish to Start","Hindu Wedding (HW)----Select Hindu Wedding Date",1,"Babs",null,{"$f":"IFERROR(_xlfn.SINGLE(IF($F32=\"End\",PlannedFinish($C32,$P$9,$P$10,$P$11,$P$12,ROW()),IF(F32=\"Start\",M32,#NAME?(F32,G32,VLOOKUP(G32,$B$20:$P$9999,COLUMN(O$19)-1,FALSE),VLOOKUP($G32,$B$20:$P$9999,COLUMN(P$19)-1,FALSE),H32))))+IF(AND($J32<0,$F32=\"Finish to Start\"),$J32,0)+IF($J32>0,$J32,0),\"\")","v":""},{"$f":"IFERROR(IF(F32=\"End\",$O32,IF(F32=\"Start\",K32,PlannedStart(F32,G32,VLOOKUP(G32,$B$20:$P$9999,12,FALSE),VLOOKUP($G32,$B$20:$P$9999,13,FALSE),H32,O32))),$L$15)","v":""},null,null,"","",null,0,0,"",{"$f":"IF(F32=\"End\",MAX(IF($C$20:$C$9999=C32,$P$20:$P$9999)),\"\")","v":""},"","",null,null,"",0,null,null,0,0,0,0,0,0,0,0,0,0,0,0,0,0,0,0,0,0,0,0,0,0,0,0,0,0,0,0,0,0,0,0,0,0,0,0,0,0,0,0,0,0,0,0,0,0,0,0,0,0,0,0,0,0,0,0,0,0,0,0,0,0,0,0,0,0,0,0,0,0,0,0,0,0,0,0,0,0,0,0,0,0,0,0,0,0,0,0,0,0,0,0,0,0,0,0,0,0,0,0,0,null,""]
["Hindu Wedding (HW)-","Hindu Wedding (HW)----HW clothes shopping","Hindu Wedding (HW)",null,"HW clothes shopping","Finish to Start","Hindu Wedding (HW)----Project Start",30,"Jim, Vyshali, Vivek, Mom B",null,{"$f":"IFERROR(_xlfn.SINGLE(IF($F33=\"End\",PlannedFinish($C33,$P$9,$P$10,$P$11,$P$12,ROW()),IF(F33=\"Start\",M33,#NAME?(F33,G33,VLOOKUP(G33,$B$20:$P$9999,COLUMN(O$19)-1,FALSE),VLOOKUP($G33,$B$20:$P$9999,COLUMN(P$19)-1,FALSE),H33))))+IF(AND($J33<0,$F33=\"Finish to Start\"),$J33,0)+IF($J33>0,$J33,0),\"\")","v":""},{"$f":"IFERROR(IF(F33=\"End\",$O33,IF(F33=\"Start\",K33,PlannedStart(F33,G33,VLOOKUP(G33,$B$20:$P$9999,12,FALSE),VLOOKUP($G33,$B$20:$P$9999,13,FALSE),H33,O33))),$L$15)","v":""},null,null,"","",null,0,0,"",{"$f":"IF(F33=\"End\",MAX(IF($C$20:$C$9999=C33,$P$20:$P$9999)),\"\")","v":""},"","",null,null,"",0,null,null,0,0,0,0,0,0,0,0,0,0,0,0,0,0,0,0,0,0,0,0,0,0,0,0,0,0,0,0,0,0,0,0,0,0,0,0,0,0,0,0,0,0,0,0,0,0,0,0,0,0,0,0,0,0,0,0,0,0,0,0,0,0,0,0,0,0,0,0,0,0,0,0,0,0,0,0,0,0,0,0,0,0,0,0,0,0,0,0,0,0,0,0,0,0,0,0,0,0,0,0,0,null,""]
["Hindu Wedding (HW)-","Hindu Wedding (HW)----HW jewelry plan","Hindu Wedding (HW)",null,"HW jewelry plan","Finish to Start","Hindu Wedding (HW)----Project Start",10,"Vyshali, Vivek, Mom B",null,{"$f":"IFERROR(_xlfn.SINGLE(IF($F34=\"End\",PlannedFinish($C34,$P$9,$P$10,$P$11,$P$12,ROW()),IF(F34=\"Start\",M34,#NAME?(F34,G34,VLOOKUP(G34,$B$20:$P$9999,COLUMN(O$19)-1,FALSE),VLOOKUP($G34,$B$20:$P$9999,COLUMN(P$19)-1,FALSE),H34))))+IF(AND($J34<0,$F34=\"Finish to Start\"),$J34,0)+IF($J34>0,$J34,0),\"\")","v":""},{"$f":"IFERROR(IF(F34=\"End\",$O34,IF(F34=\"Start\",K34,PlannedStart(F34,G34,VLOOKUP(G34,$B$20:$P$9999,12,FALSE),VLOOKUP($G34,$B$20:$P$9999,13,FALSE),H34,O34))),$L$15)","v":""},null,null,"","",null,0,0,"",{"$f":"IF(F34=\"End\",MAX(IF($C$20:$C$9999=C34,$P$20:$P$9999)),\"\")","v":""},"","",null,null,"",0,null,null,{"$f":"IF(AND(AD$14>=$O34,AD$14<$P34),1+$AA34,IF(AND(ROUND(AD$14,0)>=$O34,ROUND(AD$14,0)<=$P34,OR($F34=\"Start\",$F34=\"End\")),10,0))","v":0},0,0,0,0,0,0,0,0,0,{"$f":"IF(AND(AN$14>=$O34,AN$14<$P34),1+$AA34,IF(AND(ROUND(AN$14,0)>=$O34,ROUND(AN$14,0)<=$P34,OR($F34=\"Start\",$F34=\"End\")),10,0))","v":0},0,0,0,0,0,0,0,0,0,{"$f":"IF(AND(AX$14>=$O34,AX$14<$P34),1+$AA34,IF(AND(ROUND(AX$14,0)>=$O34,ROUND(AX$14,0)<=$P34,OR($F34=\"Start\",$F34=\"End\")),10,0))","v":0},0,0,0,0,0,0,0,0,0,{"$f":"IF(AND(BH$14>=$O34,BH$14<$P34),1+$AA34,IF(AND(ROUND(BH$14,0)>=$O34,ROUND(BH$14,0)<=$P34,OR($F34=\"Start\",$F34=\"End\")),10,0))","v":0},0,0,0,0,0,0,0,0,0,{"$f":"IF(AND(BR$14>=$O34,BR$14<$P34),1+$AA34,IF(AND(ROUND(BR$14,0)>=$O34,ROUND(BR$14,0)<=$P34,OR($F34=\"Start\",$F34=\"End\")),10,0))","v":0},0,0,0,0,0,0,0,0,0,{"$f":"IF(AND(CB$14>=$O34,CB$14<$P34),1+$AA34,IF(AND(ROUND(CB$14,0)>=$O34,ROUND(CB$14,0)<=$P34,OR($F34=\"Start\",$F34=\"End\")),10,0))","v":0},0,0,0,0,0,0,0,0,0,0,0,0,0,0,0,0,0,0,0,0,0,0,0,0,0,0,0,0,0,0,0,0,0,0,0,0,0,0,0,0,0,0,0,0,0,0,0,0,0,0,null,""]
["Hindu Wedding (HW)-","Hindu Wedding (HW)----Finalize V plan for mixing Ind/US elements in wedding","Hindu Wedding (HW)",null,"Finalize V plan for mixing Ind/US elements in wedding","Finish to Start","Hindu Wedding (HW)----Project Start",2,"Jim, Vyshali, Vivek, Mom B",null,{"$f":"IFERROR(_xlfn.SINGLE(IF($F35=\"End\",PlannedFinish($C35,$P$9,$P$10,$P$11,$P$12,ROW()),IF(F35=\"Start\",M35,#NAME?(F35,G35,VLOOKUP(G35,$B$20:$P$9999,COLUMN(O$19)-1,FALSE),VLOOKUP($G35,$B$20:$P$9999,COLUMN(P$19)-1,FALSE),H35))))+IF(AND($J35<0,$F35=\"Finish to Start\"),$J35,0)+IF($J35>0,$J35,0),\"\")","v":""},{"$f":"IFERROR(IF(F35=\"End\",$O35,IF(F35=\"Start\",K35,PlannedStart(F35,G35,VLOOKUP(G35,$B$20:$P$9999,12,FALSE),VLOOKUP($G35,$B$20:$P$9999,13,FALSE),H35,O35))),$L$15)","v":""},null,null,"","",null,0,0,"",{"$f":"IF(F35=\"End\",MAX(IF($C$20:$C$9999=C35,$P$20:$P$9999)),\"\")","v":""},"","",null,null,"",0,null,null,0,0,0,0,0,0,0,0,0,0,0,0,0,0,0,0,0,0,0,0,0,0,0,0,0,0,0,0,0,0,0,0,0,0,0,0,0,0,0,0,0,0,0,0,0,0,0,0,0,0,0,0,0,0,0,0,0,0,0,0,0,0,0,0,0,0,0,0,0,0,0,0,0,0,0,0,0,0,0,0,0,0,0,0,0,0,0,0,0,0,0,0,0,0,0,0,0,0,0,0,0,null,""]
["Hindu Wedding (HW)-","Hindu Wedding (HW)----Finalize J plan for mixing Ind/US elements in wedding","Hindu Wedding (HW)",null,"Finalize J plan for mixing Ind/US elements in wedding","Finish to Start","Hindu Wedding (HW)----Project Start",1,"Jim, Vyshali, Vivek, Mom B",null,{"$f":"IFERROR(_xlfn.SINGLE(IF($F36=\"End\",PlannedFinish($C36,$P$9,$P$10,$P$11,$P$12,ROW()),IF(F36=\"Start\",M36,#NAME?(F36,G36,VLOOKUP(G36,$B$20:$P$9999,COLUMN(O$19)-1,FALSE),VLOOKUP($G36,$B$20:$P$9999,COLUMN(P$19)-1,FALSE),H36))))+IF(AND($J36<0,$F36=\"Finish to Start\"),$J36,0)+IF($J36>0,$J36,0),\"\")","v":""},{"$f":"IFERROR(IF(F36=\"End\",$O36,IF(F36=\"Start\",K36,PlannedStart(F36,G36,VLOOKUP(G36,$B$20:$P$9999,12,FALSE),VLOOKUP($G36,$B$20:$P$9999,13,FALSE),H36,O36))),$L$15)","v":""},"2021-10-30","2021-10-31","2021-10-30","2021-10-31",null,1,0,"",{"$f":"IF(F36=\"End\",MAX(IF($C$20:$C$9999=C36,$P$20:$P$9999)),\"\")","v":""},"2021-10-30","2021-10-31",null,null,"",0,null,null,0,0,0,0,0,0,0,0,0,0,0,0,0,0,0,0,0,0,0,0,0,0,0,0,0,0,0,0,0,0,0,0,0,0,0,0,0,0,0,0,0,0,0,0,0,0,0,0,0,0,0,0,0,0,0,0,0,0,0,0,0,0,0,0,0,0,0,0,0,0,0,0,0,0,0,0,0,0,0,0,0,0,0,0,0,0,0,0,0,0,0,0,0,0,0,0,0,0,0,0,0,null,""]
["Hindu Wedding (HW)-","Hindu Wedding (HW)----Provide invitation details to Mom Talley","Hindu Wedding (HW)",null,"Provide invitation details to Mom Talley","Finish to Start","Hindu Wedding (HW)----Confirm venue for Hindu wedding",1,"Jim, Vyshali",null,{"$f":"IFERROR(_xlfn.SINGLE(IF($F37=\"End\",PlannedFinish($C37,$P$9,$P$10,$P$11,$P$12,ROW()),IF(F37=\"Start\",M37,#NAME?(F37,G37,VLOOKUP(G37,$B$20:$P$9999,COLUMN(O$19)-1,FALSE),VLOOKUP($G37,$B$20:$P$9999,COLUMN(P$19)-1,FALSE),H37))))+IF(AND($J37<0,$F37=\"Finish to Start\"),$J37,0)+IF($J37>0,$J37,0),\"\")","v":""},{"$f":"IFERROR(IF(F37=\"End\",$O37,IF(F37=\"Start\",K37,PlannedStart(F37,G37,VLOOKUP(G37,$B$20:$P$9999,12,FALSE),VLOOKUP($G37,$B$20:$P$9999,13,FALSE),H37,O37))),$L$15)","v":""},null,null,"","",null,0,0,"",{"$f":"IF(F37=\"End\",MAX(IF($C$20:$C$9999=C37,$P$20:$P$9999)),\"\")","v":""},"","",null,null,"",0,null,null,0,0,0,0,0,0,0,0,0,0,0,0,0,0,0,0,0,0,0,0,0,0,0,0,0,0,0,0,0,0,0,0,0,0,0,0,0,0,0,0,0,0,0,0,0,0,0,0,0,0,0,0,0,0,0,0,0,0,0,0,0,0,0,0,0,0,0,0,0,0,0,0,0,0,0,0,0,0,0,0,0,0,0,0,0,0,0,0,0,0,0,0,0,0,0,0,0,0,0,0,0,null,""]
["Hindu Wedding (HW)-","Hindu Wedding (HW)----Design invitation","Hindu Wedding (HW)",null,"Design invitation","Start to Start","Hindu Wedding (HW)----Project Start",10,"Babs",null,{"$f":"IFERROR(_xlfn.SINGLE(IF($F38=\"End\",PlannedFinish($C38,$P$9,$P$10,$P$11,$P$12,ROW()),IF(F38=\"Start\",M38,#NAME?(F38,G38,VLOOKUP(G38,$B$20:$P$9999,COLUMN(O$19)-1,FALSE),VLOOKUP($G38,$B$20:$P$9999,COLUMN(P$19)-1,FALSE),H38))))+IF(AND($J38<0,$F38=\"Finish to Start\"),$J38,0)+IF($J38>0,$J38,0),\"\")","v":""},{"$f":"IFERROR(IF(F38=\"End\",$O38,IF(F38=\"Start\",K38,PlannedStart(F38,G38,VLOOKUP(G38,$B$20:$P$9999,12,FALSE),VLOOKUP($G38,$B$20:$P$9999,13,FALSE),H38,O38))),$L$15)","v":""},null,null,"","",null,0,0,"",{"$f":"IF(F38=\"End\",MAX(IF($C$20:$C$9999=C38,$P$20:$P$9999)),\"\")","v":""},"","","2021-11-21","2021-12-01",{"$error":"#VALUE!"},{"$error":"#VALUE!"},null,null,0,0,0,0,0,0,0,0,0,0,0,0,0,0,0,0,0,0,0,0,0,0,0,0,0,0,0,0,0,0,0,0,0,0,0,0,0,0,0,0,0,0,0,0,0,0,0,0,0,0,0,0,0,0,0,0,0,0,0,0,0,0,0,0,0,0,0,0,0,0,0,0,0,0,0,0,0,0,0,0,0,0,0,0,0,0,0,0,0,0,0,0,0,0,0,0,0,0,0,0,0,null,""]
["Hindu Wedding (HW)-","Hindu Wedding (HW)----Email/mail invitation","Hindu Wedding (HW)",null,"Email/mail invitation","Finish to Start","Hindu Wedding (HW)----Design invitation",1,"Babs",null,{"$f":"IFERROR(_xlfn.SINGLE(IF($F39=\"End\",PlannedFinish($C39,$P$9,$P$10,$P$11,$P$12,ROW()),IF(F39=\"Start\",M39,#NAME?(F39,G39,VLOOKUP(G39,$B$20:$P$9999,COLUMN(O$19)-1,FALSE),VLOOKUP($G39,$B$20:$P$9999,COLUMN(P$19)-1,FALSE),H39))))+IF(AND($J39<0,$F39=\"Finish to Start\"),$J39,0)+IF($J39>0,$J39,0),\"\")","v":""},{"$f":"IFERROR(IF(F39=\"End\",$O39,IF(F39=\"Start\",K39,PlannedStart(F39,G39,VLOOKUP(G39,$B$20:$P$9999,12,FALSE),VLOOKUP($G39,$B$20:$P$9999,13,FALSE),H39,O39))),$L$15)","v":""},null,null,"","",null,0,0,"",{"$f":"IF(F39=\"End\",MAX(IF($C$20:$C$9999=C39,$P$20:$P$9999)),\"\")","v":""},"","","2021-12-01","2021-12-02",{"$error":"#VALUE!"},{"$error":"#VALUE!"},null,null,0,0,0,0,0,0,0,0,0,0,0,0,0,0,0,0,0,0,0,0,0,0,0,0,0,0,0,0,0,0,0,0,0,0,0,0,0,0,0,0,0,0,0,0,0,0,0,0,0,0,0,0,0,0,0,0,0,0,0,0,0,0,0,0,0,0,0,{"$f":"IF(AND(CS$14>=$O39,CS$14<$P39),1+$AA39,IF(AND(ROUND(CS$14,0)>=$O39,ROUND(CS$14,0)<=$P39,OR($F39=\"Start\",$F39=\"End\")),10,0))","v":0},0,0,0,0,0,0,0,0,0,{"$f":"IF(AND(DC$14>=$O39,DC$14<$P39),1+$AA39,IF(AND(ROUND(DC$14,0)>=$O39,ROUND(DC$14,0)<=$P39,OR($F39=\"Start\",$F39=\"End\")),10,0))","v":0},0,0,0,0,0,0,0,0,0,0,0,0,0,0,0,0,0,0,0,0,0,0,0,null,""]
["Hindu Wedding (HW)-","Hindu Wedding (HW)----Collect RSVPs","Hindu Wedding (HW)",null,"Collect RSVPs","Finish to Start","Hindu Wedding (HW)----Email/mail invitation",90,"Babs",null,{"$f":"IFERROR(_xlfn.SINGLE(IF($F40=\"End\",PlannedFinish($C40,$P$9,$P$10,$P$11,$P$12,ROW()),IF(F40=\"Start\",M40,#NAME?(F40,G40,VLOOKUP(G40,$B$20:$P$9999,COLUMN(O$19)-1,FALSE),VLOOKUP($G40,$B$20:$P$9999,COLUMN(P$19)-1,FALSE),H40))))+IF(AND($J40<0,$F40=\"Finish to Start\"),$J40,0)+IF($J40>0,$J40,0),\"\")","v":""},{"$f":"IFERROR(IF(F40=\"End\",$O40,IF(F40=\"Start\",K40,PlannedStart(F40,G40,VLOOKUP(G40,$B$20:$P$9999,12,FALSE),VLOOKUP($G40,$B$20:$P$9999,13,FALSE),H40,O40))),$L$15)","v":""},null,null,"","",null,0,0,"",{"$f":"IF(F40=\"End\",MAX(IF($C$20:$C$9999=C40,$P$20:$P$9999)),\"\")","v":""},"","","2021-12-02","2022-03-02",{"$error":"#VALUE!"},{"$error":"#VALUE!"},null,null,0,0,0,0,0,0,0,0,0,0,0,0,0,0,0,0,0,0,0,0,0,0,0,0,0,0,0,0,0,0,0,0,0,0,0,0,0,0,0,0,0,0,0,0,0,0,0,0,0,0,0,0,0,0,0,0,0,0,0,0,0,0,0,0,0,0,0,0,0,0,0,0,0,0,0,0,0,0,0,0,0,0,0,0,0,0,0,0,0,0,0,0,0,0,0,0,0,0,0,0,0,null,"","P"]
["Hindu Wedding (HW)-","Hindu Wedding (HW)----Flowers for HW","Hindu Wedding (HW)",null,"Flowers for HW","Finish to Start",null,null,"Vyshali, Vivek, Mom B",null,{"$f":"IFERROR(_xlfn.SINGLE(IF($F41=\"End\",PlannedFinish($C41,$P$9,$P$10,$P$11,$P$12,ROW()),IF(F41=\"Start\",M41,#NAME?(F41,G41,VLOOKUP(G41,$B$20:$P$9999,COLUMN(O$19)-1,FALSE),VLOOKUP($G41,$B$20:$P$9999,COLUMN(P$19)-1,FALSE),H41))))+IF(AND($J41<0,$F41=\"Finish to Start\"),$J41,0)+IF($J41>0,$J41,0),\"\")","v":""},{"$f":"IFERROR(IF(F41=\"End\",$O41,IF(F41=\"Start\",K41,PlannedStart(F41,G41,VLOOKUP(G41,$B$20:$P$9999,12,FALSE),VLOOKUP($G41,$B$20:$P$9999,13,FALSE),H41,O41))),$L$15)","v":""},null,null,"","",null,0,0,"",{"$f":"IF(F41=\"End\",MAX(IF($C$20:$C$9999=C41,$P$20:$P$9999)),\"\")","v":""},"","",null,null,"",0,null,null,0,0,0,0,0,0,0,0,0,0,0,0,0,0,0,0,0,0,0,0,0,0,0,0,0,0,0,0,0,0,0,0,0,0,0,0,0,0,0,0,0,0,0,0,0,0,0,0,0,0,0,0,0,0,0,0,0,0,0,0,0,0,0,0,0,0,0,0,0,0,0,0,0,0,0,0,0,0,0,0,0,0,0,0,0,0,0,0,0,0,0,0,0,0,0,0,0,0,0,0,0,null,""]
["Hindu Wedding (HW)-","Hindu Wedding (HW)----Obtain Zoom license/link","Hindu Wedding (HW)",null,"Obtain Zoom license/link","Finish to Start",null,null,null,null,{"$f":"IFERROR(_xlfn.SINGLE(IF($F42=\"End\",PlannedFinish($C42,$P$9,$P$10,$P$11,$P$12,ROW()),IF(F42=\"Start\",M42,#NAME?(F42,G42,VLOOKUP(G42,$B$20:$P$9999,COLUMN(O$19)-1,FALSE),VLOOKUP($G42,$B$20:$P$9999,COLUMN(P$19)-1,FALSE),H42))))+IF(AND($J42<0,$F42=\"Finish to Start\"),$J42,0)+IF($J42>0,$J42,0),\"\")","v":""},{"$f":"IFERROR(IF(F42=\"End\",$O42,IF(F42=\"Start\",K42,PlannedStart(F42,G42,VLOOKUP(G42,$B$20:$P$9999,12,FALSE),VLOOKUP($G42,$B$20:$P$9999,13,FALSE),H42,O42))),$L$15)","v":""},null,null,"","",null,0,0,"",{"$f":"IF(F42=\"End\",MAX(IF($C$20:$C$9999=C42,$P$20:$P$9999)),\"\")","v":""},"","",null,null,"",0,null,null,0,0,0,0,0,0,0,0,0,0,0,0,0,0,0,0,0,0,0,0,0,0,0,0,0,0,0,0,0,0,0,0,0,0,0,0,0,0,0,0,0,0,0,0,0,0,0,0,0,0,0,0,0,0,0,0,0,0,0,0,0,0,0,0,0,0,0,0,0,0,0,0,0,0,0,0,0,0,0,0,0,0,0,0,0,0,0,0,0,0,0,0,0,0,0,0,0,0,0,0,0,null,""]
["Hindu Wedding (HW)-","Hindu Wedding (HW)----Finalize photo/video logistics for HW","Hindu Wedding (HW)",null,"Finalize photo/video logistics for HW","Finish to Start",null,null,"Jim, Vyshali",null,{"$f":"IFERROR(_xlfn.SINGLE(IF($F43=\"End\",PlannedFinish($C43,$P$9,$P$10,$P$11,$P$12,ROW()),IF(F43=\"Start\",M43,#NAME?(F43,G43,VLOOKUP(G43,$B$20:$P$9999,COLUMN(O$19)-1,FALSE),VLOOKUP($G43,$B$20:$P$9999,COLUMN(P$19)-1,FALSE),H43))))+IF(AND($J43<0,$F43=\"Finish to Start\"),$J43,0)+IF($J43>0,$J43,0),\"\")","v":""},{"$f":"IFERROR(IF(F43=\"End\",$O43,IF(F43=\"Start\",K43,PlannedStart(F43,G43,VLOOKUP(G43,$B$20:$P$9999,12,FALSE),VLOOKUP($G43,$B$20:$P$9999,13,FALSE),H43,O43))),$L$15)","v":""},null,null,"","",null,0,0,"",{"$f":"IF(F43=\"End\",MAX(IF($C$20:$C$9999=C43,$P$20:$P$9999)),\"\")","v":""},"","",null,null,"",0,null,null,0,0,0,0,0,0,0,0,0,0,0,0,0,0,0,0,0,0,0,0,0,0,0,0,0,0,0,0,0,0,0,0,0,0,0,0,0,0,0,0,0,0,0,0,0,0,0,0,0,0,0,0,0,0,0,0,0,0,0,0,0,0,0,0,0,0,0,0,0,0,0,0,0,0,0,0,0,0,0,0,0,0,0,0,0,0,0,0,0,0,0,0,0,0,0,0,0,0,0,0,0,null,""]
["Hindu Wedding (HW)-","Hindu Wedding (HW)----","Hindu Wedding (HW)",null,null,"Finish to Start",null,null,null,null,{"$f":"IFERROR(_xlfn.SINGLE(IF($F44=\"End\",PlannedFinish($C44,$P$9,$P$10,$P$11,$P$12,ROW()),IF(F44=\"Start\",M44,#NAME?(F44,G44,VLOOKUP(G44,$B$20:$P$9999,COLUMN(O$19)-1,FALSE),VLOOKUP($G44,$B$20:$P$9999,COLUMN(P$19)-1,FALSE),H44))))+IF(AND($J44<0,$F44=\"Finish to Start\"),$J44,0)+IF($J44>0,$J44,0),\"\")","v":""},{"$f":"IFERROR(IF(F44=\"End\",$O44,IF(F44=\"Start\",K44,PlannedStart(F44,G44,VLOOKUP(G44,$B$20:$P$9999,12,FALSE),VLOOKUP($G44,$B$20:$P$9999,13,FALSE),H44,O44))),$L$15)","v":""},null,null,"","",null,0,0,"",{"$f":"IF(F44=\"End\",MAX(IF($C$20:$C$9999=C44,$P$20:$P$9999)),\"\")","v":""},"","",null,null,"",0,null,null,{"$f":"IF(AND(AD$14>=$O44,AD$14<$P44),1+$AA44,IF(AND(ROUND(AD$14,0)>=$O44,ROUND(AD$14,0)<=$P44,OR($F44=\"Start\",$F44=\"End\")),10,0))","v":0},0,0,0,0,0,0,0,0,0,{"$f":"IF(AND(AN$14>=$O44,AN$14<$P44),1+$AA44,IF(AND(ROUND(AN$14,0)>=$O44,ROUND(AN$14,0)<=$P44,OR($F44=\"Start\",$F44=\"End\")),10,0))","v":0},0,0,0,0,0,0,0,0,0,{"$f":"IF(AND(AX$14>=$O44,AX$14<$P44),1+$AA44,IF(AND(ROUND(AX$14,0)>=$O44,ROUND(AX$14,0)<=$P44,OR($F44=\"Start\",$F44=\"End\")),10,0))","v":0},0,0,0,0,0,0,0,0,0,{"$f":"IF(AND(BH$14>=$O44,BH$14<$P44),1+$AA44,IF(AND(ROUND(BH$14,0)>=$O44,ROUND(BH$14,0)<=$P44,OR($F44=\"Start\",$F44=\"End\")),10,0))","v":0},0,0,0,0,0,0,0,0,0,{"$f":"IF(AND(BR$14>=$O44,BR$14<$P44),1+$AA44,IF(AND(ROUND(BR$14,0)>=$O44,ROUND(BR$14,0)<=$P44,OR($F44=\"Start\",$F44=\"End\")),10,0))","v":0},0,0,0,0,0,0,0,0,0,{"$f":"IF(AND(CB$14>=$O44,CB$14<$P44),1+$AA44,IF(AND(ROUND(CB$14,0)>=$O44,ROUND(CB$14,0)<=$P44,OR($F44=\"Start\",$F44=\"End\")),10,0))","v":0},0,0,0,0,0,0,0,0,0,0,0,0,0,0,0,0,0,0,0,0,0,0,0,0,0,0,0,0,0,0,0,0,0,0,0,0,0,0,0,0,0,0,0,0,0,0,0,0,0,0,null,""]
["Hindu Wedding (HW)-","Hindu Wedding (HW)----","Hindu Wedding (HW)",null,null,"Finish to Start",null,null,null,null,{"$f":"IFERROR(_xlfn.SINGLE(IF($F45=\"End\",PlannedFinish($C45,$P$9,$P$10,$P$11,$P$12,ROW()),IF(F45=\"Start\",M45,#NAME?(F45,G45,VLOOKUP(G45,$B$20:$P$9999,COLUMN(O$19)-1,FALSE),VLOOKUP($G45,$B$20:$P$9999,COLUMN(P$19)-1,FALSE),H45))))+IF(AND($J45<0,$F45=\"Finish to Start\"),$J45,0)+IF($J45>0,$J45,0),\"\")","v":""},{"$f":"IFERROR(IF(F45=\"End\",$O45,IF(F45=\"Start\",K45,PlannedStart(F45,G45,VLOOKUP(G45,$B$20:$P$9999,12,FALSE),VLOOKUP($G45,$B$20:$P$9999,13,FALSE),H45,O45))),$L$15)","v":""},null,null,"","",null,0,{"$f":"IF(OR(AND($F45=\"End\",LEN($N45)=0),AND(M45>0,ISBLANK(N45)=TRUE)),1,0)","v":0},"",{"$f":"IF(F45=\"End\",MAX(IF($C$20:$C$9999=C45,$P$20:$P$9999)),\"\")","v":""},"","",null,null,"",0,null,null,0,0,0,0,0,0,0,0,0,0,0,0,0,0,0,0,0,0,0,0,0,0,0,0,0,0,0,0,0,0,0,0,0,0,0,0,0,0,0,0,0,0,0,0,0,0,0,0,0,0,0,0,0,0,0,0,0,0,0,0,0,0,0,0,0,0,0,0,0,0,0,0,0,0,0,0,0,0,0,0,0,0,0,0,0,0,0,0,0,0,0,0,0,0,0,0,0,0,0,0,0,null,""]
["Hindu Wedding (HW)-","Hindu Wedding (HW)----Finalize reception venue","Hindu Wedding (HW)",null,"Finalize reception venue","Finish to Start",null,null,"Jim, Vyshali",null,{"$f":"IFERROR(_xlfn.SINGLE(IF($F46=\"End\",PlannedFinish($C46,$P$9,$P$10,$P$11,$P$12,ROW()),IF(F46=\"Start\",M46,#NAME?(F46,G46,VLOOKUP(G46,$B$20:$P$9999,COLUMN(O$19)-1,FALSE),VLOOKUP($G46,$B$20:$P$9999,COLUMN(P$19)-1,FALSE),H46))))+IF(AND($J46<0,$F46=\"Finish to Start\"),$J46,0)+IF($J46>0,$J46,0),\"\")","v":""},{"$f":"IFERROR(IF(F46=\"End\",$O46,IF(F46=\"Start\",K46,PlannedStart(F46,G46,VLOOKUP(G46,$B$20:$P$9999,12,FALSE),VLOOKUP($G46,$B$20:$P$9999,13,FALSE),H46,O46))),$L$15)","v":""},null,null,"","",null,0,0,"",{"$f":"IF(F46=\"End\",MAX(IF($C$20:$C$9999=C46,$P$20:$P$9999)),\"\")","v":""},"","",null,null,"",0,null,null,0,0,0,0,0,0,0,0,0,0,0,0,0,0,0,0,0,0,0,0,0,0,0,0,0,0,0,0,0,0,0,0,0,0,0,0,0,0,0,0,0,0,0,0,0,0,0,0,0,0,0,0,0,0,0,0,0,0,0,0,0,0,0,0,0,0,0,0,0,0,0,0,0,0,0,0,0,0,0,0,0,0,0,0,0,0,0,0,0,0,0,0,0,0,0,0,0,0,0,0,0,null,""]
["Hindu Wedding (HW)-","Hindu Wedding (HW)----Create helper list and info package","Hindu Wedding (HW)",null,"Create helper list and info package","Finish to Start",null,null,"Jim, Vyshali, Vivek",null,{"$f":"IFERROR(_xlfn.SINGLE(IF($F47=\"End\",PlannedFinish($C47,$P$9,$P$10,$P$11,$P$12,ROW()),IF(F47=\"Start\",M47,#NAME?(F47,G47,VLOOKUP(G47,$B$20:$P$9999,COLUMN(O$19)-1,FALSE),VLOOKUP($G47,$B$20:$P$9999,COLUMN(P$19)-1,FALSE),H47))))+IF(AND($J47<0,$F47=\"Finish to Start\"),$J47,0)+IF($J47>0,$J47,0),\"\")","v":""},{"$f":"IFERROR(IF(F47=\"End\",$O47,IF(F47=\"Start\",K47,PlannedStart(F47,G47,VLOOKUP(G47,$B$20:$P$9999,12,FALSE),VLOOKUP($G47,$B$20:$P$9999,13,FALSE),H47,O47))),$L$15)","v":""},null,null,"","",null,0,0,"",{"$f":"IF(F47=\"End\",MAX(IF($C$20:$C$9999=C47,$P$20:$P$9999)),\"\")","v":""},"","",null,null,"",0,null,null,0,0,0,0,0,0,0,0,0,0,0,0,0,0,0,0,0,0,0,0,0,0,0,0,0,0,0,0,0,0,0,0,0,0,0,0,0,0,0,0,0,0,0,0,0,0,0,0,0,0,0,0,0,0,0,0,0,0,0,0,0,0,0,0,0,0,0,0,0,0,0,0,0,0,0,0,0,0,0,0,0,0,0,0,0,0,0,0,0,0,0,0,0,0,0,0,0,0,0,0,0,null,""]
["Hindu Wedding (HW)-","Hindu Wedding (HW)----Get list of rituals from Yogendra","Hindu Wedding (HW)",null,"Get list of rituals from Yogendra","Finish to Start",null,null,"Vyshali, Vivek",null,{"$f":"IFERROR(_xlfn.SINGLE(IF($F48=\"End\",PlannedFinish($C48,$P$9,$P$10,$P$11,$P$12,ROW()),IF(F48=\"Start\",M48,#NAME?(F48,G48,VLOOKUP(G48,$B$20:$P$9999,COLUMN(O$19)-1,FALSE),VLOOKUP($G48,$B$20:$P$9999,COLUMN(P$19)-1,FALSE),H48))))+IF(AND($J48<0,$F48=\"Finish to Start\"),$J48,0)+IF($J48>0,$J48,0),\"\")","v":""},{"$f":"IFERROR(IF(F48=\"End\",$O48,IF(F48=\"Start\",K48,PlannedStart(F48,G48,VLOOKUP(G48,$B$20:$P$9999,12,FALSE),VLOOKUP($G48,$B$20:$P$9999,13,FALSE),H48,O48))),$L$15)","v":""},null,null,"","",null,0,0,"",{"$f":"IF(F48=\"End\",MAX(IF($C$20:$C$9999=C48,$P$20:$P$9999)),\"\")","v":""},"","",null,null,"",0,null,null,0,0,0,0,0,0,0,0,0,0,0,0,0,0,0,0,0,0,0,0,0,0,0,0,0,0,0,0,0,0,0,0,0,0,0,0,0,0,0,0,0,0,0,0,0,0,0,0,0,0,0,0,0,0,0,0,0,0,0,0,0,0,0,0,0,0,0,0,0,0,0,0,0,0,0,0,0,0,0,0,0,0,0,0,0,0,0,0,0,0,0,0,0,0,0,0,0,0,0,0,0,null,""]
["Hindu Wedding (HW)-","Hindu Wedding (HW)----Start wedding shopping (auspicious date)","Hindu Wedding (HW)",null,"Start wedding shopping (auspicious date)","Finish to Start",null,null,"Vyshali, Vivek, Mom B",null,{"$f":"IFERROR(_xlfn.SINGLE(IF($F49=\"End\",PlannedFinish($C49,$P$9,$P$10,$P$11,$P$12,ROW()),IF(F49=\"Start\",M49,#NAME?(F49,G49,VLOOKUP(G49,$B$20:$P$9999,COLUMN(O$19)-1,FALSE),VLOOKUP($G49,$B$20:$P$9999,COLUMN(P$19)-1,FALSE),H49))))+IF(AND($J49<0,$F49=\"Finish to Start\"),$J49,0)+IF($J49>0,$J49,0),\"\")","v":""},{"$f":"IFERROR(IF(F49=\"End\",$O49,IF(F49=\"Start\",K49,PlannedStart(F49,G49,VLOOKUP(G49,$B$20:$P$9999,12,FALSE),VLOOKUP($G49,$B$20:$P$9999,13,FALSE),H49,O49))),$L$15)","v":""},null,null,"","",null,0,0,"",{"$f":"IF(F49=\"End\",MAX(IF($C$20:$C$9999=C49,$P$20:$P$9999)),\"\")","v":""},"","",null,null,"",0,null,null,0,0,0,0,0,0,0,0,0,0,0,0,0,0,0,0,0,0,0,0,0,0,0,0,0,0,0,0,0,0,0,0,0,0,0,0,0,0,0,0,0,0,0,0,0,0,0,0,0,0,0,0,0,0,0,0,0,0,0,0,0,0,0,0,0,0,0,{"$f":"IF(AND(CS$14>=$O49,CS$14<$P49),1+$AA49,IF(AND(ROUND(CS$14,0)>=$O49,ROUND(CS$14,0)<=$P49,OR($F49=\"Start\",$F49=\"End\")),10,0))","v":0},0,0,0,0,0,0,0,0,0,{"$f":"IF(AND(DC$14>=$O49,DC$14<$P49),1+$AA49,IF(AND(ROUND(DC$14,0)>=$O49,ROUND(DC$14,0)<=$P49,OR($F49=\"Start\",$F49=\"End\")),10,0))","v":0},0,0,0,0,0,0,0,0,0,0,0,0,0,0,0,0,0,0,0,0,0,0,0,null,""]
["Hindu Wedding (HW)-","Hindu Wedding (HW)----Finalize Indian menu","Hindu Wedding (HW)",null,"Finalize Indian menu","Finish to Start",null,null,"Vyshali, Vivek, Mom B",null,{"$f":"IFERROR(_xlfn.SINGLE(IF($F50=\"End\",PlannedFinish($C50,$P$9,$P$10,$P$11,$P$12,ROW()),IF(F50=\"Start\",M50,#NAME?(F50,G50,VLOOKUP(G50,$B$20:$P$9999,COLUMN(O$19)-1,FALSE),VLOOKUP($G50,$B$20:$P$9999,COLUMN(P$19)-1,FALSE),H50))))+IF(AND($J50<0,$F50=\"Finish to Start\"),$J50,0)+IF($J50>0,$J50,0),\"\")","v":""},{"$f":"IFERROR(IF(F50=\"End\",$O50,IF(F50=\"Start\",K50,PlannedStart(F50,G50,VLOOKUP(G50,$B$20:$P$9999,12,FALSE),VLOOKUP($G50,$B$20:$P$9999,13,FALSE),H50,O50))),$L$15)","v":""},null,null,"","",null,0,0,"",{"$f":"IF(F50=\"End\",MAX(IF($C$20:$C$9999=C50,$P$20:$P$9999)),\"\")","v":""},"","",null,null,"",0,null,null,0,0,0,0,0,0,0,0,0,0,0,0,0,0,0,0,0,0,0,0,0,0,0,0,0,0,0,0,0,0,0,0,0,0,0,0,0,0,0,0,0,0,0,0,0,0,0,0,0,0,0,0,0,0,0,0,0,0,0,0,0,0,0,0,{"$f":"IF(AND(CP$14>=$O50,CP$14<$P50),1+$AA50,IF(AND(ROUND(CP$14,0)>=$O50,ROUND(CP$14,0)<=$P50,OR($F50=\"Start\",$F50=\"End\")),10,0))","v":0},0,0,0,0,0,0,0,0,0,0,0,0,0,0,0,0,0,0,0,0,0,0,0,0,0,0,0,0,0,0,0,0,0,0,0,0,null,""]
["Hindu Wedding (HW)-","Hindu Wedding (HW)----Finalize American menu","Hindu Wedding (HW)",null,"Finalize American menu","Finish to Start",null,null,"Jim, Vyshali, Babs",null,{"$f":"IFERROR(_xlfn.SINGLE(IF($F51=\"End\",PlannedFinish($C51,$P$9,$P$10,$P$11,$P$12,ROW()),IF(F51=\"Start\",M51,#NAME?(F51,G51,VLOOKUP(G51,$B$20:$P$9999,COLUMN(O$19)-1,FALSE),VLOOKUP($G51,$B$20:$P$9999,COLUMN(P$19)-1,FALSE),H51))))+IF(AND($J51<0,$F51=\"Finish to Start\"),$J51,0)+IF($J51>0,$J51,0),\"\")","v":""},{"$f":"IFERROR(IF(F51=\"End\",$O51,IF(F51=\"Start\",K51,PlannedStart(F51,G51,VLOOKUP(G51,$B$20:$P$9999,12,FALSE),VLOOKUP($G51,$B$20:$P$9999,13,FALSE),H51,O51))),$L$15)","v":""},null,null,"","",null,0,0,"",{"$f":"IF(F51=\"End\",MAX(IF($C$20:$C$9999=C51,$P$20:$P$9999)),\"\")","v":""},"","",null,null,"",0,null,null,0,0,0,0,0,0,0,0,0,0,0,0,0,0,0,0,0,0,0,0,0,0,0,0,0,0,0,0,0,0,0,0,0,0,0,0,0,0,0,0,0,0,0,0,0,0,0,0,0,0,0,0,0,0,0,0,0,0,0,0,0,0,0,0,0,0,0,0,0,0,0,0,0,0,0,0,0,0,0,0,0,0,0,0,0,0,0,0,0,0,0,0,0,0,0,0,0,0,0,0,0,null,""]
["Hindu Wedding (HW)-","Hindu Wedding (HW)----Order Indian menu","Hindu Wedding (HW)",null,"Order Indian menu","Finish to Start",null,null,"Vyshali, Vivek",null,{"$f":"IFERROR(_xlfn.SINGLE(IF($F52=\"End\",PlannedFinish($C52,$P$9,$P$10,$P$11,$P$12,ROW()),IF(F52=\"Start\",M52,#NAME?(F52,G52,VLOOKUP(G52,$B$20:$P$9999,COLUMN(O$19)-1,FALSE),VLOOKUP($G52,$B$20:$P$9999,COLUMN(P$19)-1,FALSE),H52))))+IF(AND($J52<0,$F52=\"Finish to Start\"),$J52,0)+IF($J52>0,$J52,0),\"\")","v":""},{"$f":"IFERROR(IF(F52=\"End\",$O52,IF(F52=\"Start\",K52,PlannedStart(F52,G52,VLOOKUP(G52,$B$20:$P$9999,12,FALSE),VLOOKUP($G52,$B$20:$P$9999,13,FALSE),H52,O52))),$L$15)","v":""},null,null,"","",null,0,0,"",{"$f":"IF(F52=\"End\",MAX(IF($C$20:$C$9999=C52,$P$20:$P$9999)),\"\")","v":""},"","",null,null,"",0,null,null,0,0,0,0,0,0,0,0,0,0,0,0,0,0,0,0,0,0,0,0,0,0,0,0,0,0,0,0,0,0,0,0,0,0,0,0,0,0,0,0,0,0,0,0,0,0,0,0,0,0,0,0,0,0,0,0,0,0,0,0,0,0,0,0,0,0,0,0,0,0,0,0,0,0,0,0,0,0,0,0,0,0,0,0,0,0,0,0,0,0,0,0,0,0,0,0,0,0,0,0,0,null,""]
["Hindu Wedding (HW)-","Hindu Wedding (HW)----Order American menu","Hindu Wedding (HW)",null,"Order American menu","Finish to Start",null,null,"Jim, Babs",null,{"$f":"IFERROR(_xlfn.SINGLE(IF($F53=\"End\",PlannedFinish($C53,$P$9,$P$10,$P$11,$P$12,ROW()),IF(F53=\"Start\",M53,#NAME?(F53,G53,VLOOKUP(G53,$B$20:$P$9999,COLUMN(O$19)-1,FALSE),VLOOKUP($G53,$B$20:$P$9999,COLUMN(P$19)-1,FALSE),H53))))+IF(AND($J53<0,$F53=\"Finish to Start\"),$J53,0)+IF($J53>0,$J53,0),\"\")","v":""},{"$f":"IFERROR(IF(F53=\"End\",$O53,IF(F53=\"Start\",K53,PlannedStart(F53,G53,VLOOKUP(G53,$B$20:$P$9999,12,FALSE),VLOOKUP($G53,$B$20:$P$9999,13,FALSE),H53,O53))),$L$15)","v":""},null,null,"","",null,0,0,"",{"$f":"IF(F53=\"End\",MAX(IF($C$20:$C$9999=C53,$P$20:$P$9999)),\"\")","v":""},"","",null,null,"",0,null,null,0,0,0,0,0,0,0,0,0,0,0,0,0,0,0,0,0,0,0,0,0,0,0,0,0,0,0,0,0,0,0,0,0,0,0,0,0,0,0,0,0,0,0,0,0,0,0,0,0,0,0,0,0,0,0,0,0,0,0,0,0,0,0,0,0,0,0,0,0,0,0,0,0,0,0,0,0,0,0,0,0,0,0,0,0,0,0,0,0,0,0,0,{"$f":"IF(AND(DR$14>=$O53,DR$14<$P53),1+$AA53,IF(AND(ROUND(DR$14,0)>=$O53,ROUND(DR$14,0)<=$P53,OR($F53=\"Start\",$F53=\"End\")),10,0))","v":0},0,0,0,0,0,0,0,0,null,""]
["Hindu Wedding (HW)-","Hindu Wedding (HW)----Prenup - Jim's part","Hindu Wedding (HW)",null,"Prenup - Jim's part","Finish to Start",null,null,"Jim",null,{"$f":"IFERROR(_xlfn.SINGLE(IF($F54=\"End\",PlannedFinish($C54,$P$9,$P$10,$P$11,$P$12,ROW()),IF(F54=\"Start\",M54,#NAME?(F54,G54,VLOOKUP(G54,$B$20:$P$9999,COLUMN(O$19)-1,FALSE),VLOOKUP($G54,$B$20:$P$9999,COLUMN(P$19)-1,FALSE),H54))))+IF(AND($J54<0,$F54=\"Finish to Start\"),$J54,0)+IF($J54>0,$J54,0),\"\")","v":""},{"$f":"IFERROR(IF(F54=\"End\",$O54,IF(F54=\"Start\",K54,PlannedStart(F54,G54,VLOOKUP(G54,$B$20:$P$9999,12,FALSE),VLOOKUP($G54,$B$20:$P$9999,13,FALSE),H54,O54))),$L$15)","v":""},null,null,"","",null,0,0,"",{"$f":"IF(F54=\"End\",MAX(IF($C$20:$C$9999=C54,$P$20:$P$9999)),\"\")","v":""},"","",null,null,"",0,null,null,{"$f":"IF(AND(AD$14>=$O54,AD$14<$P54),1+$AA54,IF(AND(ROUND(AD$14,0)>=$O54,ROUND(AD$14,0)<=$P54,OR($F54=\"Start\",$F54=\"End\")),10,0))","v":0},0,0,0,0,0,0,0,0,0,{"$f":"IF(AND(AN$14>=$O54,AN$14<$P54),1+$AA54,IF(AND(ROUND(AN$14,0)>=$O54,ROUND(AN$14,0)<=$P54,OR($F54=\"Start\",$F54=\"End\")),10,0))","v":0},0,0,0,0,0,0,0,0,0,{"$f":"IF(AND(AX$14>=$O54,AX$14<$P54),1+$AA54,IF(AND(ROUND(AX$14,0)>=$O54,ROUND(AX$14,0)<=$P54,OR($F54=\"Start\",$F54=\"End\")),10,0))","v":0},0,0,0,0,0,0,0,0,0,{"$f":"IF(AND(BH$14>=$O54,BH$14<$P54),1+$AA54,IF(AND(ROUND(BH$14,0)>=$O54,ROUND(BH$14,0)<=$P54,OR($F54=\"Start\",$F54=\"End\")),10,0))","v":0},0,0,0,0,0,0,0,0,0,{"$f":"IF(AND(BR$14>=$O54,BR$14<$P54),1+$AA54,IF(AND(ROUND(BR$14,0)>=$O54,ROUND(BR$14,0)<=$P54,OR($F54=\"Start\",$F54=\"End\")),10,0))","v":0},0,0,0,0,0,0,0,0,0,{"$f":"IF(AND(CB$14>=$O54,CB$14<$P54),1+$AA54,IF(AND(ROUND(CB$14,0)>=$O54,ROUND(CB$14,0)<=$P54,OR($F54=\"Start\",$F54=\"End\")),10,0))","v":0},0,0,0,0,0,0,0,0,0,0,0,0,0,0,0,0,0,0,0,0,0,0,0,0,0,0,0,0,0,0,0,0,0,0,0,0,0,0,0,0,0,0,0,0,0,0,0,0,0,0,null,""]
["Hindu Wedding (HW)-","Hindu Wedding (HW)----Prenup - Vyshali's part","Hindu Wedding (HW)",null,"Prenup - Vyshali's part","Finish to Start",null,null,"Vyshali",null,{"$f":"IFERROR(_xlfn.SINGLE(IF($F55=\"End\",PlannedFinish($C55,$P$9,$P$10,$P$11,$P$12,ROW()),IF(F55=\"Start\",M55,#NAME?(F55,G55,VLOOKUP(G55,$B$20:$P$9999,COLUMN(O$19)-1,FALSE),VLOOKUP($G55,$B$20:$P$9999,COLUMN(P$19)-1,FALSE),H55))))+IF(AND($J55<0,$F55=\"Finish to Start\"),$J55,0)+IF($J55>0,$J55,0),\"\")","v":""},{"$f":"IFERROR(IF(F55=\"End\",$O55,IF(F55=\"Start\",K55,PlannedStart(F55,G55,VLOOKUP(G55,$B$20:$P$9999,12,FALSE),VLOOKUP($G55,$B$20:$P$9999,13,FALSE),H55,O55))),$L$15)","v":""},null,null,"","",null,0,0,"",{"$f":"IF(F55=\"End\",MAX(IF($C$20:$C$9999=C55,$P$20:$P$9999)),\"\")","v":""},"","",null,null,"",0,null,null,0,0,0,0,0,0,0,0,0,0,0,0,0,0,0,0,0,0,0,0,0,0,0,0,0,0,0,0,0,0,0,0,0,0,0,0,0,0,0,0,0,0,0,0,0,0,0,0,0,0,0,0,0,0,0,0,0,0,0,0,0,0,0,{"$f":"IF(AND(CO$14>=$O55,CO$14<$P55),1+$AA55,IF(AND(ROUND(CO$14,0)>=$O55,ROUND(CO$14,0)<=$P55,OR($F55=\"Start\",$F55=\"End\")),10,0))","v":0},0,0,0,0,0,0,0,0,0,0,0,0,0,0,0,0,0,0,0,0,0,0,0,0,0,0,0,0,0,0,0,0,0,0,0,0,0,null,""]
["Hindu Wedding (HW)-","Hindu Wedding (HW)----Mangalsutra","Hindu Wedding (HW)",null,"Mangalsutra","Finish to Start",null,null,null,null,{"$f":"IFERROR(_xlfn.SINGLE(IF($F56=\"End\",PlannedFinish($C56,$P$9,$P$10,$P$11,$P$12,ROW()),IF(F56=\"Start\",M56,#NAME?(F56,G56,VLOOKUP(G56,$B$20:$P$9999,COLUMN(O$19)-1,FALSE),VLOOKUP($G56,$B$20:$P$9999,COLUMN(P$19)-1,FALSE),H56))))+IF(AND($J56<0,$F56=\"Finish to Start\"),$J56,0)+IF($J56>0,$J56,0),\"\")","v":""},{"$f":"IFERROR(IF(F56=\"End\",$O56,IF(F56=\"Start\",K56,PlannedStart(F56,G56,VLOOKUP(G56,$B$20:$P$9999,12,FALSE),VLOOKUP($G56,$B$20:$P$9999,13,FALSE),H56,O56))),$L$15)","v":""},null,null,"","",null,0,0,"",{"$f":"IF(F56=\"End\",MAX(IF($C$20:$C$9999=C56,$P$20:$P$9999)),\"\")","v":""},"","",null,null,"",0,null,null,0,0,0,0,0,0,0,0,0,0,0,0,0,0,0,0,0,0,0,0,0,0,0,0,0,0,0,0,0,0,0,0,0,0,0,0,0,0,0,0,0,0,0,0,0,0,0,0,0,0,0,0,0,0,0,0,0,0,0,0,0,0,0,0,0,0,0,0,0,0,0,0,0,0,0,0,0,0,0,0,0,0,0,0,0,0,0,0,0,0,0,0,0,0,0,0,0,0,0,0,0,null,""]
["Hindu Wedding (HW)-","Hindu Wedding (HW)----Wedding","Hindu Wedding (HW)",null,"Wedding","End",null,null,null,null,{"$f":"IFERROR(_xlfn.SINGLE(IF($F57=\"End\",PlannedFinish($C57,$P$9,$P$10,$P$11,$P$12,ROW()),IF(F57=\"Start\",M57,#NAME?(F57,G57,VLOOKUP(G57,$B$20:$P$9999,COLUMN(O$19)-1,FALSE),VLOOKUP($G57,$B$20:$P$9999,COLUMN(P$19)-1,FALSE),H57))))+IF(AND($J57<0,$F57=\"Finish to Start\"),$J57,0)+IF($J57>0,$J57,0),\"\")","v":"00:00:00"},{"$f":"IFERROR(IF(F57=\"End\",$O57,IF(F57=\"Start\",K57,PlannedStart(F57,G57,VLOOKUP(G57,$B$20:$P$9999,12,FALSE),VLOOKUP($G57,$B$20:$P$9999,13,FALSE),H57,O57))),$L$15)","v":"00:00:00"},null,null,"00:00:00","00:00:00",null,0,1,"00:00:00",{"$f":"IF(F57=\"End\",MAX(IF($C$20:$C$9999=C57,$P$20:$P$9999)),\"\")","v":"2021-11-21"},"00:00:00","00:00:00","2022-03-02","2022-03-02",0,2,null,null,10,0,0,0,0,0,0,0,0,0,0,0,0,0,0,0,0,0,0,0,0,0,0,0,0,0,0,0,0,0,0,0,0,0,0,0,0,0,0,0,0,0,0,0,0,0,0,0,0,0,0,0,0,0,0,0,0,0,0,0,0,0,0,0,0,0,0,0,0,0,0,0,0,0,0,0,0,0,0,0,0,0,0,0,0,0,0,0,0,0,0,0,0,0,0,0,0,0,0,0,0,null,""]
["","",null,null,null,null,null,null,null,null,{"$f":"IFERROR(_xlfn.SINGLE(IF($F58=\"End\",PlannedFinish($C58,$P$9,$P$10,$P$11,$P$12,ROW()),IF(F58=\"Start\",M58,#NAME?(F58,G58,VLOOKUP(G58,$B$20:$P$9999,COLUMN(O$19)-1,FALSE),VLOOKUP($G58,$B$20:$P$9999,COLUMN(P$19)-1,FALSE),H58))))+IF(AND($J58<0,$F58=\"Finish to Start\"),$J58,0)+IF($J58>0,$J58,0),\"\")","v":""},{"$f":"IFERROR(IF(F58=\"End\",$O58,IF(F58=\"Start\",K58,PlannedStart(F58,G58,VLOOKUP(G58,$B$20:$P$9999,12,FALSE),VLOOKUP($G58,$B$20:$P$9999,13,FALSE),H58,O58))),$L$15)","v":""},null,null,"","",null,0,0,"",{"$f":"IF(F58=\"End\",MAX(IF($C$20:$C$9999=C58,$P$20:$P$9999)),\"\")","v":""},"","",null,null,"",0,null,null,0,0,0,0,0,0,0,0,0,0,0,0,0,0,0,0,0,0,0,0,0,0,0,0,0,0,0,0,0,0,0,0,0,0,0,0,0,0,0,0,0,0,0,0,0,0,0,0,0,0,0,0,0,0,0,0,0,0,0,0,0,0,0,0,0,0,0,0,0,0,0,0,0,0,0,0,0,0,0,0,0,0,0,0,0,0,0,0,0,0,0,0,0,0,0,0,0,0,0,0,0,null,""]
["Civil Wedding (CW)-","Civil Wedding (CW)----Start","Civil Wedding (CW)",null,"Start","Start to Start","Hindu Wedding (HW)----Project Start",0,null,null,{"$f":"IFERROR(_xlfn.SINGLE(IF($F59=\"End\",PlannedFinish($C59,$P$9,$P$10,$P$11,$P$12,ROW()),IF(F59=\"Start\",M59,#NAME?(F59,G59,VLOOKUP(G59,$B$20:$P$9999,COLUMN(O$19)-1,FALSE),VLOOKUP($G59,$B$20:$P$9999,COLUMN(P$19)-1,FALSE),H59))))+IF(AND($J59<0,$F59=\"Finish to Start\"),$J59,0)+IF($J59>0,$J59,0),\"\")","v":""},{"$f":"IFERROR(IF(F59=\"End\",$O59,IF(F59=\"Start\",K59,PlannedStart(F59,G59,VLOOKUP(G59,$B$20:$P$9999,12,FALSE),VLOOKUP($G59,$B$20:$P$9999,13,FALSE),H59,O59))),$L$15)","v":""},null,null,"","",null,0,0,"",{"$f":"IF(F59=\"End\",MAX(IF($C$20:$C$9999=C59,$P$20:$P$9999)),\"\")","v":""},"","",null,null,"",0,null,null,0,0,0,0,0,0,0,0,0,0,0,0,0,0,0,0,0,0,0,0,0,0,0,0,0,0,0,0,0,0,0,0,0,0,0,0,0,0,0,0,0,0,0,0,0,0,0,0,0,0,0,0,0,0,0,0,0,0,0,0,0,0,0,0,0,0,0,{"$f":"IF(AND(CS$14>=$O59,CS$14<$P59),1+$AA59,IF(AND(ROUND(CS$14,0)>=$O59,ROUND(CS$14,0)<=$P59,OR($F59=\"Start\",$F59=\"End\")),10,0))","v":0},0,0,0,0,0,0,0,0,0,{"$f":"IF(AND(DC$14>=$O59,DC$14<$P59),1+$AA59,IF(AND(ROUND(DC$14,0)>=$O59,ROUND(DC$14,0)<=$P59,OR($F59=\"Start\",$F59=\"End\")),10,0))","v":0},0,0,0,0,0,0,0,0,0,0,0,0,0,0,0,0,0,0,0,0,0,0,0,null,""]
["","",null,null,null,null,null,null,null,null,{"$f":"IFERROR(_xlfn.SINGLE(IF($F60=\"End\",PlannedFinish($C60,$P$9,$P$10,$P$11,$P$12,ROW()),IF(F60=\"Start\",M60,#NAME?(F60,G60,VLOOKUP(G60,$B$20:$P$9999,COLUMN(O$19)-1,FALSE),VLOOKUP($G60,$B$20:$P$9999,COLUMN(P$19)-1,FALSE),H60))))+IF(AND($J60<0,$F60=\"Finish to Start\"),$J60,0)+IF($J60>0,$J60,0),\"\")","v":""},{"$f":"IFERROR(IF(F60=\"End\",$O60,IF(F60=\"Start\",K60,PlannedStart(F60,G60,VLOOKUP(G60,$B$20:$P$9999,12,FALSE),VLOOKUP($G60,$B$20:$P$9999,13,FALSE),H60,O60))),$L$15)","v":""},null,null,"","",null,0,0,"",{"$f":"IF(F60=\"End\",MAX(IF($C$20:$C$9999=C60,$P$20:$P$9999)),\"\")","v":""},"","",null,null,"",0,null,null,0,0,0,0,0,0,0,0,0,0,0,0,0,0,0,0,0,0,0,0,0,0,0,0,0,0,0,0,0,0,0,0,0,0,0,0,0,0,0,0,0,0,0,0,0,0,0,0,0,0,0,0,0,0,0,0,0,0,0,0,0,0,0,0,0,0,0,0,0,0,0,0,0,0,0,0,0,0,0,0,0,0,0,0,0,0,0,0,0,0,0,0,0,0,0,0,0,0,0,0,0,null,""]
["","",null,null,null,null,null,null,null,null,{"$f":"IFERROR(_xlfn.SINGLE(IF($F61=\"End\",PlannedFinish($C61,$P$9,$P$10,$P$11,$P$12,ROW()),IF(F61=\"Start\",M61,#NAME?(F61,G61,VLOOKUP(G61,$B$20:$P$9999,COLUMN(O$19)-1,FALSE),VLOOKUP($G61,$B$20:$P$9999,COLUMN(P$19)-1,FALSE),H61))))+IF(AND($J61<0,$F61=\"Finish to Start\"),$J61,0)+IF($J61>0,$J61,0),\"\")","v":""},{"$f":"IFERROR(IF(F61=\"End\",$O61,IF(F61=\"Start\",K61,PlannedStart(F61,G61,VLOOKUP(G61,$B$20:$P$9999,12,FALSE),VLOOKUP($G61,$B$20:$P$9999,13,FALSE),H61,O61))),$L$15)","v":""},null,null,{"$f":"IF(M61>0,M61,K61)","v":""},{"$f":"IF(N61>0,N61,L61)","v":""},null,{"$f":"IFERROR(P61-O61,0)","v":0},0,{"$f":"IF(S61>0,O61,\"\")","v":""},{"$f":"IF(F61=\"End\",MAX(IF($C$20:$C$9999=C61,$P$20:$P$9999)),\"\")","v":""},"","",null,null,"",0,null,null,0,0,0,0,0,0,0,0,0,0,0,0,0,0,0,0,0,0,0,0,0,0,0,0,0,0,0,0,0,0,0,0,0,0,0,0,0,0,0,0,0,0,0,0,0,0,0,0,0,0,0,0,0,0,0,0,0,0,0,0,0,0,0,0,0,0,0,0,0,0,0,0,0,0,0,0,0,0,0,0,0,0,0,0,0,0,0,0,0,0,0,0,0,0,0,0,0,0,0,0,0,null,""]
["","",null,null,null,null,null,null,null,null,{"$f":"IFERROR(_xlfn.SINGLE(IF($F62=\"End\",PlannedFinish($C62,$P$9,$P$10,$P$11,$P$12,ROW()),IF(F62=\"Start\",M62,#NAME?(F62,G62,VLOOKUP(G62,$B$20:$P$9999,COLUMN(O$19)-1,FALSE),VLOOKUP($G62,$B$20:$P$9999,COLUMN(P$19)-1,FALSE),H62))))+IF(AND($J62<0,$F62=\"Finish to Start\"),$J62,0)+IF($J62>0,$J62,0),\"\")","v":""},{"$f":"IFERROR(IF(F62=\"End\",$O62,IF(F62=\"Start\",K62,PlannedStart(F62,G62,VLOOKUP(G62,$B$20:$P$9999,12,FALSE),VLOOKUP($G62,$B$20:$P$9999,13,FALSE),H62,O62))),$L$15)","v":""},null,null,"","",null,0,0,"",{"$f":"IF(F62=\"End\",MAX(IF($C$20:$C$9999=C62,$P$20:$P$9999)),\"\")","v":""},"","",null,null,"",0,null,null,0,0,0,0,0,0,0,0,0,0,0,0,0,0,0,0,0,0,0,0,0,0,0,0,0,0,0,0,0,0,0,0,0,0,0,0,0,0,0,0,0,0,0,0,0,0,0,0,0,0,0,0,0,0,0,0,0,0,0,0,0,0,0,0,0,0,0,0,0,0,0,0,0,0,0,0,0,0,0,0,0,0,0,0,0,0,0,0,0,0,0,0,0,0,0,0,0,0,0,0,0,null,""]
["","",null,null,null,null,null,null,null,null,{"$f":"IFERROR(_xlfn.SINGLE(IF($F63=\"End\",PlannedFinish($C63,$P$9,$P$10,$P$11,$P$12,ROW()),IF(F63=\"Start\",M63,#NAME?(F63,G63,VLOOKUP(G63,$B$20:$P$9999,COLUMN(O$19)-1,FALSE),VLOOKUP($G63,$B$20:$P$9999,COLUMN(P$19)-1,FALSE),H63))))+IF(AND($J63<0,$F63=\"Finish to Start\"),$J63,0)+IF($J63>0,$J63,0),\"\")","v":""},{"$f":"IFERROR(IF(F63=\"End\",$O63,IF(F63=\"Start\",K63,PlannedStart(F63,G63,VLOOKUP(G63,$B$20:$P$9999,12,FALSE),VLOOKUP($G63,$B$20:$P$9999,13,FALSE),H63,O63))),$L$15)","v":""},null,null,"","",null,0,0,"",{"$f":"IF(F63=\"End\",MAX(IF($C$20:$C$9999=C63,$P$20:$P$9999)),\"\")","v":""},"","",null,null,"",0,null,null,0,0,0,0,0,0,0,0,0,0,0,0,0,0,0,0,0,0,0,0,0,0,0,0,0,0,0,0,0,0,0,0,0,0,0,0,0,0,0,0,0,0,0,0,0,0,0,0,0,0,0,0,0,0,0,0,0,0,0,0,0,0,0,0,0,0,0,0,0,0,0,0,0,0,0,0,0,0,0,0,0,0,0,0,0,0,0,0,0,0,0,0,{"$f":"IF(AND(DR$14>=$O63,DR$14<$P63),1+$AA63,IF(AND(ROUND(DR$14,0)>=$O63,ROUND(DR$14,0)<=$P63,OR($F63=\"Start\",$F63=\"End\")),10,0))","v":0},0,0,0,0,0,0,0,0,null,""]
["","",null,null,null,null,null,null,null,null,{"$f":"IFERROR(_xlfn.SINGLE(IF($F64=\"End\",PlannedFinish($C64,$P$9,$P$10,$P$11,$P$12,ROW()),IF(F64=\"Start\",M64,#NAME?(F64,G64,VLOOKUP(G64,$B$20:$P$9999,COLUMN(O$19)-1,FALSE),VLOOKUP($G64,$B$20:$P$9999,COLUMN(P$19)-1,FALSE),H64))))+IF(AND($J64<0,$F64=\"Finish to Start\"),$J64,0)+IF($J64>0,$J64,0),\"\")","v":""},{"$f":"IFERROR(IF(F64=\"End\",$O64,IF(F64=\"Start\",K64,PlannedStart(F64,G64,VLOOKUP(G64,$B$20:$P$9999,12,FALSE),VLOOKUP($G64,$B$20:$P$9999,13,FALSE),H64,O64))),$L$15)","v":""},null,null,"","",null,0,0,"",{"$f":"IF(F64=\"End\",MAX(IF($C$20:$C$9999=C64,$P$20:$P$9999)),\"\")","v":""},"","",null,null,"",0,null,null,{"$f":"IF(AND(AD$14>=$O64,AD$14<$P64),1+$AA64,IF(AND(ROUND(AD$14,0)>=$O64,ROUND(AD$14,0)<=$P64,OR($F64=\"Start\",$F64=\"End\")),10,0))","v":0},0,0,0,0,0,0,0,0,0,{"$f":"IF(AND(AN$14>=$O64,AN$14<$P64),1+$AA64,IF(AND(ROUND(AN$14,0)>=$O64,ROUND(AN$14,0)<=$P64,OR($F64=\"Start\",$F64=\"End\")),10,0))","v":0},0,0,0,0,0,0,0,0,0,{"$f":"IF(AND(AX$14>=$O64,AX$14<$P64),1+$AA64,IF(AND(ROUND(AX$14,0)>=$O64,ROUND(AX$14,0)<=$P64,OR($F64=\"Start\",$F64=\"End\")),10,0))","v":0},0,0,0,0,0,0,0,0,0,{"$f":"IF(AND(BH$14>=$O64,BH$14<$P64),1+$AA64,IF(AND(ROUND(BH$14,0)>=$O64,ROUND(BH$14,0)<=$P64,OR($F64=\"Start\",$F64=\"End\")),10,0))","v":0},0,0,0,0,0,0,0,0,0,{"$f":"IF(AND(BR$14>=$O64,BR$14<$P64),1+$AA64,IF(AND(ROUND(BR$14,0)>=$O64,ROUND(BR$14,0)<=$P64,OR($F64=\"Start\",$F64=\"End\")),10,0))","v":0},0,0,0,0,0,0,0,0,0,{"$f":"IF(AND(CB$14>=$O64,CB$14<$P64),1+$AA64,IF(AND(ROUND(CB$14,0)>=$O64,ROUND(CB$14,0)<=$P64,OR($F64=\"Start\",$F64=\"End\")),10,0))","v":0},0,0,0,0,0,0,0,0,0,0,0,0,0,0,0,0,0,0,0,0,0,0,0,0,0,0,0,0,0,0,0,0,0,0,0,0,0,0,0,0,0,0,0,0,0,0,0,0,0,0,null,""]
["","",null,null,null,null,null,null,null,null,{"$f":"IFERROR(_xlfn.SINGLE(IF($F65=\"End\",PlannedFinish($C65,$P$9,$P$10,$P$11,$P$12,ROW()),IF(F65=\"Start\",M65,#NAME?(F65,G65,VLOOKUP(G65,$B$20:$P$9999,COLUMN(O$19)-1,FALSE),VLOOKUP($G65,$B$20:$P$9999,COLUMN(P$19)-1,FALSE),H65))))+IF(AND($J65<0,$F65=\"Finish to Start\"),$J65,0)+IF($J65>0,$J65,0),\"\")","v":""},{"$f":"IFERROR(IF(F65=\"End\",$O65,IF(F65=\"Start\",K65,PlannedStart(F65,G65,VLOOKUP(G65,$B$20:$P$9999,12,FALSE),VLOOKUP($G65,$B$20:$P$9999,13,FALSE),H65,O65))),$L$15)","v":""},null,null,"","",null,0,0,"",{"$f":"IF(F65=\"End\",MAX(IF($C$20:$C$9999=C65,$P$20:$P$9999)),\"\")","v":""},"","",null,null,"",0,null,null,0,0,0,0,0,0,0,0,0,0,0,0,0,0,0,0,0,0,0,0,0,0,0,0,0,0,0,0,0,0,0,0,0,0,0,0,0,0,0,0,0,0,0,0,0,0,0,0,0,0,0,0,0,0,0,0,0,0,0,0,0,0,0,0,0,0,0,0,0,0,0,0,0,0,0,0,0,0,0,0,0,0,0,0,0,0,0,0,0,0,0,0,0,0,0,0,0,0,0,0,0,null,""]
["","",null,null,null,null,null,null,null,null,{"$f":"IFERROR(_xlfn.SINGLE(IF($F66=\"End\",PlannedFinish($C66,$P$9,$P$10,$P$11,$P$12,ROW()),IF(F66=\"Start\",M66,#NAME?(F66,G66,VLOOKUP(G66,$B$20:$P$9999,COLUMN(O$19)-1,FALSE),VLOOKUP($G66,$B$20:$P$9999,COLUMN(P$19)-1,FALSE),H66))))+IF(AND($J66<0,$F66=\"Finish to Start\"),$J66,0)+IF($J66>0,$J66,0),\"\")","v":""},{"$f":"IFERROR(IF(F66=\"End\",$O66,IF(F66=\"Start\",K66,PlannedStart(F66,G66,VLOOKUP(G66,$B$20:$P$9999,12,FALSE),VLOOKUP($G66,$B$20:$P$9999,13,FALSE),H66,O66))),$L$15)","v":""},null,null,"","",null,0,0,"",{"$f":"IF(F66=\"End\",MAX(IF($C$20:$C$9999=C66,$P$20:$P$9999)),\"\")","v":""},"","",null,null,"",0,null,null,0,0,0,0,0,0,0,0,0,0,0,0,0,0,0,0,0,0,0,0,0,0,0,0,0,0,0,0,0,0,0,0,0,0,0,0,0,0,0,0,0,0,0,0,0,0,0,0,0,0,0,0,0,0,0,0,0,0,0,0,0,0,0,0,0,0,0,0,0,0,0,0,0,0,0,0,0,0,0,0,0,0,0,0,0,0,0,0,0,0,0,0,0,0,0,0,0,0,0,0,0,null,""]
["","",null,null,null,null,null,null,null,null,{"$f":"IFERROR(_xlfn.SINGLE(IF($F67=\"End\",PlannedFinish($C67,$P$9,$P$10,$P$11,$P$12,ROW()),IF(F67=\"Start\",M67,#NAME?(F67,G67,VLOOKUP(G67,$B$20:$P$9999,COLUMN(O$19)-1,FALSE),VLOOKUP($G67,$B$20:$P$9999,COLUMN(P$19)-1,FALSE),H67))))+IF(AND($J67<0,$F67=\"Finish to Start\"),$J67,0)+IF($J67>0,$J67,0),\"\")","v":""},{"$f":"IFERROR(IF(F67=\"End\",$O67,IF(F67=\"Start\",K67,PlannedStart(F67,G67,VLOOKUP(G67,$B$20:$P$9999,12,FALSE),VLOOKUP($G67,$B$20:$P$9999,13,FALSE),H67,O67))),$L$15)","v":""},null,null,"","",null,0,0,"",{"$f":"IF(F67=\"End\",MAX(IF($C$20:$C$9999=C67,$P$20:$P$9999)),\"\")","v":""},"","",null,null,"",0,null,null,0,0,0,0,0,0,0,0,0,0,0,0,0,0,0,0,0,0,0,0,0,0,0,0,0,0,0,0,0,0,0,0,0,0,0,0,0,0,0,0,0,0,0,0,0,0,0,0,0,0,0,0,0,0,0,0,0,0,0,0,0,0,0,0,0,0,0,0,0,0,0,0,0,0,0,0,0,0,0,0,0,0,0,0,0,0,0,0,0,0,0,0,0,0,0,0,0,0,0,0,0,null,""]
["","",null,null,null,null,null,null,null,null,{"$f":"IFERROR(_xlfn.SINGLE(IF($F68=\"End\",PlannedFinish($C68,$P$9,$P$10,$P$11,$P$12,ROW()),IF(F68=\"Start\",M68,#NAME?(F68,G68,VLOOKUP(G68,$B$20:$P$9999,COLUMN(O$19)-1,FALSE),VLOOKUP($G68,$B$20:$P$9999,COLUMN(P$19)-1,FALSE),H68))))+IF(AND($J68<0,$F68=\"Finish to Start\"),$J68,0)+IF($J68>0,$J68,0),\"\")","v":""},{"$f":"IFERROR(IF(F68=\"End\",$O68,IF(F68=\"Start\",K68,PlannedStart(F68,G68,VLOOKUP(G68,$B$20:$P$9999,12,FALSE),VLOOKUP($G68,$B$20:$P$9999,13,FALSE),H68,O68))),$L$15)","v":""},null,null,"","",null,0,0,"",{"$f":"IF(F68=\"End\",MAX(IF($C$20:$C$9999=C68,$P$20:$P$9999)),\"\")","v":""},"","",null,null,"",0,null,null,0,0,0,0,0,0,0,0,0,0,0,0,0,0,0,0,0,0,0,0,0,0,0,0,0,0,0,0,0,0,0,0,0,0,0,0,0,0,0,0,0,0,0,0,0,0,0,0,0,0,0,0,0,0,0,0,0,0,0,0,0,0,0,0,0,0,0,0,0,0,0,0,0,0,0,0,0,0,0,0,0,0,0,0,0,0,0,0,0,0,0,0,0,0,0,0,0,0,0,0,0,null,""]
["","",null,null,null,null,null,null,null,null,{"$f":"IFERROR(_xlfn.SINGLE(IF($F69=\"End\",PlannedFinish($C69,$P$9,$P$10,$P$11,$P$12,ROW()),IF(F69=\"Start\",M69,#NAME?(F69,G69,VLOOKUP(G69,$B$20:$P$9999,COLUMN(O$19)-1,FALSE),VLOOKUP($G69,$B$20:$P$9999,COLUMN(P$19)-1,FALSE),H69))))+IF(AND($J69<0,$F69=\"Finish to Start\"),$J69,0)+IF($J69>0,$J69,0),\"\")","v":""},{"$f":"IFERROR(IF(F69=\"End\",$O69,IF(F69=\"Start\",K69,PlannedStart(F69,G69,VLOOKUP(G69,$B$20:$P$9999,12,FALSE),VLOOKUP($G69,$B$20:$P$9999,13,FALSE),H69,O69))),$L$15)","v":""},null,null,"","",null,0,0,"",{"$f":"IF(F69=\"End\",MAX(IF($C$20:$C$9999=C69,$P$20:$P$9999)),\"\")","v":""},"","",null,null,"",0,null,null,0,0,0,0,0,0,0,0,0,0,0,0,0,0,0,0,0,0,0,0,0,0,0,0,0,0,0,0,0,0,0,0,0,0,0,0,0,0,0,0,0,0,0,0,0,0,0,0,0,0,0,0,0,0,0,0,0,0,0,0,0,0,0,0,0,0,0,{"$f":"IF(AND(CS$14>=$O69,CS$14<$P69),1+$AA69,IF(AND(ROUND(CS$14,0)>=$O69,ROUND(CS$14,0)<=$P69,OR($F69=\"Start\",$F69=\"End\")),10,0))","v":0},0,0,0,0,0,0,0,0,0,{"$f":"IF(AND(DC$14>=$O69,DC$14<$P69),1+$AA69,IF(AND(ROUND(DC$14,0)>=$O69,ROUND(DC$14,0)<=$P69,OR($F69=\"Start\",$F69=\"End\")),10,0))","v":0},0,0,0,0,0,0,0,0,0,0,0,0,0,0,0,0,0,0,0,0,0,0,0,null,""]
["","",null,null,null,null,null,null,null,null,{"$f":"IFERROR(_xlfn.SINGLE(IF($F70=\"End\",PlannedFinish($C70,$P$9,$P$10,$P$11,$P$12,ROW()),IF(F70=\"Start\",M70,#NAME?(F70,G70,VLOOKUP(G70,$B$20:$P$9999,COLUMN(O$19)-1,FALSE),VLOOKUP($G70,$B$20:$P$9999,COLUMN(P$19)-1,FALSE),H70))))+IF(AND($J70<0,$F70=\"Finish to Start\"),$J70,0)+IF($J70>0,$J70,0),\"\")","v":""},{"$f":"IFERROR(IF(F70=\"End\",$O70,IF(F70=\"Start\",K70,PlannedStart(F70,G70,VLOOKUP(G70,$B$20:$P$9999,12,FALSE),VLOOKUP($G70,$B$20:$P$9999,13,FALSE),H70,O70))),$L$15)","v":""},null,null,"","",null,0,0,"",{"$f":"IF(F70=\"End\",MAX(IF($C$20:$C$9999=C70,$P$20:$P$9999)),\"\")","v":""},"","",null,null,"",0,null,null,0,0,0,0,0,0,0,0,0,0,0,0,0,0,0,0,0,0,0,0,0,0,0,0,0,0,0,0,0,0,0,0,0,0,0,0,0,0,0,0,0,0,0,0,0,0,0,0,0,0,0,0,0,0,0,0,0,0,0,0,0,0,0,0,{"$f":"IF(AND(CP$14>=$O70,CP$14<$P70),1+$AA70,IF(AND(ROUND(CP$14,0)>=$O70,ROUND(CP$14,0)<=$P70,OR($F70=\"Start\",$F70=\"End\")),10,0))","v":0},0,0,0,0,0,0,0,0,0,0,0,0,0,0,0,0,0,0,0,0,0,0,0,0,0,0,0,0,0,0,0,0,0,0,0,0,null,""]
["","",null,null,null,null,null,null,null,null,{"$f":"IFERROR(_xlfn.SINGLE(IF($F71=\"End\",PlannedFinish($C71,$P$9,$P$10,$P$11,$P$12,ROW()),IF(F71=\"Start\",M71,#NAME?(F71,G71,VLOOKUP(G71,$B$20:$P$9999,COLUMN(O$19)-1,FALSE),VLOOKUP($G71,$B$20:$P$9999,COLUMN(P$19)-1,FALSE),H71))))+IF(AND($J71<0,$F71=\"Finish to Start\"),$J71,0)+IF($J71>0,$J71,0),\"\")","v":""},{"$f":"IFERROR(IF(F71=\"End\",$O71,IF(F71=\"Start\",K71,PlannedStart(F71,G71,VLOOKUP(G71,$B$20:$P$9999,12,FALSE),VLOOKUP($G71,$B$20:$P$9999,13,FALSE),H71,O71))),$L$15)","v":""},null,null,"","",null,0,0,"",{"$f":"IF(F71=\"End\",MAX(IF($C$20:$C$9999=C71,$P$20:$P$9999)),\"\")","v":""},"","",null,null,"",0,null,null,0,0,0,0,0,0,0,0,0,0,0,0,0,0,0,0,0,0,0,0,0,0,0,0,0,0,0,0,0,0,0,0,0,0,0,0,0,0,0,0,0,0,0,0,0,0,0,0,0,0,0,0,0,0,0,0,0,0,0,0,0,0,0,0,0,0,0,0,0,0,0,0,0,0,0,0,0,0,0,0,0,0,0,0,0,0,0,0,0,0,0,0,0,0,0,0,0,0,0,0,0,null,""]
["","",null,null,null,null,null,null,null,null,{"$f":"IFERROR(_xlfn.SINGLE(IF($F72=\"End\",PlannedFinish($C72,$P$9,$P$10,$P$11,$P$12,ROW()),IF(F72=\"Start\",M72,#NAME?(F72,G72,VLOOKUP(G72,$B$20:$P$9999,COLUMN(O$19)-1,FALSE),VLOOKUP($G72,$B$20:$P$9999,COLUMN(P$19)-1,FALSE),H72))))+IF(AND($J72<0,$F72=\"Finish to Start\"),$J72,0)+IF($J72>0,$J72,0),\"\")","v":""},{"$f":"IFERROR(IF(F72=\"End\",$O72,IF(F72=\"Start\",K72,PlannedStart(F72,G72,VLOOKUP(G72,$B$20:$P$9999,12,FALSE),VLOOKUP($G72,$B$20:$P$9999,13,FALSE),H72,O72))),$L$15)","v":""},null,null,"","",null,0,0,"",{"$f":"IF(F72=\"End\",MAX(IF($C$20:$C$9999=C72,$P$20:$P$9999)),\"\")","v":""},"","",null,null,"",0,null,null,0,0,0,0,0,0,0,0,0,0,0,0,0,0,0,0,0,0,0,0,0,0,0,0,0,0,0,0,0,0,0,0,0,0,0,0,0,0,0,0,0,0,0,0,0,0,0,0,0,0,0,0,0,0,0,0,0,0,0,0,0,0,0,0,0,0,0,0,0,0,0,0,0,0,0,0,0,0,0,0,0,0,0,0,0,0,0,0,0,0,0,0,0,0,0,0,0,0,0,0,0,null,""]
["","",null,null,null,null,null,null,null,null,{"$f":"IFERROR(_xlfn.SINGLE(IF($F73=\"End\",PlannedFinish($C73,$P$9,$P$10,$P$11,$P$12,ROW()),IF(F73=\"Start\",M73,#NAME?(F73,G73,VLOOKUP(G73,$B$20:$P$9999,COLUMN(O$19)-1,FALSE),VLOOKUP($G73,$B$20:$P$9999,COLUMN(P$19)-1,FALSE),H73))))+IF(AND($J73<0,$F73=\"Finish to Start\"),$J73,0)+IF($J73>0,$J73,0),\"\")","v":""},{"$f":"IFERROR(IF(F73=\"End\",$O73,IF(F73=\"Start\",K73,PlannedStart(F73,G73,VLOOKUP(G73,$B$20:$P$9999,12,FALSE),VLOOKUP($G73,$B$20:$P$9999,13,FALSE),H73,O73))),$L$15)","v":""},null,null,"","",null,0,0,"",{"$f":"IF(F73=\"End\",MAX(IF($C$20:$C$9999=C73,$P$20:$P$9999)),\"\")","v":""},"","",null,null,"",0,null,null,0,0,0,0,0,0,0,0,0,0,0,0,0,0,0,0,0,0,0,0,0,0,0,0,0,0,0,0,0,0,0,0,0,0,0,0,0,0,0,0,0,0,0,0,0,0,0,0,0,0,0,0,0,0,0,0,0,0,0,0,0,0,0,0,0,0,0,0,0,0,0,0,0,0,0,0,0,0,0,0,0,0,0,0,0,0,0,0,0,0,0,0,{"$f":"IF(AND(DR$14>=$O73,DR$14<$P73),1+$AA73,IF(AND(ROUND(DR$14,0)>=$O73,ROUND(DR$14,0)<=$P73,OR($F73=\"Start\",$F73=\"End\")),10,0))","v":0},0,0,0,0,0,0,0,0,null,""]
["","",null,null,null,null,null,null,null,null,{"$f":"IFERROR(_xlfn.SINGLE(IF($F74=\"End\",PlannedFinish($C74,$P$9,$P$10,$P$11,$P$12,ROW()),IF(F74=\"Start\",M74,#NAME?(F74,G74,VLOOKUP(G74,$B$20:$P$9999,COLUMN(O$19)-1,FALSE),VLOOKUP($G74,$B$20:$P$9999,COLUMN(P$19)-1,FALSE),H74))))+IF(AND($J74<0,$F74=\"Finish to Start\"),$J74,0)+IF($J74>0,$J74,0),\"\")","v":""},{"$f":"IFERROR(IF(F74=\"End\",$O74,IF(F74=\"Start\",K74,PlannedStart(F74,G74,VLOOKUP(G74,$B$20:$P$9999,12,FALSE),VLOOKUP($G74,$B$20:$P$9999,13,FALSE),H74,O74))),$L$15)","v":""},null,null,"","",null,0,0,"",{"$f":"IF(F74=\"End\",MAX(IF($C$20:$C$9999=C74,$P$20:$P$9999)),\"\")","v":""},"","",null,null,"",0,null,null,{"$f":"IF(AND(AD$14>=$O74,AD$14<$P74),1+$AA74,IF(AND(ROUND(AD$14,0)>=$O74,ROUND(AD$14,0)<=$P74,OR($F74=\"Start\",$F74=\"End\")),10,0))","v":0},0,0,0,0,0,0,0,0,0,{"$f":"IF(AND(AN$14>=$O74,AN$14<$P74),1+$AA74,IF(AND(ROUND(AN$14,0)>=$O74,ROUND(AN$14,0)<=$P74,OR($F74=\"Start\",$F74=\"End\")),10,0))","v":0},0,0,0,0,0,0,0,0,0,{"$f":"IF(AND(AX$14>=$O74,AX$14<$P74),1+$AA74,IF(AND(ROUND(AX$14,0)>=$O74,ROUND(AX$14,0)<=$P74,OR($F74=\"Start\",$F74=\"End\")),10,0))","v":0},0,0,0,0,0,0,0,0,0,{"$f":"IF(AND(BH$14>=$O74,BH$14<$P74),1+$AA74,IF(AND(ROUND(BH$14,0)>=$O74,ROUND(BH$14,0)<=$P74,OR($F74=\"Start\",$F74=\"End\")),10,0))","v":0},0,0,0,0,0,0,0,0,0,{"$f":"IF(AND(BR$14>=$O74,BR$14<$P74),1+$AA74,IF(AND(ROUND(BR$14,0)>=$O74,ROUND(BR$14,0)<=$P74,OR($F74=\"Start\",$F74=\"End\")),10,0))","v":0},0,0,0,0,0,0,0,0,0,{"$f":"IF(AND(CB$14>=$O74,CB$14<$P74),1+$AA74,IF(AND(ROUND(CB$14,0)>=$O74,ROUND(CB$14,0)<=$P74,OR($F74=\"Start\",$F74=\"End\")),10,0))","v":0},0,0,0,0,0,0,0,0,0,0,0,0,0,0,0,0,0,0,0,0,0,0,0,0,0,0,0,0,0,0,0,0,0,0,0,0,0,0,0,0,0,0,0,0,0,0,0,0,0,0,null,""]
["","",null,null,null,null,null,null,null,null,{"$f":"IFERROR(_xlfn.SINGLE(IF($F75=\"End\",PlannedFinish($C75,$P$9,$P$10,$P$11,$P$12,ROW()),IF(F75=\"Start\",M75,#NAME?(F75,G75,VLOOKUP(G75,$B$20:$P$9999,COLUMN(O$19)-1,FALSE),VLOOKUP($G75,$B$20:$P$9999,COLUMN(P$19)-1,FALSE),H75))))+IF(AND($J75<0,$F75=\"Finish to Start\"),$J75,0)+IF($J75>0,$J75,0),\"\")","v":""},{"$f":"IFERROR(IF(F75=\"End\",$O75,IF(F75=\"Start\",K75,PlannedStart(F75,G75,VLOOKUP(G75,$B$20:$P$9999,12,FALSE),VLOOKUP($G75,$B$20:$P$9999,13,FALSE),H75,O75))),$L$15)","v":""},null,null,"","",null,0,0,"",{"$f":"IF(F75=\"End\",MAX(IF($C$20:$C$9999=C75,$P$20:$P$9999)),\"\")","v":""},"","",null,null,"",0,null,null,0,0,0,0,0,0,0,0,0,0,0,0,0,0,0,0,0,0,0,0,0,0,0,0,0,0,0,0,0,0,0,0,0,0,0,0,0,0,0,0,0,0,0,0,0,0,0,0,0,0,0,0,0,0,0,0,0,0,0,0,0,0,0,0,0,0,0,0,0,0,0,0,0,0,0,0,0,0,0,0,0,0,0,0,0,0,0,0,0,0,0,0,0,0,0,0,0,0,0,0,0,null,""]
["","",null,null,null,null,null,null,null,null,{"$f":"IFERROR(_xlfn.SINGLE(IF($F76=\"End\",PlannedFinish($C76,$P$9,$P$10,$P$11,$P$12,ROW()),IF(F76=\"Start\",M76,#NAME?(F76,G76,VLOOKUP(G76,$B$20:$P$9999,COLUMN(O$19)-1,FALSE),VLOOKUP($G76,$B$20:$P$9999,COLUMN(P$19)-1,FALSE),H76))))+IF(AND($J76<0,$F76=\"Finish to Start\"),$J76,0)+IF($J76>0,$J76,0),\"\")","v":""},{"$f":"IFERROR(IF(F76=\"End\",$O76,IF(F76=\"Start\",K76,PlannedStart(F76,G76,VLOOKUP(G76,$B$20:$P$9999,12,FALSE),VLOOKUP($G76,$B$20:$P$9999,13,FALSE),H76,O76))),$L$15)","v":""},null,null,"","",null,0,0,"",{"$f":"IF(F76=\"End\",MAX(IF($C$20:$C$9999=C76,$P$20:$P$9999)),\"\")","v":""},"","",null,null,"",0,null,null,0,0,0,0,0,0,0,0,0,0,0,0,0,0,0,0,0,0,0,0,0,0,0,0,0,0,0,0,0,0,0,0,0,0,0,0,0,0,0,0,0,0,0,0,0,0,0,0,0,0,0,0,0,0,0,0,0,0,0,0,0,0,0,0,0,0,0,0,0,0,0,0,0,0,0,0,0,0,0,0,0,0,0,0,0,0,0,0,0,0,0,0,0,0,0,0,0,0,0,0,0,null,""]
["","",null,null,null,null,null,null,null,null,{"$f":"IFERROR(_xlfn.SINGLE(IF($F77=\"End\",PlannedFinish($C77,$P$9,$P$10,$P$11,$P$12,ROW()),IF(F77=\"Start\",M77,#NAME?(F77,G77,VLOOKUP(G77,$B$20:$P$9999,COLUMN(O$19)-1,FALSE),VLOOKUP($G77,$B$20:$P$9999,COLUMN(P$19)-1,FALSE),H77))))+IF(AND($J77<0,$F77=\"Finish to Start\"),$J77,0)+IF($J77>0,$J77,0),\"\")","v":""},{"$f":"IFERROR(IF(F77=\"End\",$O77,IF(F77=\"Start\",K77,PlannedStart(F77,G77,VLOOKUP(G77,$B$20:$P$9999,12,FALSE),VLOOKUP($G77,$B$20:$P$9999,13,FALSE),H77,O77))),$L$15)","v":""},null,null,"","",null,0,0,"",{"$f":"IF(F77=\"End\",MAX(IF($C$20:$C$9999=C77,$P$20:$P$9999)),\"\")","v":""},"","",null,null,"",0,null,null,0,0,0,0,0,0,0,0,0,0,0,0,0,0,0,0,0,0,0,0,0,0,0,0,0,0,0,0,0,0,0,0,0,0,0,0,0,0,0,0,0,0,0,0,0,0,0,0,0,0,0,0,0,0,0,0,0,0,0,0,0,0,0,0,0,0,0,0,0,0,0,0,0,0,0,0,0,0,0,0,0,0,0,0,0,0,0,0,0,0,0,0,0,0,0,0,0,0,0,0,0,null,""]
["","",null,null,null,null,null,null,null,null,{"$f":"IFERROR(_xlfn.SINGLE(IF($F78=\"End\",PlannedFinish($C78,$P$9,$P$10,$P$11,$P$12,ROW()),IF(F78=\"Start\",M78,#NAME?(F78,G78,VLOOKUP(G78,$B$20:$P$9999,COLUMN(O$19)-1,FALSE),VLOOKUP($G78,$B$20:$P$9999,COLUMN(P$19)-1,FALSE),H78))))+IF(AND($J78<0,$F78=\"Finish to Start\"),$J78,0)+IF($J78>0,$J78,0),\"\")","v":""},{"$f":"IFERROR(IF(F78=\"End\",$O78,IF(F78=\"Start\",K78,PlannedStart(F78,G78,VLOOKUP(G78,$B$20:$P$9999,12,FALSE),VLOOKUP($G78,$B$20:$P$9999,13,FALSE),H78,O78))),$L$15)","v":""},null,null,"","",null,0,0,"",{"$f":"IF(F78=\"End\",MAX(IF($C$20:$C$9999=C78,$P$20:$P$9999)),\"\")","v":""},"","",null,null,"",0,null,null,0,0,0,0,0,0,0,0,0,0,0,0,0,0,0,0,0,0,0,0,0,0,0,0,0,0,0,0,0,0,0,0,0,0,0,0,0,0,0,0,0,0,0,0,0,0,0,0,0,0,0,0,0,0,0,0,0,0,0,0,0,0,0,0,0,0,0,0,0,0,0,0,0,0,0,0,0,0,0,0,0,0,0,0,0,0,0,0,0,0,0,0,0,0,0,0,0,0,0,0,0,null,""]
["","",null,null,null,null,null,null,null,null,{"$f":"IFERROR(_xlfn.SINGLE(IF($F79=\"End\",PlannedFinish($C79,$P$9,$P$10,$P$11,$P$12,ROW()),IF(F79=\"Start\",M79,#NAME?(F79,G79,VLOOKUP(G79,$B$20:$P$9999,COLUMN(O$19)-1,FALSE),VLOOKUP($G79,$B$20:$P$9999,COLUMN(P$19)-1,FALSE),H79))))+IF(AND($J79<0,$F79=\"Finish to Start\"),$J79,0)+IF($J79>0,$J79,0),\"\")","v":""},{"$f":"IFERROR(IF(F79=\"End\",$O79,IF(F79=\"Start\",K79,PlannedStart(F79,G79,VLOOKUP(G79,$B$20:$P$9999,12,FALSE),VLOOKUP($G79,$B$20:$P$9999,13,FALSE),H79,O79))),$L$15)","v":""},null,null,"","",null,0,0,"",{"$f":"IF(F79=\"End\",MAX(IF($C$20:$C$9999=C79,$P$20:$P$9999)),\"\")","v":""},"","",null,null,"",0,null,null,0,0,0,0,0,0,0,0,0,0,0,0,0,0,0,0,0,0,0,0,0,0,0,0,0,0,0,0,0,0,0,0,0,0,0,0,0,0,0,0,0,0,0,0,0,0,0,0,0,0,0,0,0,0,0,0,0,0,0,0,0,0,0,0,0,0,0,{"$f":"IF(AND(CS$14>=$O79,CS$14<$P79),1+$AA79,IF(AND(ROUND(CS$14,0)>=$O79,ROUND(CS$14,0)<=$P79,OR($F79=\"Start\",$F79=\"End\")),10,0))","v":0},0,0,0,0,0,0,0,0,0,{"$f":"IF(AND(DC$14>=$O79,DC$14<$P79),1+$AA79,IF(AND(ROUND(DC$14,0)>=$O79,ROUND(DC$14,0)<=$P79,OR($F79=\"Start\",$F79=\"End\")),10,0))","v":0},0,0,0,0,0,0,0,0,0,0,0,0,0,0,0,0,0,0,0,0,0,0,0,null,""]
["","",null,null,null,null,null,null,null,null,{"$f":"IFERROR(_xlfn.SINGLE(IF($F80=\"End\",PlannedFinish($C80,$P$9,$P$10,$P$11,$P$12,ROW()),IF(F80=\"Start\",M80,#NAME?(F80,G80,VLOOKUP(G80,$B$20:$P$9999,COLUMN(O$19)-1,FALSE),VLOOKUP($G80,$B$20:$P$9999,COLUMN(P$19)-1,FALSE),H80))))+IF(AND($J80<0,$F80=\"Finish to Start\"),$J80,0)+IF($J80>0,$J80,0),\"\")","v":""},{"$f":"IFERROR(IF(F80=\"End\",$O80,IF(F80=\"Start\",K80,PlannedStart(F80,G80,VLOOKUP(G80,$B$20:$P$9999,12,FALSE),VLOOKUP($G80,$B$20:$P$9999,13,FALSE),H80,O80))),$L$15)","v":""},null,null,"","",null,0,0,"",{"$f":"IF(F80=\"End\",MAX(IF($C$20:$C$9999=C80,$P$20:$P$9999)),\"\")","v":""},"","",null,null,"",0,null,null,0,0,0,0,0,0,0,0,0,0,0,0,0,0,0,0,0,0,0,0,0,0,0,0,0,0,0,0,0,0,0,0,0,0,0,0,0,0,0,0,0,0,0,0,0,0,0,0,0,0,0,0,0,0,0,0,0,0,0,0,0,0,0,0,0,0,0,0,0,0,0,0,0,0,0,0,0,0,0,0,0,0,0,0,0,0,0,0,0,0,0,0,0,0,0,0,0,0,0,0,0,null,""]
["","",null,null,null,null,null,null,null,null,{"$f":"IFERROR(_xlfn.SINGLE(IF($F81=\"End\",PlannedFinish($C81,$P$9,$P$10,$P$11,$P$12,ROW()),IF(F81=\"Start\",M81,#NAME?(F81,G81,VLOOKUP(G81,$B$20:$P$9999,COLUMN(O$19)-1,FALSE),VLOOKUP($G81,$B$20:$P$9999,COLUMN(P$19)-1,FALSE),H81))))+IF(AND($J81<0,$F81=\"Finish to Start\"),$J81,0)+IF($J81>0,$J81,0),\"\")","v":""},{"$f":"IFERROR(IF(F81=\"End\",$O81,IF(F81=\"Start\",K81,PlannedStart(F81,G81,VLOOKUP(G81,$B$20:$P$9999,12,FALSE),VLOOKUP($G81,$B$20:$P$9999,13,FALSE),H81,O81))),$L$15)","v":""},null,null,"","",null,0,0,"",{"$f":"IF(F81=\"End\",MAX(IF($C$20:$C$9999=C81,$P$20:$P$9999)),\"\")","v":""},"","",null,null,"",0,null,null,0,0,0,0,0,0,0,0,0,0,0,0,0,0,0,0,0,0,0,0,0,0,0,0,0,0,0,0,0,0,0,0,0,0,0,0,0,0,0,0,0,0,0,0,0,0,0,0,0,0,0,0,0,0,0,0,0,0,0,0,0,0,0,0,0,0,0,0,0,0,0,0,0,0,0,0,0,0,0,0,0,0,0,0,0,0,0,0,0,0,0,0,0,0,0,0,0,0,0,0,0,null,""]
["","",null,null,null,null,null,null,null,null,{"$f":"IFERROR(_xlfn.SINGLE(IF($F82=\"End\",PlannedFinish($C82,$P$9,$P$10,$P$11,$P$12,ROW()),IF(F82=\"Start\",M82,#NAME?(F82,G82,VLOOKUP(G82,$B$20:$P$9999,COLUMN(O$19)-1,FALSE),VLOOKUP($G82,$B$20:$P$9999,COLUMN(P$19)-1,FALSE),H82))))+IF(AND($J82<0,$F82=\"Finish to Start\"),$J82,0)+IF($J82>0,$J82,0),\"\")","v":""},{"$f":"IFERROR(IF(F82=\"End\",$O82,IF(F82=\"Start\",K82,PlannedStart(F82,G82,VLOOKUP(G82,$B$20:$P$9999,12,FALSE),VLOOKUP($G82,$B$20:$P$9999,13,FALSE),H82,O82))),$L$15)","v":""},null,null,"","",null,0,0,"",{"$f":"IF(F82=\"End\",MAX(IF($C$20:$C$9999=C82,$P$20:$P$9999)),\"\")","v":""},"","",null,null,"",0,null,null,0,0,0,0,0,0,0,0,0,0,0,0,0,0,0,0,0,0,0,0,0,0,0,0,0,0,0,0,0,0,0,0,0,0,0,0,0,0,0,0,0,0,0,0,0,0,0,0,0,0,0,0,0,0,0,0,0,0,0,0,0,0,0,0,0,0,0,0,0,0,0,0,0,0,0,0,0,0,0,0,0,0,0,0,0,0,0,0,0,0,0,0,0,0,0,0,0,0,0,0,0,null,""]
["","",null,null,null,null,null,null,null,null,{"$f":"IFERROR(_xlfn.SINGLE(IF($F83=\"End\",PlannedFinish($C83,$P$9,$P$10,$P$11,$P$12,ROW()),IF(F83=\"Start\",M83,#NAME?(F83,G83,VLOOKUP(G83,$B$20:$P$9999,COLUMN(O$19)-1,FALSE),VLOOKUP($G83,$B$20:$P$9999,COLUMN(P$19)-1,FALSE),H83))))+IF(AND($J83<0,$F83=\"Finish to Start\"),$J83,0)+IF($J83>0,$J83,0),\"\")","v":""},{"$f":"IFERROR(IF(F83=\"End\",$O83,IF(F83=\"Start\",K83,PlannedStart(F83,G83,VLOOKUP(G83,$B$20:$P$9999,12,FALSE),VLOOKUP($G83,$B$20:$P$9999,13,FALSE),H83,O83))),$L$15)","v":""},null,null,"","",null,0,0,"",{"$f":"IF(F83=\"End\",MAX(IF($C$20:$C$9999=C83,$P$20:$P$9999)),\"\")","v":""},"","",null,null,"",0,null,null,0,0,0,0,0,0,0,0,0,0,0,0,0,0,0,0,0,0,0,0,0,0,0,0,0,0,0,0,0,0,0,0,0,0,0,0,0,0,0,0,0,0,0,0,0,0,0,0,0,0,0,0,0,0,0,0,0,0,0,0,0,0,0,0,0,0,0,0,0,0,0,0,0,0,0,0,0,0,0,0,0,0,0,0,0,0,0,0,0,0,0,0,{"$f":"IF(AND(DR$14>=$O83,DR$14<$P83),1+$AA83,IF(AND(ROUND(DR$14,0)>=$O83,ROUND(DR$14,0)<=$P83,OR($F83=\"Start\",$F83=\"End\")),10,0))","v":0},0,0,0,0,0,0,0,0,null,""]
["","",null,null,null,null,null,null,null,null,{"$f":"IFERROR(_xlfn.SINGLE(IF($F84=\"End\",PlannedFinish($C84,$P$9,$P$10,$P$11,$P$12,ROW()),IF(F84=\"Start\",M84,#NAME?(F84,G84,VLOOKUP(G84,$B$20:$P$9999,COLUMN(O$19)-1,FALSE),VLOOKUP($G84,$B$20:$P$9999,COLUMN(P$19)-1,FALSE),H84))))+IF(AND($J84<0,$F84=\"Finish to Start\"),$J84,0)+IF($J84>0,$J84,0),\"\")","v":""},{"$f":"IFERROR(IF(F84=\"End\",$O84,IF(F84=\"Start\",K84,PlannedStart(F84,G84,VLOOKUP(G84,$B$20:$P$9999,12,FALSE),VLOOKUP($G84,$B$20:$P$9999,13,FALSE),H84,O84))),$L$15)","v":""},null,null,"","",null,0,0,"",{"$f":"IF(F84=\"End\",MAX(IF($C$20:$C$9999=C84,$P$20:$P$9999)),\"\")","v":""},"","",null,null,"",0,null,null,{"$f":"IF(AND(AD$14>=$O84,AD$14<$P84),1+$AA84,IF(AND(ROUND(AD$14,0)>=$O84,ROUND(AD$14,0)<=$P84,OR($F84=\"Start\",$F84=\"End\")),10,0))","v":0},0,0,0,0,0,0,0,0,0,{"$f":"IF(AND(AN$14>=$O84,AN$14<$P84),1+$AA84,IF(AND(ROUND(AN$14,0)>=$O84,ROUND(AN$14,0)<=$P84,OR($F84=\"Start\",$F84=\"End\")),10,0))","v":0},0,0,0,0,0,0,0,0,0,{"$f":"IF(AND(AX$14>=$O84,AX$14<$P84),1+$AA84,IF(AND(ROUND(AX$14,0)>=$O84,ROUND(AX$14,0)<=$P84,OR($F84=\"Start\",$F84=\"End\")),10,0))","v":0},0,0,0,0,0,0,0,0,0,{"$f":"IF(AND(BH$14>=$O84,BH$14<$P84),1+$AA84,IF(AND(ROUND(BH$14,0)>=$O84,ROUND(BH$14,0)<=$P84,OR($F84=\"Start\",$F84=\"End\")),10,0))","v":0},0,0,0,0,0,0,0,0,0,{"$f":"IF(AND(BR$14>=$O84,BR$14<$P84),1+$AA84,IF(AND(ROUND(BR$14,0)>=$O84,ROUND(BR$14,0)<=$P84,OR($F84=\"Start\",$F84=\"End\")),10,0))","v":0},0,0,0,0,0,0,0,0,0,{"$f":"IF(AND(CB$14>=$O84,CB$14<$P84),1+$AA84,IF(AND(ROUND(CB$14,0)>=$O84,ROUND(CB$14,0)<=$P84,OR($F84=\"Start\",$F84=\"End\")),10,0))","v":0},0,0,0,0,0,0,0,0,0,0,0,0,0,0,0,0,0,0,0,0,0,0,0,0,0,0,0,0,0,0,0,0,0,0,0,0,0,0,0,0,0,0,0,0,0,0,0,0,0,0,null,""]
["","",null,null,null,null,null,null,null,null,{"$f":"IFERROR(_xlfn.SINGLE(IF($F85=\"End\",PlannedFinish($C85,$P$9,$P$10,$P$11,$P$12,ROW()),IF(F85=\"Start\",M85,#NAME?(F85,G85,VLOOKUP(G85,$B$20:$P$9999,COLUMN(O$19)-1,FALSE),VLOOKUP($G85,$B$20:$P$9999,COLUMN(P$19)-1,FALSE),H85))))+IF(AND($J85<0,$F85=\"Finish to Start\"),$J85,0)+IF($J85>0,$J85,0),\"\")","v":""},{"$f":"IFERROR(IF(F85=\"End\",$O85,IF(F85=\"Start\",K85,PlannedStart(F85,G85,VLOOKUP(G85,$B$20:$P$9999,12,FALSE),VLOOKUP($G85,$B$20:$P$9999,13,FALSE),H85,O85))),$L$15)","v":""},null,null,"","",null,0,{"$f":"IF(OR(AND($F85=\"End\",LEN($N85)=0),AND(M85>0,ISBLANK(N85)=TRUE)),1,0)","v":0},"",{"$f":"IF(F85=\"End\",MAX(IF($C$20:$C$9999=C85,$P$20:$P$9999)),\"\")","v":""},{"$f":"O85","v":""},{"$f":"P85","v":""},null,null,{"$f":"IF(OR(X85=0,Y85=0),\"\",IF(AND(X85>0,V85>0),(X85-V85),0)+IF(AND(Y85>0,W85>0),W85-Y85,0))","v":""},{"$f":"IF($Z85=0,$AA$17,0)","v":0},null,null,0,0,0,0,0,0,0,0,0,0,0,0,0,0,0,0,0,0,0,0,0,0,0,0,0,0,0,0,0,0,0,0,0,0,0,0,0,0,0,0,0,0,0,0,0,0,0,0,0,0,0,0,0,0,0,0,0,0,0,0,0,0,0,0,0,0,0,0,0,0,0,0,0,0,0,0,0,0,0,0,0,0,0,0,0,0,0,0,0,0,0,0,0,0,0,0,0,0,0,0,0,null,{"$f":"IF(AND($L$2=\"x\",LEN($E85)>0),IF(AND(OR($F85=\"Finish to Start\",$F85=\"Finish to Finish\"),$G85=$J$3),\"S\",IF($B85=$J$4,\"P\",IF(AND(LEN($E85)>0,$B85=$J$3),\"A\",\"\"))),\"\")","v":""}]
["","",null,null,null,null,null,null,null,null,{"$f":"IFERROR(_xlfn.SINGLE(IF($F86=\"End\",PlannedFinish($C86,$P$9,$P$10,$P$11,$P$12,ROW()),IF(F86=\"Start\",M86,#NAME?(F86,G86,VLOOKUP(G86,$B$20:$P$9999,COLUMN(O$19)-1,FALSE),VLOOKUP($G86,$B$20:$P$9999,COLUMN(P$19)-1,FALSE),H86))))+IF(AND($J86<0,$F86=\"Finish to Start\"),$J86,0)+IF($J86>0,$J86,0),\"\")","v":""},{"$f":"IFERROR(IF(F86=\"End\",$O86,IF(F86=\"Start\",K86,PlannedStart(F86,G86,VLOOKUP(G86,$B$20:$P$9999,12,FALSE),VLOOKUP($G86,$B$20:$P$9999,13,FALSE),H86,O86))),$L$15)","v":""},null,null,"","",null,0,0,"",{"$f":"IF(F86=\"End\",MAX(IF($C$20:$C$9999=C86,$P$20:$P$9999)),\"\")","v":""},"","",null,null,"",0,null,null,0,0,0,0,0,0,0,0,0,0,0,0,0,0,0,0,0,0,0,0,0,0,0,0,0,0,0,0,0,0,0,0,0,0,0,0,0,0,0,0,0,0,0,0,0,0,0,0,0,0,0,0,0,0,0,0,0,0,0,0,0,0,0,0,0,0,0,0,0,0,0,0,0,0,0,0,0,0,0,0,0,0,0,0,0,0,0,0,0,0,0,0,0,0,0,0,0,0,0,0,0,null,""]
["","",null,null,null,null,null,null,null,null,{"$f":"IFERROR(_xlfn.SINGLE(IF($F87=\"End\",PlannedFinish($C87,$P$9,$P$10,$P$11,$P$12,ROW()),IF(F87=\"Start\",M87,#NAME?(F87,G87,VLOOKUP(G87,$B$20:$P$9999,COLUMN(O$19)-1,FALSE),VLOOKUP($G87,$B$20:$P$9999,COLUMN(P$19)-1,FALSE),H87))))+IF(AND($J87<0,$F87=\"Finish to Start\"),$J87,0)+IF($J87>0,$J87,0),\"\")","v":""},{"$f":"IFERROR(IF(F87=\"End\",$O87,IF(F87=\"Start\",K87,PlannedStart(F87,G87,VLOOKUP(G87,$B$20:$P$9999,12,FALSE),VLOOKUP($G87,$B$20:$P$9999,13,FALSE),H87,O87))),$L$15)","v":""},null,null,"","",null,0,0,"",{"$f":"IF(F87=\"End\",MAX(IF($C$20:$C$9999=C87,$P$20:$P$9999)),\"\")","v":""},"","",null,null,"",0,null,null,0,0,0,0,0,0,0,0,0,0,0,0,0,0,0,0,0,0,0,0,0,0,0,0,0,0,0,0,0,0,0,0,0,0,0,0,0,0,0,0,0,0,0,0,0,0,0,0,0,0,0,0,0,0,0,0,0,0,0,0,0,0,0,{"$f":"IF(AND(CO$14>=$O87,CO$14<$P87),1+$AA87,IF(AND(ROUND(CO$14,0)>=$O87,ROUND(CO$14,0)<=$P87,OR($F87=\"Start\",$F87=\"End\")),10,0))","v":0},0,0,0,0,0,0,0,0,0,0,0,0,0,0,0,0,0,0,0,0,0,0,0,0,0,0,0,0,0,0,0,0,0,0,0,0,0,null,""]
["","",null,null,null,null,null,null,null,null,{"$f":"IFERROR(_xlfn.SINGLE(IF($F88=\"End\",PlannedFinish($C88,$P$9,$P$10,$P$11,$P$12,ROW()),IF(F88=\"Start\",M88,#NAME?(F88,G88,VLOOKUP(G88,$B$20:$P$9999,COLUMN(O$19)-1,FALSE),VLOOKUP($G88,$B$20:$P$9999,COLUMN(P$19)-1,FALSE),H88))))+IF(AND($J88<0,$F88=\"Finish to Start\"),$J88,0)+IF($J88>0,$J88,0),\"\")","v":""},{"$f":"IFERROR(IF(F88=\"End\",$O88,IF(F88=\"Start\",K88,PlannedStart(F88,G88,VLOOKUP(G88,$B$20:$P$9999,12,FALSE),VLOOKUP($G88,$B$20:$P$9999,13,FALSE),H88,O88))),$L$15)","v":""},null,null,"","",null,0,0,"",{"$f":"IF(F88=\"End\",MAX(IF($C$20:$C$9999=C88,$P$20:$P$9999)),\"\")","v":""},"","",null,null,"",0,null,null,0,0,0,0,0,0,0,0,0,0,0,0,0,0,0,0,0,0,0,0,0,0,0,0,0,0,0,0,0,0,0,0,0,0,0,0,0,0,0,0,0,0,0,0,0,0,0,0,0,0,0,0,0,0,0,0,0,0,0,0,0,0,0,0,0,0,0,0,0,0,0,0,0,0,0,0,0,0,0,0,0,0,0,0,0,0,0,0,0,0,0,0,0,0,0,0,0,0,0,0,0,null,""]
["","",null,null,null,null,null,null,null,null,{"$f":"IFERROR(_xlfn.SINGLE(IF($F89=\"End\",PlannedFinish($C89,$P$9,$P$10,$P$11,$P$12,ROW()),IF(F89=\"Start\",M89,#NAME?(F89,G89,VLOOKUP(G89,$B$20:$P$9999,COLUMN(O$19)-1,FALSE),VLOOKUP($G89,$B$20:$P$9999,COLUMN(P$19)-1,FALSE),H89))))+IF(AND($J89<0,$F89=\"Finish to Start\"),$J89,0)+IF($J89>0,$J89,0),\"\")","v":""},{"$f":"IFERROR(IF(F89=\"End\",$O89,IF(F89=\"Start\",K89,PlannedStart(F89,G89,VLOOKUP(G89,$B$20:$P$9999,12,FALSE),VLOOKUP($G89,$B$20:$P$9999,13,FALSE),H89,O89))),$L$15)","v":""},null,null,"","",null,0,0,"",{"$f":"IF(F89=\"End\",MAX(IF($C$20:$C$9999=C89,$P$20:$P$9999)),\"\")","v":""},"","",null,null,"",0,null,null,0,0,0,0,0,0,0,0,0,0,0,0,0,0,0,0,0,0,0,0,0,0,0,0,0,0,0,0,0,0,0,0,0,0,0,0,0,0,0,0,0,0,0,0,0,0,0,0,0,0,0,0,0,0,0,0,0,0,0,0,0,0,0,0,0,0,0,{"$f":"IF(AND(CS$14>=$O89,CS$14<$P89),1+$AA89,IF(AND(ROUND(CS$14,0)>=$O89,ROUND(CS$14,0)<=$P89,OR($F89=\"Start\",$F89=\"End\")),10,0))","v":0},0,0,0,0,0,0,0,0,0,{"$f":"IF(AND(DC$14>=$O89,DC$14<$P89),1+$AA89,IF(AND(ROUND(DC$14,0)>=$O89,ROUND(DC$14,0)<=$P89,OR($F89=\"Start\",$F89=\"End\")),10,0))","v":0},0,0,0,0,0,0,0,0,0,0,0,0,0,0,0,0,0,0,0,0,0,0,0,null,""]
["","",null,null,null,null,null,null,null,null,{"$f":"IFERROR(_xlfn.SINGLE(IF($F90=\"End\",PlannedFinish($C90,$P$9,$P$10,$P$11,$P$12,ROW()),IF(F90=\"Start\",M90,#NAME?(F90,G90,VLOOKUP(G90,$B$20:$P$9999,COLUMN(O$19)-1,FALSE),VLOOKUP($G90,$B$20:$P$9999,COLUMN(P$19)-1,FALSE),H90))))+IF(AND($J90<0,$F90=\"Finish to Start\"),$J90,0)+IF($J90>0,$J90,0),\"\")","v":""},{"$f":"IFERROR(IF(F90=\"End\",$O90,IF(F90=\"Start\",K90,PlannedStart(F90,G90,VLOOKUP(G90,$B$20:$P$9999,12,FALSE),VLOOKUP($G90,$B$20:$P$9999,13,FALSE),H90,O90))),$L$15)","v":""},null,null,"","",null,0,0,"",{"$f":"IF(F90=\"End\",MAX(IF($C$20:$C$9999=C90,$P$20:$P$9999)),\"\")","v":""},"","",null,null,"",0,null,null,0,0,0,0,0,0,0,0,0,0,0,0,0,0,0,0,0,0,0,0,0,0,0,0,0,0,0,0,0,0,0,0,0,0,0,0,0,0,0,0,0,0,0,0,0,0,0,0,0,0,0,0,0,0,0,0,0,0,0,0,0,0,0,0,{"$f":"IF(AND(CP$14>=$O90,CP$14<$P90),1+$AA90,IF(AND(ROUND(CP$14,0)>=$O90,ROUND(CP$14,0)<=$P90,OR($F90=\"Start\",$F90=\"End\")),10,0))","v":0},0,0,0,0,0,0,0,0,0,0,0,0,0,0,0,0,0,0,0,0,0,0,0,0,0,0,0,0,0,0,0,0,0,0,0,0,null,""]
["","",null,null,null,null,null,null,null,null,{"$f":"IFERROR(_xlfn.SINGLE(IF($F91=\"End\",PlannedFinish($C91,$P$9,$P$10,$P$11,$P$12,ROW()),IF(F91=\"Start\",M91,#NAME?(F91,G91,VLOOKUP(G91,$B$20:$P$9999,COLUMN(O$19)-1,FALSE),VLOOKUP($G91,$B$20:$P$9999,COLUMN(P$19)-1,FALSE),H91))))+IF(AND($J91<0,$F91=\"Finish to Start\"),$J91,0)+IF($J91>0,$J91,0),\"\")","v":""},{"$f":"IFERROR(IF(F91=\"End\",$O91,IF(F91=\"Start\",K91,PlannedStart(F91,G91,VLOOKUP(G91,$B$20:$P$9999,12,FALSE),VLOOKUP($G91,$B$20:$P$9999,13,FALSE),H91,O91))),$L$15)","v":""},null,null,"","",null,0,0,"",{"$f":"IF(F91=\"End\",MAX(IF($C$20:$C$9999=C91,$P$20:$P$9999)),\"\")","v":""},"","",null,null,"",0,null,null,0,0,0,0,0,0,0,0,0,0,0,0,0,0,0,0,0,0,0,0,0,0,0,0,0,0,0,0,0,0,0,0,0,0,0,0,0,0,0,0,0,0,0,0,0,0,0,0,0,0,0,0,0,0,0,0,0,0,0,0,0,0,0,0,0,0,0,0,0,0,0,0,0,0,0,0,0,0,0,0,0,0,0,0,0,0,0,0,0,0,0,0,0,0,0,0,0,0,0,0,0,null,""]
["","",null,null,null,null,null,null,null,null,{"$f":"IFERROR(_xlfn.SINGLE(IF($F92=\"End\",PlannedFinish($C92,$P$9,$P$10,$P$11,$P$12,ROW()),IF(F92=\"Start\",M92,#NAME?(F92,G92,VLOOKUP(G92,$B$20:$P$9999,COLUMN(O$19)-1,FALSE),VLOOKUP($G92,$B$20:$P$9999,COLUMN(P$19)-1,FALSE),H92))))+IF(AND($J92<0,$F92=\"Finish to Start\"),$J92,0)+IF($J92>0,$J92,0),\"\")","v":""},{"$f":"IFERROR(IF(F92=\"End\",$O92,IF(F92=\"Start\",K92,PlannedStart(F92,G92,VLOOKUP(G92,$B$20:$P$9999,12,FALSE),VLOOKUP($G92,$B$20:$P$9999,13,FALSE),H92,O92))),$L$15)","v":""},null,null,"","",null,0,0,"",{"$f":"IF(F92=\"End\",MAX(IF($C$20:$C$9999=C92,$P$20:$P$9999)),\"\")","v":""},"","",null,null,"",0,null,null,0,0,0,0,0,0,0,0,0,0,0,0,0,0,0,0,0,0,0,0,0,0,0,0,0,0,0,0,0,0,0,0,0,0,0,0,0,0,0,0,0,0,0,0,0,0,0,0,0,0,0,0,0,0,0,0,0,0,0,0,0,0,0,0,0,0,0,0,0,0,0,0,0,0,0,0,0,0,0,0,0,0,0,0,0,0,0,0,0,0,0,0,0,0,0,0,0,0,0,0,0,null,""]
["","",null,null,null,null,null,null,null,null,{"$f":"IFERROR(_xlfn.SINGLE(IF($F93=\"End\",PlannedFinish($C93,$P$9,$P$10,$P$11,$P$12,ROW()),IF(F93=\"Start\",M93,#NAME?(F93,G93,VLOOKUP(G93,$B$20:$P$9999,COLUMN(O$19)-1,FALSE),VLOOKUP($G93,$B$20:$P$9999,COLUMN(P$19)-1,FALSE),H93))))+IF(AND($J93<0,$F93=\"Finish to Start\"),$J93,0)+IF($J93>0,$J93,0),\"\")","v":""},{"$f":"IFERROR(IF(F93=\"End\",$O93,IF(F93=\"Start\",K93,PlannedStart(F93,G93,VLOOKUP(G93,$B$20:$P$9999,12,FALSE),VLOOKUP($G93,$B$20:$P$9999,13,FALSE),H93,O93))),$L$15)","v":""},null,null,"","",null,0,0,"",{"$f":"IF(F93=\"End\",MAX(IF($C$20:$C$9999=C93,$P$20:$P$9999)),\"\")","v":""},"","",null,null,"",0,null,null,0,0,0,0,0,0,0,0,0,0,0,0,0,0,0,0,0,0,0,0,0,0,0,0,0,0,0,0,0,0,0,0,0,0,0,0,0,0,0,0,0,0,0,0,0,0,0,0,0,0,0,0,0,0,0,0,0,0,0,0,0,0,0,0,0,0,0,0,0,0,0,0,0,0,0,0,0,0,0,0,0,0,0,0,0,0,0,0,0,0,0,0,{"$f":"IF(AND(DR$14>=$O93,DR$14<$P93),1+$AA93,IF(AND(ROUND(DR$14,0)>=$O93,ROUND(DR$14,0)<=$P93,OR($F93=\"Start\",$F93=\"End\")),10,0))","v":0},0,0,0,0,0,0,0,0,null,""]
["","",null,null,null,null,null,null,null,null,{"$f":"IFERROR(_xlfn.SINGLE(IF($F94=\"End\",PlannedFinish($C94,$P$9,$P$10,$P$11,$P$12,ROW()),IF(F94=\"Start\",M94,#NAME?(F94,G94,VLOOKUP(G94,$B$20:$P$9999,COLUMN(O$19)-1,FALSE),VLOOKUP($G94,$B$20:$P$9999,COLUMN(P$19)-1,FALSE),H94))))+IF(AND($J94<0,$F94=\"Finish to Start\"),$J94,0)+IF($J94>0,$J94,0),\"\")","v":""},{"$f":"IFERROR(IF(F94=\"End\",$O94,IF(F94=\"Start\",K94,PlannedStart(F94,G94,VLOOKUP(G94,$B$20:$P$9999,12,FALSE),VLOOKUP($G94,$B$20:$P$9999,13,FALSE),H94,O94))),$L$15)","v":""},null,null,"","",null,0,0,"",{"$f":"IF(F94=\"End\",MAX(IF($C$20:$C$9999=C94,$P$20:$P$9999)),\"\")","v":""},"","",null,null,"",0,null,null,{"$f":"IF(AND(AD$14>=$O94,AD$14<$P94),1+$AA94,IF(AND(ROUND(AD$14,0)>=$O94,ROUND(AD$14,0)<=$P94,OR($F94=\"Start\",$F94=\"End\")),10,0))","v":0},0,0,0,0,0,0,0,0,0,{"$f":"IF(AND(AN$14>=$O94,AN$14<$P94),1+$AA94,IF(AND(ROUND(AN$14,0)>=$O94,ROUND(AN$14,0)<=$P94,OR($F94=\"Start\",$F94=\"End\")),10,0))","v":0},0,0,0,0,0,0,0,0,0,{"$f":"IF(AND(AX$14>=$O94,AX$14<$P94),1+$AA94,IF(AND(ROUND(AX$14,0)>=$O94,ROUND(AX$14,0)<=$P94,OR($F94=\"Start\",$F94=\"End\")),10,0))","v":0},0,0,0,0,0,0,0,0,0,{"$f":"IF(AND(BH$14>=$O94,BH$14<$P94),1+$AA94,IF(AND(ROUND(BH$14,0)>=$O94,ROUND(BH$14,0)<=$P94,OR($F94=\"Start\",$F94=\"End\")),10,0))","v":0},0,0,0,0,0,0,0,0,0,{"$f":"IF(AND(BR$14>=$O94,BR$14<$P94),1+$AA94,IF(AND(ROUND(BR$14,0)>=$O94,ROUND(BR$14,0)<=$P94,OR($F94=\"Start\",$F94=\"End\")),10,0))","v":0},0,0,0,0,0,0,0,0,0,{"$f":"IF(AND(CB$14>=$O94,CB$14<$P94),1+$AA94,IF(AND(ROUND(CB$14,0)>=$O94,ROUND(CB$14,0)<=$P94,OR($F94=\"Start\",$F94=\"End\")),10,0))","v":0},0,0,0,0,0,0,0,0,0,0,0,0,0,0,0,0,0,0,0,0,0,0,0,0,0,0,0,0,0,0,0,0,0,0,0,0,0,0,0,0,0,0,0,0,0,0,0,0,0,0,null,""]
["","",null,null,null,null,null,null,null,null,{"$f":"IFERROR(_xlfn.SINGLE(IF($F95=\"End\",PlannedFinish($C95,$P$9,$P$10,$P$11,$P$12,ROW()),IF(F95=\"Start\",M95,#NAME?(F95,G95,VLOOKUP(G95,$B$20:$P$9999,COLUMN(O$19)-1,FALSE),VLOOKUP($G95,$B$20:$P$9999,COLUMN(P$19)-1,FALSE),H95))))+IF(AND($J95<0,$F95=\"Finish to Start\"),$J95,0)+IF($J95>0,$J95,0),\"\")","v":""},{"$f":"IFERROR(IF(F95=\"End\",$O95,IF(F95=\"Start\",K95,PlannedStart(F95,G95,VLOOKUP(G95,$B$20:$P$9999,12,FALSE),VLOOKUP($G95,$B$20:$P$9999,13,FALSE),H95,O95))),$L$15)","v":""},null,null,"","",null,0,0,"",{"$f":"IF(F95=\"End\",MAX(IF($C$20:$C$9999=C95,$P$20:$P$9999)),\"\")","v":""},"","",null,null,"",0,null,null,0,0,0,0,0,0,0,0,0,0,0,0,0,0,0,0,0,0,0,0,0,0,0,0,0,0,0,0,0,0,0,0,0,0,0,0,0,0,0,0,0,0,0,0,0,0,0,0,0,0,0,0,0,0,0,0,0,0,0,0,0,0,0,0,0,0,0,0,0,0,0,0,0,0,0,0,0,0,0,0,0,0,0,0,0,0,0,0,0,0,0,0,0,0,0,0,0,0,0,0,0,null,""]
["","",null,null,null,null,null,null,null,null,{"$f":"IFERROR(_xlfn.SINGLE(IF($F96=\"End\",PlannedFinish($C96,$P$9,$P$10,$P$11,$P$12,ROW()),IF(F96=\"Start\",M96,#NAME?(F96,G96,VLOOKUP(G96,$B$20:$P$9999,COLUMN(O$19)-1,FALSE),VLOOKUP($G96,$B$20:$P$9999,COLUMN(P$19)-1,FALSE),H96))))+IF(AND($J96<0,$F96=\"Finish to Start\"),$J96,0)+IF($J96>0,$J96,0),\"\")","v":""},{"$f":"IFERROR(IF(F96=\"End\",$O96,IF(F96=\"Start\",K96,PlannedStart(F96,G96,VLOOKUP(G96,$B$20:$P$9999,12,FALSE),VLOOKUP($G96,$B$20:$P$9999,13,FALSE),H96,O96))),$L$15)","v":""},null,null,"","",null,0,0,"",{"$f":"IF(F96=\"End\",MAX(IF($C$20:$C$9999=C96,$P$20:$P$9999)),\"\")","v":""},"","",null,null,"",0,null,null,0,0,0,0,0,0,0,0,0,0,0,0,0,0,0,0,0,0,0,0,0,0,0,0,0,0,0,0,0,0,0,0,0,0,0,0,0,0,0,0,0,0,0,0,0,0,0,0,0,0,0,0,0,0,0,0,0,0,0,0,0,0,0,0,0,0,0,0,0,0,0,0,0,0,0,0,0,0,0,0,0,0,0,0,0,0,0,0,0,0,0,0,0,0,0,0,0,0,0,0,0,null,""]
["","",null,null,null,null,null,null,null,null,{"$f":"IFERROR(_xlfn.SINGLE(IF($F97=\"End\",PlannedFinish($C97,$P$9,$P$10,$P$11,$P$12,ROW()),IF(F97=\"Start\",M97,#NAME?(F97,G97,VLOOKUP(G97,$B$20:$P$9999,COLUMN(O$19)-1,FALSE),VLOOKUP($G97,$B$20:$P$9999,COLUMN(P$19)-1,FALSE),H97))))+IF(AND($J97<0,$F97=\"Finish to Start\"),$J97,0)+IF($J97>0,$J97,0),\"\")","v":""},{"$f":"IFERROR(IF(F97=\"End\",$O97,IF(F97=\"Start\",K97,PlannedStart(F97,G97,VLOOKUP(G97,$B$20:$P$9999,12,FALSE),VLOOKUP($G97,$B$20:$P$9999,13,FALSE),H97,O97))),$L$15)","v":""},null,null,"","",null,0,0,"",{"$f":"IF(F97=\"End\",MAX(IF($C$20:$C$9999=C97,$P$20:$P$9999)),\"\")","v":""},"","",null,null,"",0,null,null,0,0,0,0,0,0,0,0,0,0,0,0,0,0,0,0,0,0,0,0,0,0,0,0,0,0,0,0,0,0,0,0,0,0,0,0,0,0,0,0,0,0,0,0,0,0,0,0,0,0,0,0,0,0,0,0,0,0,0,0,0,0,0,0,0,0,0,0,0,0,0,0,0,0,0,0,0,0,0,0,0,0,0,0,0,0,0,0,0,0,0,0,0,0,0,0,0,0,0,0,0,null,""]
["","",null,null,null,null,null,null,null,null,{"$f":"IFERROR(_xlfn.SINGLE(IF($F98=\"End\",PlannedFinish($C98,$P$9,$P$10,$P$11,$P$12,ROW()),IF(F98=\"Start\",M98,#NAME?(F98,G98,VLOOKUP(G98,$B$20:$P$9999,COLUMN(O$19)-1,FALSE),VLOOKUP($G98,$B$20:$P$9999,COLUMN(P$19)-1,FALSE),H98))))+IF(AND($J98<0,$F98=\"Finish to Start\"),$J98,0)+IF($J98>0,$J98,0),\"\")","v":""},{"$f":"IFERROR(IF(F98=\"End\",$O98,IF(F98=\"Start\",K98,PlannedStart(F98,G98,VLOOKUP(G98,$B$20:$P$9999,12,FALSE),VLOOKUP($G98,$B$20:$P$9999,13,FALSE),H98,O98))),$L$15)","v":""},null,null,"","",null,0,0,"",{"$f":"IF(F98=\"End\",MAX(IF($C$20:$C$9999=C98,$P$20:$P$9999)),\"\")","v":""},"","",null,null,"",0,null,null,0,0,0,0,0,0,0,0,0,0,0,0,0,0,0,0,0,0,0,0,0,0,0,0,0,0,0,0,0,0,0,0,0,0,0,0,0,0,0,0,0,0,0,0,0,0,0,0,0,0,0,0,0,0,0,0,0,0,0,0,0,0,0,0,0,0,0,0,0,0,0,0,0,0,0,0,0,0,0,0,0,0,0,0,0,0,0,0,0,0,0,0,0,0,0,0,0,0,0,0,0,null,""]
["","",null,null,null,null,null,null,null,null,{"$f":"IFERROR(_xlfn.SINGLE(IF($F99=\"End\",PlannedFinish($C99,$P$9,$P$10,$P$11,$P$12,ROW()),IF(F99=\"Start\",M99,#NAME?(F99,G99,VLOOKUP(G99,$B$20:$P$9999,COLUMN(O$19)-1,FALSE),VLOOKUP($G99,$B$20:$P$9999,COLUMN(P$19)-1,FALSE),H99))))+IF(AND($J99<0,$F99=\"Finish to Start\"),$J99,0)+IF($J99>0,$J99,0),\"\")","v":""},{"$f":"IFERROR(IF(F99=\"End\",$O99,IF(F99=\"Start\",K99,PlannedStart(F99,G99,VLOOKUP(G99,$B$20:$P$9999,12,FALSE),VLOOKUP($G99,$B$20:$P$9999,13,FALSE),H99,O99))),$L$15)","v":""},null,null,"","",null,0,0,"",{"$f":"IF(F99=\"End\",MAX(IF($C$20:$C$9999=C99,$P$20:$P$9999)),\"\")","v":""},"","",null,null,"",0,null,null,0,0,0,0,0,0,0,0,0,0,0,0,0,0,0,0,0,0,0,0,0,0,0,0,0,0,0,0,0,0,0,0,0,0,0,0,0,0,0,0,0,0,0,0,0,0,0,0,0,0,0,0,0,0,0,0,0,0,0,0,0,0,0,0,0,0,0,{"$f":"IF(AND(CS$14>=$O99,CS$14<$P99),1+$AA99,IF(AND(ROUND(CS$14,0)>=$O99,ROUND(CS$14,0)<=$P99,OR($F99=\"Start\",$F99=\"End\")),10,0))","v":0},0,0,0,0,0,0,0,0,0,{"$f":"IF(AND(DC$14>=$O99,DC$14<$P99),1+$AA99,IF(AND(ROUND(DC$14,0)>=$O99,ROUND(DC$14,0)<=$P99,OR($F99=\"Start\",$F99=\"End\")),10,0))","v":0},0,0,0,0,0,0,0,0,0,0,0,0,0,0,0,0,0,0,0,0,0,0,0,null,""]
["","",null,null,null,null,null,null,null,null,{"$f":"IFERROR(_xlfn.SINGLE(IF($F100=\"End\",PlannedFinish($C100,$P$9,$P$10,$P$11,$P$12,ROW()),IF(F100=\"Start\",M100,#NAME?(F100,G100,VLOOKUP(G100,$B$20:$P$9999,COLUMN(O$19)-1,FALSE),VLOOKUP($G100,$B$20:$P$9999,COLUMN(P$19)-1,FALSE),H100))))+IF(AND($J100<0,$F100=\"Finish to Start\"),$J100,0)+IF($J100>0,$J100,0),\"\")","v":""},{"$f":"IFERROR(IF(F100=\"End\",$O100,IF(F100=\"Start\",K100,PlannedStart(F100,G100,VLOOKUP(G100,$B$20:$P$9999,12,FALSE),VLOOKUP($G100,$B$20:$P$9999,13,FALSE),H100,O100))),$L$15)","v":""},null,null,"","",null,0,0,"",{"$f":"IF(F100=\"End\",MAX(IF($C$20:$C$9999=C100,$P$20:$P$9999)),\"\")","v":""},"","",null,null,"",0,null,null,0,0,0,0,0,0,0,0,0,0,0,0,0,0,0,0,0,0,0,0,0,0,0,0,0,0,0,0,0,0,0,0,0,0,0,0,0,0,0,0,0,0,0,0,0,0,0,0,0,0,0,0,0,0,0,0,0,0,0,0,0,0,0,0,0,0,0,0,0,0,0,0,0,0,0,0,0,0,0,0,0,0,0,0,0,0,0,0,0,0,0,0,0,0,0,0,0,0,0,0,0,null,""]
["","",null,null,null,null,null,null,null,null,{"$f":"IFERROR(_xlfn.SINGLE(IF($F101=\"End\",PlannedFinish($C101,$P$9,$P$10,$P$11,$P$12,ROW()),IF(F101=\"Start\",M101,#NAME?(F101,G101,VLOOKUP(G101,$B$20:$P$9999,COLUMN(O$19)-1,FALSE),VLOOKUP($G101,$B$20:$P$9999,COLUMN(P$19)-1,FALSE),H101))))+IF(AND($J101<0,$F101=\"Finish to Start\"),$J101,0)+IF($J101>0,$J101,0),\"\")","v":""},{"$f":"IFERROR(IF(F101=\"End\",$O101,IF(F101=\"Start\",K101,PlannedStart(F101,G101,VLOOKUP(G101,$B$20:$P$9999,12,FALSE),VLOOKUP($G101,$B$20:$P$9999,13,FALSE),H101,O101))),$L$15)","v":""},null,null,"","",null,0,0,"",{"$f":"IF(F101=\"End\",MAX(IF($C$20:$C$9999=C101,$P$20:$P$9999)),\"\")","v":""},"","",null,null,"",0,null,null,0,0,0,0,0,0,0,0,0,0,0,0,0,0,0,0,0,0,0,0,0,0,0,0,0,0,0,0,0,0,0,0,0,0,0,0,0,0,0,0,0,0,0,0,0,0,0,0,0,0,0,0,0,0,0,0,0,0,0,0,0,0,0,0,0,0,0,0,0,0,0,0,0,0,0,0,0,0,0,0,0,0,0,0,0,0,0,0,0,0,0,0,0,0,0,0,0,0,0,0,0,null,""]
["","",null,null,null,null,null,null,null,null,{"$f":"IFERROR(_xlfn.SINGLE(IF($F102=\"End\",PlannedFinish($C102,$P$9,$P$10,$P$11,$P$12,ROW()),IF(F102=\"Start\",M102,#NAME?(F102,G102,VLOOKUP(G102,$B$20:$P$9999,COLUMN(O$19)-1,FALSE),VLOOKUP($G102,$B$20:$P$9999,COLUMN(P$19)-1,FALSE),H102))))+IF(AND($J102<0,$F102=\"Finish to Start\"),$J102,0)+IF($J102>0,$J102,0),\"\")","v":""},{"$f":"IFERROR(IF(F102=\"End\",$O102,IF(F102=\"Start\",K102,PlannedStart(F102,G102,VLOOKUP(G102,$B$20:$P$9999,12,FALSE),VLOOKUP($G102,$B$20:$P$9999,13,FALSE),H102,O102))),$L$15)","v":""},null,null,"","",null,0,0,"",{"$f":"IF(F102=\"End\",MAX(IF($C$20:$C$9999=C102,$P$20:$P$9999)),\"\")","v":""},"","",null,null,"",0,null,null,0,0,0,0,0,0,0,0,0,0,0,0,0,0,0,0,0,0,0,0,0,0,0,0,0,0,0,0,0,0,0,0,0,0,0,0,0,0,0,0,0,0,0,0,0,0,0,0,0,0,0,0,0,0,0,0,0,0,0,0,0,0,0,0,0,0,0,0,0,0,0,0,0,0,0,0,0,0,0,0,0,0,0,0,0,0,0,0,0,0,0,0,0,0,0,0,0,0,0,0,0,null,""]
["","",null,null,null,null,null,null,null,null,{"$f":"IFERROR(_xlfn.SINGLE(IF($F103=\"End\",PlannedFinish($C103,$P$9,$P$10,$P$11,$P$12,ROW()),IF(F103=\"Start\",M103,#NAME?(F103,G103,VLOOKUP(G103,$B$20:$P$9999,COLUMN(O$19)-1,FALSE),VLOOKUP($G103,$B$20:$P$9999,COLUMN(P$19)-1,FALSE),H103))))+IF(AND($J103<0,$F103=\"Finish to Start\"),$J103,0)+IF($J103>0,$J103,0),\"\")","v":""},{"$f":"IFERROR(IF(F103=\"End\",$O103,IF(F103=\"Start\",K103,PlannedStart(F103,G103,VLOOKUP(G103,$B$20:$P$9999,12,FALSE),VLOOKUP($G103,$B$20:$P$9999,13,FALSE),H103,O103))),$L$15)","v":""},null,null,"","",null,0,0,"",{"$f":"IF(F103=\"End\",MAX(IF($C$20:$C$9999=C103,$P$20:$P$9999)),\"\")","v":""},"","",null,null,"",0,null,null,0,0,0,0,0,0,0,0,0,0,0,0,0,0,0,0,0,0,0,0,0,0,0,0,0,0,0,0,0,0,0,0,0,0,0,0,0,0,0,0,0,0,0,0,0,0,0,0,0,0,0,0,0,0,0,0,0,0,0,0,0,0,0,0,0,0,0,0,0,0,0,0,0,0,0,0,0,0,0,0,0,0,0,0,0,0,0,0,0,0,0,0,{"$f":"IF(AND(DR$14>=$O103,DR$14<$P103),1+$AA103,IF(AND(ROUND(DR$14,0)>=$O103,ROUND(DR$14,0)<=$P103,OR($F103=\"Start\",$F103=\"End\")),10,0))","v":0},0,0,0,0,0,0,0,0,null,""]
["","",null,null,null,null,null,null,null,null,{"$f":"IFERROR(_xlfn.SINGLE(IF($F104=\"End\",PlannedFinish($C104,$P$9,$P$10,$P$11,$P$12,ROW()),IF(F104=\"Start\",M104,#NAME?(F104,G104,VLOOKUP(G104,$B$20:$P$9999,COLUMN(O$19)-1,FALSE),VLOOKUP($G104,$B$20:$P$9999,COLUMN(P$19)-1,FALSE),H104))))+IF(AND($J104<0,$F104=\"Finish to Start\"),$J104,0)+IF($J104>0,$J104,0),\"\")","v":""},{"$f":"IFERROR(IF(F104=\"End\",$O104,IF(F104=\"Start\",K104,PlannedStart(F104,G104,VLOOKUP(G104,$B$20:$P$9999,12,FALSE),VLOOKUP($G104,$B$20:$P$9999,13,FALSE),H104,O104))),$L$15)","v":""},null,null,"","",null,0,0,"",{"$f":"IF(F104=\"End\",MAX(IF($C$20:$C$9999=C104,$P$20:$P$9999)),\"\")","v":""},"","",null,null,"",0,null,null,{"$f":"IF(AND(AD$14>=$O104,AD$14<$P104),1+$AA104,IF(AND(ROUND(AD$14,0)>=$O104,ROUND(AD$14,0)<=$P104,OR($F104=\"Start\",$F104=\"End\")),10,0))","v":0},0,0,0,0,0,0,0,0,0,{"$f":"IF(AND(AN$14>=$O104,AN$14<$P104),1+$AA104,IF(AND(ROUND(AN$14,0)>=$O104,ROUND(AN$14,0)<=$P104,OR($F104=\"Start\",$F104=\"End\")),10,0))","v":0},0,0,0,0,0,0,0,0,0,{"$f":"IF(AND(AX$14>=$O104,AX$14<$P104),1+$AA104,IF(AND(ROUND(AX$14,0)>=$O104,ROUND(AX$14,0)<=$P104,OR($F104=\"Start\",$F104=\"End\")),10,0))","v":0},0,0,0,0,0,0,0,0,0,{"$f":"IF(AND(BH$14>=$O104,BH$14<$P104),1+$AA104,IF(AND(ROUND(BH$14,0)>=$O104,ROUND(BH$14,0)<=$P104,OR($F104=\"Start\",$F104=\"End\")),10,0))","v":0},0,0,0,0,0,0,0,0,0,{"$f":"IF(AND(BR$14>=$O104,BR$14<$P104),1+$AA104,IF(AND(ROUND(BR$14,0)>=$O104,ROUND(BR$14,0)<=$P104,OR($F104=\"Start\",$F104=\"End\")),10,0))","v":0},0,0,0,0,0,0,0,0,0,{"$f":"IF(AND(CB$14>=$O104,CB$14<$P104),1+$AA104,IF(AND(ROUND(CB$14,0)>=$O104,ROUND(CB$14,0)<=$P104,OR($F104=\"Start\",$F104=\"End\")),10,0))","v":0},0,0,0,0,0,0,0,0,0,0,0,0,0,0,0,0,0,0,0,0,0,0,0,0,0,0,0,0,0,0,0,0,0,0,0,0,0,0,0,0,0,0,0,0,0,0,0,0,0,0,null,""]
["","",null,null,null,null,null,null,null,null,{"$f":"IFERROR(_xlfn.SINGLE(IF($F105=\"End\",PlannedFinish($C105,$P$9,$P$10,$P$11,$P$12,ROW()),IF(F105=\"Start\",M105,#NAME?(F105,G105,VLOOKUP(G105,$B$20:$P$9999,COLUMN(O$19)-1,FALSE),VLOOKUP($G105,$B$20:$P$9999,COLUMN(P$19)-1,FALSE),H105))))+IF(AND($J105<0,$F105=\"Finish to Start\"),$J105,0)+IF($J105>0,$J105,0),\"\")","v":""},{"$f":"IFERROR(IF(F105=\"End\",$O105,IF(F105=\"Start\",K105,PlannedStart(F105,G105,VLOOKUP(G105,$B$20:$P$9999,12,FALSE),VLOOKUP($G105,$B$20:$P$9999,13,FALSE),H105,O105))),$L$15)","v":""},null,null,"","",null,0,0,"",{"$f":"IF(F105=\"End\",MAX(IF($C$20:$C$9999=C105,$P$20:$P$9999)),\"\")","v":""},"","",null,null,"",0,null,null,0,0,0,0,0,0,0,0,0,0,0,0,0,0,0,0,0,0,0,0,0,0,0,0,0,0,0,0,0,0,0,0,0,0,0,0,0,0,0,0,0,0,0,0,0,0,0,0,0,0,0,0,0,0,0,0,0,0,0,0,0,0,0,0,0,0,0,0,0,0,0,0,0,0,0,0,0,0,0,0,0,0,0,0,0,0,0,0,0,0,0,0,0,0,0,0,0,0,0,0,0,null,""]
["","",null,null,null,null,null,null,null,null,{"$f":"IFERROR(_xlfn.SINGLE(IF($F106=\"End\",PlannedFinish($C106,$P$9,$P$10,$P$11,$P$12,ROW()),IF(F106=\"Start\",M106,#NAME?(F106,G106,VLOOKUP(G106,$B$20:$P$9999,COLUMN(O$19)-1,FALSE),VLOOKUP($G106,$B$20:$P$9999,COLUMN(P$19)-1,FALSE),H106))))+IF(AND($J106<0,$F106=\"Finish to Start\"),$J106,0)+IF($J106>0,$J106,0),\"\")","v":""},{"$f":"IFERROR(IF(F106=\"End\",$O106,IF(F106=\"Start\",K106,PlannedStart(F106,G106,VLOOKUP(G106,$B$20:$P$9999,12,FALSE),VLOOKUP($G106,$B$20:$P$9999,13,FALSE),H106,O106))),$L$15)","v":""},null,null,"","",null,0,0,"",{"$f":"IF(F106=\"End\",MAX(IF($C$20:$C$9999=C106,$P$20:$P$9999)),\"\")","v":""},"","",null,null,"",0,null,null,0,0,0,0,0,0,0,0,0,0,0,0,0,0,0,0,0,0,0,0,0,0,0,0,0,0,0,0,0,0,0,0,0,0,0,0,0,0,0,0,0,0,0,0,0,0,0,0,0,0,0,0,0,0,0,0,0,0,0,0,0,0,0,0,0,0,0,0,0,0,0,0,0,0,0,0,0,0,0,0,0,0,0,0,0,0,0,0,0,0,0,0,0,0,0,0,0,0,0,0,0,null,""]
["","",null,null,null,null,null,null,null,null,{"$f":"IFERROR(_xlfn.SINGLE(IF($F107=\"End\",PlannedFinish($C107,$P$9,$P$10,$P$11,$P$12,ROW()),IF(F107=\"Start\",M107,#NAME?(F107,G107,VLOOKUP(G107,$B$20:$P$9999,COLUMN(O$19)-1,FALSE),VLOOKUP($G107,$B$20:$P$9999,COLUMN(P$19)-1,FALSE),H107))))+IF(AND($J107<0,$F107=\"Finish to Start\"),$J107,0)+IF($J107>0,$J107,0),\"\")","v":""},{"$f":"IFERROR(IF(F107=\"End\",$O107,IF(F107=\"Start\",K107,PlannedStart(F107,G107,VLOOKUP(G107,$B$20:$P$9999,12,FALSE),VLOOKUP($G107,$B$20:$P$9999,13,FALSE),H107,O107))),$L$15)","v":""},null,null,"","",null,0,0,"",{"$f":"IF(F107=\"End\",MAX(IF($C$20:$C$9999=C107,$P$20:$P$9999)),\"\")","v":""},"","",null,null,"",0,null,null,0,0,0,0,0,0,0,0,0,0,0,0,0,0,0,0,0,0,0,0,0,0,0,0,0,0,0,0,0,0,0,0,0,0,0,0,0,0,0,0,0,0,0,0,0,0,0,0,0,0,0,0,0,0,0,0,0,0,0,0,0,0,0,0,0,0,0,0,0,0,0,0,0,0,0,0,0,0,0,0,0,0,0,0,0,0,0,0,0,0,0,0,0,0,0,0,0,0,0,0,0,null,""]
["","",null,null,null,null,null,null,null,null,{"$f":"IFERROR(_xlfn.SINGLE(IF($F108=\"End\",PlannedFinish($C108,$P$9,$P$10,$P$11,$P$12,ROW()),IF(F108=\"Start\",M108,#NAME?(F108,G108,VLOOKUP(G108,$B$20:$P$9999,COLUMN(O$19)-1,FALSE),VLOOKUP($G108,$B$20:$P$9999,COLUMN(P$19)-1,FALSE),H108))))+IF(AND($J108<0,$F108=\"Finish to Start\"),$J108,0)+IF($J108>0,$J108,0),\"\")","v":""},{"$f":"IFERROR(IF(F108=\"End\",$O108,IF(F108=\"Start\",K108,PlannedStart(F108,G108,VLOOKUP(G108,$B$20:$P$9999,12,FALSE),VLOOKUP($G108,$B$20:$P$9999,13,FALSE),H108,O108))),$L$15)","v":""},null,null,"","",null,0,0,"",{"$f":"IF(F108=\"End\",MAX(IF($C$20:$C$9999=C108,$P$20:$P$9999)),\"\")","v":""},"","",null,null,"",0,null,null,0,0,0,0,0,0,0,0,0,0,0,0,0,0,0,0,0,0,0,0,0,0,0,0,0,0,0,0,0,0,0,0,0,0,0,0,0,0,0,0,0,0,0,0,0,0,0,0,0,0,0,0,0,0,0,0,0,0,0,0,0,0,0,0,0,0,0,0,0,0,0,0,0,0,0,0,0,0,0,0,0,0,0,0,0,0,0,0,0,0,0,0,0,0,0,0,0,0,0,0,0,null,""]
["","",null,null,null,null,null,null,null,null,{"$f":"IFERROR(_xlfn.SINGLE(IF($F109=\"End\",PlannedFinish($C109,$P$9,$P$10,$P$11,$P$12,ROW()),IF(F109=\"Start\",M109,#NAME?(F109,G109,VLOOKUP(G109,$B$20:$P$9999,COLUMN(O$19)-1,FALSE),VLOOKUP($G109,$B$20:$P$9999,COLUMN(P$19)-1,FALSE),H109))))+IF(AND($J109<0,$F109=\"Finish to Start\"),$J109,0)+IF($J109>0,$J109,0),\"\")","v":""},{"$f":"IFERROR(IF(F109=\"End\",$O109,IF(F109=\"Start\",K109,PlannedStart(F109,G109,VLOOKUP(G109,$B$20:$P$9999,12,FALSE),VLOOKUP($G109,$B$20:$P$9999,13,FALSE),H109,O109))),$L$15)","v":""},null,null,"","",null,0,0,"",{"$f":"IF(F109=\"End\",MAX(IF($C$20:$C$9999=C109,$P$20:$P$9999)),\"\")","v":""},"","",null,null,"",0,null,null,0,0,0,0,0,0,0,0,0,0,0,0,0,0,0,0,0,0,0,0,0,0,0,0,0,0,0,0,0,0,0,0,0,0,0,0,0,0,0,0,0,0,0,0,0,0,0,0,0,0,0,0,0,0,0,0,0,0,0,0,0,0,0,0,0,0,0,{"$f":"IF(AND(CS$14>=$O109,CS$14<$P109),1+$AA109,IF(AND(ROUND(CS$14,0)>=$O109,ROUND(CS$14,0)<=$P109,OR($F109=\"Start\",$F109=\"End\")),10,0))","v":0},0,0,0,0,0,0,0,0,0,{"$f":"IF(AND(DC$14>=$O109,DC$14<$P109),1+$AA109,IF(AND(ROUND(DC$14,0)>=$O109,ROUND(DC$14,0)<=$P109,OR($F109=\"Start\",$F109=\"End\")),10,0))","v":0},0,0,0,0,0,0,0,0,0,0,0,0,0,0,0,0,0,0,0,0,0,0,0,null,""]
["","",null,null,null,null,null,null,null,null,{"$f":"IFERROR(_xlfn.SINGLE(IF($F110=\"End\",PlannedFinish($C110,$P$9,$P$10,$P$11,$P$12,ROW()),IF(F110=\"Start\",M110,#NAME?(F110,G110,VLOOKUP(G110,$B$20:$P$9999,COLUMN(O$19)-1,FALSE),VLOOKUP($G110,$B$20:$P$9999,COLUMN(P$19)-1,FALSE),H110))))+IF(AND($J110<0,$F110=\"Finish to Start\"),$J110,0)+IF($J110>0,$J110,0),\"\")","v":""},{"$f":"IFERROR(IF(F110=\"End\",$O110,IF(F110=\"Start\",K110,PlannedStart(F110,G110,VLOOKUP(G110,$B$20:$P$9999,12,FALSE),VLOOKUP($G110,$B$20:$P$9999,13,FALSE),H110,O110))),$L$15)","v":""},null,null,"","",null,0,0,"",{"$f":"IF(F110=\"End\",MAX(IF($C$20:$C$9999=C110,$P$20:$P$9999)),\"\")","v":""},"","",null,null,"",0,null,null,0,0,0,0,0,0,0,0,0,0,0,0,0,0,0,0,0,0,0,0,0,0,0,0,0,0,0,0,0,0,0,0,0,0,0,0,0,0,0,0,0,0,0,0,0,0,0,0,0,0,0,0,0,0,0,0,0,0,0,0,0,0,0,0,{"$f":"IF(AND(CP$14>=$O110,CP$14<$P110),1+$AA110,IF(AND(ROUND(CP$14,0)>=$O110,ROUND(CP$14,0)<=$P110,OR($F110=\"Start\",$F110=\"End\")),10,0))","v":0},0,0,0,0,0,0,0,0,0,0,0,0,0,0,0,0,0,0,0,0,0,0,0,0,0,0,0,0,0,0,0,0,0,0,0,0,null,""]
["","",null,null,null,null,null,null,null,null,{"$f":"IFERROR(_xlfn.SINGLE(IF($F111=\"End\",PlannedFinish($C111,$P$9,$P$10,$P$11,$P$12,ROW()),IF(F111=\"Start\",M111,#NAME?(F111,G111,VLOOKUP(G111,$B$20:$P$9999,COLUMN(O$19)-1,FALSE),VLOOKUP($G111,$B$20:$P$9999,COLUMN(P$19)-1,FALSE),H111))))+IF(AND($J111<0,$F111=\"Finish to Start\"),$J111,0)+IF($J111>0,$J111,0),\"\")","v":""},{"$f":"IFERROR(IF(F111=\"End\",$O111,IF(F111=\"Start\",K111,PlannedStart(F111,G111,VLOOKUP(G111,$B$20:$P$9999,12,FALSE),VLOOKUP($G111,$B$20:$P$9999,13,FALSE),H111,O111))),$L$15)","v":""},null,null,"","",null,0,0,"",{"$f":"IF(F111=\"End\",MAX(IF($C$20:$C$9999=C111,$P$20:$P$9999)),\"\")","v":""},"","",null,null,"",0,null,null,0,0,0,0,0,0,0,0,0,0,0,0,0,0,0,0,0,0,0,0,0,0,0,0,0,0,0,0,0,0,0,0,0,0,0,0,0,0,0,0,0,0,0,0,0,0,0,0,0,0,0,0,0,0,0,0,0,0,0,0,0,0,0,0,0,0,0,0,0,0,0,0,0,0,0,0,0,0,0,0,0,0,0,0,0,0,0,0,0,0,0,0,0,0,0,0,0,0,0,0,0,null,""]
["","",null,null,null,null,null,null,null,null,{"$f":"IFERROR(_xlfn.SINGLE(IF($F112=\"End\",PlannedFinish($C112,$P$9,$P$10,$P$11,$P$12,ROW()),IF(F112=\"Start\",M112,#NAME?(F112,G112,VLOOKUP(G112,$B$20:$P$9999,COLUMN(O$19)-1,FALSE),VLOOKUP($G112,$B$20:$P$9999,COLUMN(P$19)-1,FALSE),H112))))+IF(AND($J112<0,$F112=\"Finish to Start\"),$J112,0)+IF($J112>0,$J112,0),\"\")","v":""},{"$f":"IFERROR(IF(F112=\"End\",$O112,IF(F112=\"Start\",K112,PlannedStart(F112,G112,VLOOKUP(G112,$B$20:$P$9999,12,FALSE),VLOOKUP($G112,$B$20:$P$9999,13,FALSE),H112,O112))),$L$15)","v":""},null,null,"","",null,0,0,"",{"$f":"IF(F112=\"End\",MAX(IF($C$20:$C$9999=C112,$P$20:$P$9999)),\"\")","v":""},"","",null,null,"",0,null,null,0,0,0,0,0,0,0,0,0,0,0,0,0,0,0,0,0,0,0,0,0,0,0,0,0,0,0,0,0,0,0,0,0,0,0,0,0,0,0,0,0,0,0,0,0,0,0,0,0,0,0,0,0,0,0,0,0,0,0,0,0,0,0,0,0,0,0,0,0,0,0,0,0,0,0,0,0,0,0,0,0,0,0,0,0,0,0,0,0,0,0,0,0,0,0,0,0,0,0,0,0,null,""]
["","",null,null,null,null,null,null,null,null,{"$f":"IFERROR(_xlfn.SINGLE(IF($F113=\"End\",PlannedFinish($C113,$P$9,$P$10,$P$11,$P$12,ROW()),IF(F113=\"Start\",M113,#NAME?(F113,G113,VLOOKUP(G113,$B$20:$P$9999,COLUMN(O$19)-1,FALSE),VLOOKUP($G113,$B$20:$P$9999,COLUMN(P$19)-1,FALSE),H113))))+IF(AND($J113<0,$F113=\"Finish to Start\"),$J113,0)+IF($J113>0,$J113,0),\"\")","v":""},{"$f":"IFERROR(IF(F113=\"End\",$O113,IF(F113=\"Start\",K113,PlannedStart(F113,G113,VLOOKUP(G113,$B$20:$P$9999,12,FALSE),VLOOKUP($G113,$B$20:$P$9999,13,FALSE),H113,O113))),$L$15)","v":""},null,null,"","",null,0,0,"",{"$f":"IF(F113=\"End\",MAX(IF($C$20:$C$9999=C113,$P$20:$P$9999)),\"\")","v":""},"","",null,null,"",0,null,null,0,0,0,0,0,0,0,0,0,0,0,0,0,0,0,0,0,0,0,0,0,0,0,0,0,0,0,0,0,0,0,0,0,0,0,0,0,0,0,0,0,0,0,0,0,0,0,0,0,0,0,0,0,0,0,0,0,0,0,0,0,0,0,0,0,0,0,0,0,0,0,0,0,0,0,0,0,0,0,0,0,0,0,0,0,0,0,0,0,0,0,0,{"$f":"IF(AND(DR$14>=$O113,DR$14<$P113),1+$AA113,IF(AND(ROUND(DR$14,0)>=$O113,ROUND(DR$14,0)<=$P113,OR($F113=\"Start\",$F113=\"End\")),10,0))","v":0},0,0,0,0,0,0,0,0,null,""]
["","",null,null,null,null,null,null,null,null,{"$f":"IFERROR(_xlfn.SINGLE(IF($F114=\"End\",PlannedFinish($C114,$P$9,$P$10,$P$11,$P$12,ROW()),IF(F114=\"Start\",M114,#NAME?(F114,G114,VLOOKUP(G114,$B$20:$P$9999,COLUMN(O$19)-1,FALSE),VLOOKUP($G114,$B$20:$P$9999,COLUMN(P$19)-1,FALSE),H114))))+IF(AND($J114<0,$F114=\"Finish to Start\"),$J114,0)+IF($J114>0,$J114,0),\"\")","v":""},{"$f":"IFERROR(IF(F114=\"End\",$O114,IF(F114=\"Start\",K114,PlannedStart(F114,G114,VLOOKUP(G114,$B$20:$P$9999,12,FALSE),VLOOKUP($G114,$B$20:$P$9999,13,FALSE),H114,O114))),$L$15)","v":""},null,null,"","",null,0,0,"",{"$f":"IF(F114=\"End\",MAX(IF($C$20:$C$9999=C114,$P$20:$P$9999)),\"\")","v":""},"","",null,null,"",0,null,null,{"$f":"IF(AND(AD$14>=$O114,AD$14<$P114),1+$AA114,IF(AND(ROUND(AD$14,0)>=$O114,ROUND(AD$14,0)<=$P114,OR($F114=\"Start\",$F114=\"End\")),10,0))","v":0},0,0,0,0,0,0,0,0,0,{"$f":"IF(AND(AN$14>=$O114,AN$14<$P114),1+$AA114,IF(AND(ROUND(AN$14,0)>=$O114,ROUND(AN$14,0)<=$P114,OR($F114=\"Start\",$F114=\"End\")),10,0))","v":0},0,0,0,0,0,0,0,0,0,{"$f":"IF(AND(AX$14>=$O114,AX$14<$P114),1+$AA114,IF(AND(ROUND(AX$14,0)>=$O114,ROUND(AX$14,0)<=$P114,OR($F114=\"Start\",$F114=\"End\")),10,0))","v":0},0,0,0,0,0,0,0,0,0,{"$f":"IF(AND(BH$14>=$O114,BH$14<$P114),1+$AA114,IF(AND(ROUND(BH$14,0)>=$O114,ROUND(BH$14,0)<=$P114,OR($F114=\"Start\",$F114=\"End\")),10,0))","v":0},0,0,0,0,0,0,0,0,0,{"$f":"IF(AND(BR$14>=$O114,BR$14<$P114),1+$AA114,IF(AND(ROUND(BR$14,0)>=$O114,ROUND(BR$14,0)<=$P114,OR($F114=\"Start\",$F114=\"End\")),10,0))","v":0},0,0,0,0,0,0,0,0,0,{"$f":"IF(AND(CB$14>=$O114,CB$14<$P114),1+$AA114,IF(AND(ROUND(CB$14,0)>=$O114,ROUND(CB$14,0)<=$P114,OR($F114=\"Start\",$F114=\"End\")),10,0))","v":0},0,0,0,0,0,0,0,0,0,0,0,0,0,0,0,0,0,0,0,0,0,0,0,0,0,0,0,0,0,0,0,0,0,0,0,0,0,0,0,0,0,0,0,0,0,0,0,0,0,0,null,""]
["","",null,null,null,null,null,null,null,null,{"$f":"IFERROR(_xlfn.SINGLE(IF($F115=\"End\",PlannedFinish($C115,$P$9,$P$10,$P$11,$P$12,ROW()),IF(F115=\"Start\",M115,#NAME?(F115,G115,VLOOKUP(G115,$B$20:$P$9999,COLUMN(O$19)-1,FALSE),VLOOKUP($G115,$B$20:$P$9999,COLUMN(P$19)-1,FALSE),H115))))+IF(AND($J115<0,$F115=\"Finish to Start\"),$J115,0)+IF($J115>0,$J115,0),\"\")","v":""},{"$f":"IFERROR(IF(F115=\"End\",$O115,IF(F115=\"Start\",K115,PlannedStart(F115,G115,VLOOKUP(G115,$B$20:$P$9999,12,FALSE),VLOOKUP($G115,$B$20:$P$9999,13,FALSE),H115,O115))),$L$15)","v":""},null,null,"","",null,0,0,"",{"$f":"IF(F115=\"End\",MAX(IF($C$20:$C$9999=C115,$P$20:$P$9999)),\"\")","v":""},"","",null,null,"",0,null,null,0,0,0,0,0,0,0,0,0,0,0,0,0,0,0,0,0,0,0,0,0,0,0,0,0,0,0,0,0,0,0,0,0,0,0,0,0,0,0,0,0,0,0,0,0,0,0,0,0,0,0,0,0,0,0,0,0,0,0,0,0,0,0,0,0,0,0,0,0,0,0,0,0,0,0,0,0,0,0,0,0,0,0,0,0,0,0,0,0,0,0,0,0,0,0,0,0,0,0,0,0,null,""]
["","",null,null,null,null,null,null,null,null,{"$f":"IFERROR(_xlfn.SINGLE(IF($F116=\"End\",PlannedFinish($C116,$P$9,$P$10,$P$11,$P$12,ROW()),IF(F116=\"Start\",M116,#NAME?(F116,G116,VLOOKUP(G116,$B$20:$P$9999,COLUMN(O$19)-1,FALSE),VLOOKUP($G116,$B$20:$P$9999,COLUMN(P$19)-1,FALSE),H116))))+IF(AND($J116<0,$F116=\"Finish to Start\"),$J116,0)+IF($J116>0,$J116,0),\"\")","v":""},{"$f":"IFERROR(IF(F116=\"End\",$O116,IF(F116=\"Start\",K116,PlannedStart(F116,G116,VLOOKUP(G116,$B$20:$P$9999,12,FALSE),VLOOKUP($G116,$B$20:$P$9999,13,FALSE),H116,O116))),$L$15)","v":""},null,null,"","",null,0,0,"",{"$f":"IF(F116=\"End\",MAX(IF($C$20:$C$9999=C116,$P$20:$P$9999)),\"\")","v":""},"","",null,null,"",0,null,null,0,0,0,0,0,0,0,0,0,0,0,0,0,0,0,0,0,0,0,0,0,0,0,0,0,0,0,0,0,0,0,0,0,0,0,0,0,0,0,0,0,0,0,0,0,0,0,0,0,0,0,0,0,0,0,0,0,0,0,0,0,0,0,0,0,0,0,0,0,0,0,0,0,0,0,0,0,0,0,0,0,0,0,0,0,0,0,0,0,0,0,0,0,0,0,0,0,0,0,0,0,null,""]
["","",null,null,null,null,null,null,null,null,{"$f":"IFERROR(_xlfn.SINGLE(IF($F117=\"End\",PlannedFinish($C117,$P$9,$P$10,$P$11,$P$12,ROW()),IF(F117=\"Start\",M117,#NAME?(F117,G117,VLOOKUP(G117,$B$20:$P$9999,COLUMN(O$19)-1,FALSE),VLOOKUP($G117,$B$20:$P$9999,COLUMN(P$19)-1,FALSE),H117))))+IF(AND($J117<0,$F117=\"Finish to Start\"),$J117,0)+IF($J117>0,$J117,0),\"\")","v":""},{"$f":"IFERROR(IF(F117=\"End\",$O117,IF(F117=\"Start\",K117,PlannedStart(F117,G117,VLOOKUP(G117,$B$20:$P$9999,12,FALSE),VLOOKUP($G117,$B$20:$P$9999,13,FALSE),H117,O117))),$L$15)","v":""},null,null,"","",null,0,0,"",{"$f":"IF(F117=\"End\",MAX(IF($C$20:$C$9999=C117,$P$20:$P$9999)),\"\")","v":""},"","",null,null,"",0,null,null,0,0,0,0,0,0,0,0,0,0,0,0,0,0,0,0,0,0,0,0,0,0,0,0,0,0,0,0,0,0,0,0,0,0,0,0,0,0,0,0,0,0,0,0,0,0,0,0,0,0,0,0,0,0,0,0,0,0,0,0,0,0,0,0,0,0,0,0,0,0,0,0,0,0,0,0,0,0,0,0,0,0,0,0,0,0,0,0,0,0,0,0,0,0,0,0,0,0,0,0,0,null,""]
["","",null,null,null,null,null,null,null,null,{"$f":"IFERROR(_xlfn.SINGLE(IF($F118=\"End\",PlannedFinish($C118,$P$9,$P$10,$P$11,$P$12,ROW()),IF(F118=\"Start\",M118,#NAME?(F118,G118,VLOOKUP(G118,$B$20:$P$9999,COLUMN(O$19)-1,FALSE),VLOOKUP($G118,$B$20:$P$9999,COLUMN(P$19)-1,FALSE),H118))))+IF(AND($J118<0,$F118=\"Finish to Start\"),$J118,0)+IF($J118>0,$J118,0),\"\")","v":""},{"$f":"IFERROR(IF(F118=\"End\",$O118,IF(F118=\"Start\",K118,PlannedStart(F118,G118,VLOOKUP(G118,$B$20:$P$9999,12,FALSE),VLOOKUP($G118,$B$20:$P$9999,13,FALSE),H118,O118))),$L$15)","v":""},null,null,"","",null,0,0,"",{"$f":"IF(F118=\"End\",MAX(IF($C$20:$C$9999=C118,$P$20:$P$9999)),\"\")","v":""},"","",null,null,"",0,null,null,0,0,0,0,0,0,0,0,0,0,0,0,0,0,0,0,0,0,0,0,0,0,0,0,0,0,0,0,0,0,0,0,0,0,0,0,0,0,0,0,0,0,0,0,0,0,0,0,0,0,0,0,0,0,0,0,0,0,0,0,0,0,0,0,0,0,0,0,0,0,0,0,0,0,0,0,0,0,0,0,0,0,0,0,0,0,0,0,0,0,0,0,0,0,0,0,0,0,0,0,0,null,""]
["","",null,null,null,null,null,null,null,null,{"$f":"IFERROR(_xlfn.SINGLE(IF($F119=\"End\",PlannedFinish($C119,$P$9,$P$10,$P$11,$P$12,ROW()),IF(F119=\"Start\",M119,#NAME?(F119,G119,VLOOKUP(G119,$B$20:$P$9999,COLUMN(O$19)-1,FALSE),VLOOKUP($G119,$B$20:$P$9999,COLUMN(P$19)-1,FALSE),H119))))+IF(AND($J119<0,$F119=\"Finish to Start\"),$J119,0)+IF($J119>0,$J119,0),\"\")","v":""},{"$f":"IFERROR(IF(F119=\"End\",$O119,IF(F119=\"Start\",K119,PlannedStart(F119,G119,VLOOKUP(G119,$B$20:$P$9999,12,FALSE),VLOOKUP($G119,$B$20:$P$9999,13,FALSE),H119,O119))),$L$15)","v":""},null,null,"","",null,0,0,"",{"$f":"IF(F119=\"End\",MAX(IF($C$20:$C$9999=C119,$P$20:$P$9999)),\"\")","v":""},"","",null,null,"",0,null,null,0,0,0,0,0,0,0,0,0,0,0,0,0,0,0,0,0,0,0,0,0,0,0,0,0,0,0,0,0,0,0,0,0,0,0,0,0,0,0,0,0,0,0,0,0,0,0,0,0,0,0,0,0,0,0,0,0,0,0,0,0,0,0,{"$f":"IF(AND(CO$14>=$O119,CO$14<$P119),1+$AA119,IF(AND(ROUND(CO$14,0)>=$O119,ROUND(CO$14,0)<=$P119,OR($F119=\"Start\",$F119=\"End\")),10,0))","v":0},0,0,0,{"$f":"IF(AND(CS$14>=$O119,CS$14<$P119),1+$AA119,IF(AND(ROUND(CS$14,0)>=$O119,ROUND(CS$14,0)<=$P119,OR($F119=\"Start\",$F119=\"End\")),10,0))","v":0},0,0,0,0,0,0,0,0,0,{"$f":"IF(AND(DC$14>=$O119,DC$14<$P119),1+$AA119,IF(AND(ROUND(DC$14,0)>=$O119,ROUND(DC$14,0)<=$P119,OR($F119=\"Start\",$F119=\"End\")),10,0))","v":0},0,0,0,0,0,0,0,0,0,0,0,0,0,0,0,0,0,0,0,0,0,0,0,null,""]
["","",null,null,null,null,null,null,null,null,{"$f":"IFERROR(_xlfn.SINGLE(IF($F120=\"End\",PlannedFinish($C120,$P$9,$P$10,$P$11,$P$12,ROW()),IF(F120=\"Start\",M120,#NAME?(F120,G120,VLOOKUP(G120,$B$20:$P$9999,COLUMN(O$19)-1,FALSE),VLOOKUP($G120,$B$20:$P$9999,COLUMN(P$19)-1,FALSE),H120))))+IF(AND($J120<0,$F120=\"Finish to Start\"),$J120,0)+IF($J120>0,$J120,0),\"\")","v":""},{"$f":"IFERROR(IF(F120=\"End\",$O120,IF(F120=\"Start\",K120,PlannedStart(F120,G120,VLOOKUP(G120,$B$20:$P$9999,12,FALSE),VLOOKUP($G120,$B$20:$P$9999,13,FALSE),H120,O120))),$L$15)","v":""},null,null,"","",null,0,0,"",{"$f":"IF(F120=\"End\",MAX(IF($C$20:$C$9999=C120,$P$20:$P$9999)),\"\")","v":""},"","",null,null,"",0,null,null,0,0,0,0,0,0,0,0,0,0,0,0,0,0,0,0,0,0,0,0,0,0,0,0,0,0,0,0,0,0,0,0,0,0,0,0,0,0,0,0,0,0,0,0,0,0,0,0,0,0,0,0,0,0,0,0,0,0,0,0,0,0,0,0,0,0,0,0,0,0,0,0,0,0,0,0,0,0,0,0,0,0,0,0,0,0,0,0,0,0,0,0,0,0,0,0,0,0,0,0,0,null,""]
["","",null,null,null,null,null,null,null,null,{"$f":"IFERROR(_xlfn.SINGLE(IF($F121=\"End\",PlannedFinish($C121,$P$9,$P$10,$P$11,$P$12,ROW()),IF(F121=\"Start\",M121,#NAME?(F121,G121,VLOOKUP(G121,$B$20:$P$9999,COLUMN(O$19)-1,FALSE),VLOOKUP($G121,$B$20:$P$9999,COLUMN(P$19)-1,FALSE),H121))))+IF(AND($J121<0,$F121=\"Finish to Start\"),$J121,0)+IF($J121>0,$J121,0),\"\")","v":""},{"$f":"IFERROR(IF(F121=\"End\",$O121,IF(F121=\"Start\",K121,PlannedStart(F121,G121,VLOOKUP(G121,$B$20:$P$9999,12,FALSE),VLOOKUP($G121,$B$20:$P$9999,13,FALSE),H121,O121))),$L$15)","v":""},null,null,"","",null,0,0,"",{"$f":"IF(F121=\"End\",MAX(IF($C$20:$C$9999=C121,$P$20:$P$9999)),\"\")","v":""},"","",null,null,"",0,null,null,0,0,0,0,0,0,0,0,0,0,0,0,0,0,0,0,0,0,0,0,0,0,0,0,0,0,0,0,0,0,0,0,0,0,0,0,0,0,0,0,0,0,0,0,0,0,0,0,0,0,0,0,0,0,0,0,0,0,0,0,0,0,0,0,0,0,0,0,0,0,0,0,0,0,0,0,0,0,0,0,0,0,0,0,0,0,0,0,0,0,0,0,0,0,0,0,0,0,0,0,0,null,""]
["","",null,null,null,null,null,null,null,null,{"$f":"IFERROR(_xlfn.SINGLE(IF($F122=\"End\",PlannedFinish($C122,$P$9,$P$10,$P$11,$P$12,ROW()),IF(F122=\"Start\",M122,#NAME?(F122,G122,VLOOKUP(G122,$B$20:$P$9999,COLUMN(O$19)-1,FALSE),VLOOKUP($G122,$B$20:$P$9999,COLUMN(P$19)-1,FALSE),H122))))+IF(AND($J122<0,$F122=\"Finish to Start\"),$J122,0)+IF($J122>0,$J122,0),\"\")","v":""},{"$f":"IFERROR(IF(F122=\"End\",$O122,IF(F122=\"Start\",K122,PlannedStart(F122,G122,VLOOKUP(G122,$B$20:$P$9999,12,FALSE),VLOOKUP($G122,$B$20:$P$9999,13,FALSE),H122,O122))),$L$15)","v":""},null,null,"","",null,0,0,"",{"$f":"IF(F122=\"End\",MAX(IF($C$20:$C$9999=C122,$P$20:$P$9999)),\"\")","v":""},"","",null,null,"",0,null,null,0,0,0,0,0,0,0,0,0,0,0,0,0,0,0,0,0,0,0,0,0,0,0,0,0,0,0,0,0,0,0,0,0,0,0,0,0,0,0,0,0,0,0,0,0,0,0,0,0,0,0,0,0,0,0,0,0,0,0,0,0,0,0,0,0,0,0,0,0,0,0,0,0,0,0,0,0,0,0,0,0,0,0,0,0,0,0,0,0,0,0,0,0,0,0,0,0,0,0,0,0,null,""]
["","",null,null,null,null,null,null,null,null,{"$f":"IFERROR(_xlfn.SINGLE(IF($F123=\"End\",PlannedFinish($C123,$P$9,$P$10,$P$11,$P$12,ROW()),IF(F123=\"Start\",M123,#NAME?(F123,G123,VLOOKUP(G123,$B$20:$P$9999,COLUMN(O$19)-1,FALSE),VLOOKUP($G123,$B$20:$P$9999,COLUMN(P$19)-1,FALSE),H123))))+IF(AND($J123<0,$F123=\"Finish to Start\"),$J123,0)+IF($J123>0,$J123,0),\"\")","v":""},{"$f":"IFERROR(IF(F123=\"End\",$O123,IF(F123=\"Start\",K123,PlannedStart(F123,G123,VLOOKUP(G123,$B$20:$P$9999,12,FALSE),VLOOKUP($G123,$B$20:$P$9999,13,FALSE),H123,O123))),$L$15)","v":""},null,null,"","",null,0,0,"",{"$f":"IF(F123=\"End\",MAX(IF($C$20:$C$9999=C123,$P$20:$P$9999)),\"\")","v":""},"","",null,null,"",0,null,null,0,0,0,0,0,0,0,0,0,0,0,0,0,0,0,0,0,0,0,0,0,0,0,0,0,0,0,0,0,0,0,0,0,0,0,0,0,0,0,0,0,0,0,0,0,0,0,0,0,0,0,0,0,0,0,0,0,0,0,0,0,0,0,0,0,0,0,0,0,0,0,0,0,0,0,0,0,0,0,0,0,0,0,0,0,0,0,0,0,0,0,0,{"$f":"IF(AND(DR$14>=$O123,DR$14<$P123),1+$AA123,IF(AND(ROUND(DR$14,0)>=$O123,ROUND(DR$14,0)<=$P123,OR($F123=\"Start\",$F123=\"End\")),10,0))","v":0},0,0,0,0,0,0,0,0,null,""]
["","",null,null,null,null,null,null,null,null,{"$f":"IFERROR(_xlfn.SINGLE(IF($F124=\"End\",PlannedFinish($C124,$P$9,$P$10,$P$11,$P$12,ROW()),IF(F124=\"Start\",M124,#NAME?(F124,G124,VLOOKUP(G124,$B$20:$P$9999,COLUMN(O$19)-1,FALSE),VLOOKUP($G124,$B$20:$P$9999,COLUMN(P$19)-1,FALSE),H124))))+IF(AND($J124<0,$F124=\"Finish to Start\"),$J124,0)+IF($J124>0,$J124,0),\"\")","v":""},{"$f":"IFERROR(IF(F124=\"End\",$O124,IF(F124=\"Start\",K124,PlannedStart(F124,G124,VLOOKUP(G124,$B$20:$P$9999,12,FALSE),VLOOKUP($G124,$B$20:$P$9999,13,FALSE),H124,O124))),$L$15)","v":""},null,null,"","",null,0,0,"",{"$f":"IF(F124=\"End\",MAX(IF($C$20:$C$9999=C124,$P$20:$P$9999)),\"\")","v":""},"","",null,null,"",0,null,null,{"$f":"IF(AND(AD$14>=$O124,AD$14<$P124),1+$AA124,IF(AND(ROUND(AD$14,0)>=$O124,ROUND(AD$14,0)<=$P124,OR($F124=\"Start\",$F124=\"End\")),10,0))","v":0},0,0,0,0,0,0,0,0,0,{"$f":"IF(AND(AN$14>=$O124,AN$14<$P124),1+$AA124,IF(AND(ROUND(AN$14,0)>=$O124,ROUND(AN$14,0)<=$P124,OR($F124=\"Start\",$F124=\"End\")),10,0))","v":0},0,0,0,0,0,0,0,0,0,{"$f":"IF(AND(AX$14>=$O124,AX$14<$P124),1+$AA124,IF(AND(ROUND(AX$14,0)>=$O124,ROUND(AX$14,0)<=$P124,OR($F124=\"Start\",$F124=\"End\")),10,0))","v":0},0,0,0,0,0,0,0,0,0,{"$f":"IF(AND(BH$14>=$O124,BH$14<$P124),1+$AA124,IF(AND(ROUND(BH$14,0)>=$O124,ROUND(BH$14,0)<=$P124,OR($F124=\"Start\",$F124=\"End\")),10,0))","v":0},0,0,0,0,0,0,0,0,0,{"$f":"IF(AND(BR$14>=$O124,BR$14<$P124),1+$AA124,IF(AND(ROUND(BR$14,0)>=$O124,ROUND(BR$14,0)<=$P124,OR($F124=\"Start\",$F124=\"End\")),10,0))","v":0},0,0,0,0,0,0,0,0,0,{"$f":"IF(AND(CB$14>=$O124,CB$14<$P124),1+$AA124,IF(AND(ROUND(CB$14,0)>=$O124,ROUND(CB$14,0)<=$P124,OR($F124=\"Start\",$F124=\"End\")),10,0))","v":0},0,0,0,0,0,0,0,0,0,0,0,0,0,0,0,0,0,0,0,0,0,0,0,0,0,0,0,0,0,0,0,0,0,0,0,0,0,0,0,0,0,0,0,0,0,0,0,0,0,0,null,""]
["","",null,null,null,null,null,null,null,null,{"$f":"IFERROR(_xlfn.SINGLE(IF($F125=\"End\",PlannedFinish($C125,$P$9,$P$10,$P$11,$P$12,ROW()),IF(F125=\"Start\",M125,#NAME?(F125,G125,VLOOKUP(G125,$B$20:$P$9999,COLUMN(O$19)-1,FALSE),VLOOKUP($G125,$B$20:$P$9999,COLUMN(P$19)-1,FALSE),H125))))+IF(AND($J125<0,$F125=\"Finish to Start\"),$J125,0)+IF($J125>0,$J125,0),\"\")","v":""},{"$f":"IFERROR(IF(F125=\"End\",$O125,IF(F125=\"Start\",K125,PlannedStart(F125,G125,VLOOKUP(G125,$B$20:$P$9999,12,FALSE),VLOOKUP($G125,$B$20:$P$9999,13,FALSE),H125,O125))),$L$15)","v":""},null,null,{"$f":"IF(M125>0,M125,K125)","v":""},{"$f":"IF(N125>0,N125,L125)","v":""},null,{"$f":"IFERROR(P125-O125,0)","v":0},0,{"$f":"IF(S125>0,O125,\"\")","v":""},{"$f":"IF(F125=\"End\",MAX(IF($C$20:$C$9999=C125,$P$20:$P$9999)),\"\")","v":""},"","",null,null,"",0,null,null,0,0,0,0,0,0,0,0,0,0,0,0,0,0,0,0,0,0,0,0,0,0,0,0,0,0,0,0,0,0,0,0,0,0,0,0,0,0,0,0,0,0,0,0,0,0,0,0,0,0,0,0,0,0,0,0,0,0,0,0,0,0,0,0,0,0,0,0,0,0,0,0,0,0,0,0,0,0,0,0,0,0,0,0,0,0,0,0,0,0,0,0,0,0,0,0,0,0,0,0,0,null,""]
["","",null,null,null,null,null,null,null,null,{"$f":"IFERROR(_xlfn.SINGLE(IF($F126=\"End\",PlannedFinish($C126,$P$9,$P$10,$P$11,$P$12,ROW()),IF(F126=\"Start\",M126,#NAME?(F126,G126,VLOOKUP(G126,$B$20:$P$9999,COLUMN(O$19)-1,FALSE),VLOOKUP($G126,$B$20:$P$9999,COLUMN(P$19)-1,FALSE),H126))))+IF(AND($J126<0,$F126=\"Finish to Start\"),$J126,0)+IF($J126>0,$J126,0),\"\")","v":""},{"$f":"IFERROR(IF(F126=\"End\",$O126,IF(F126=\"Start\",K126,PlannedStart(F126,G126,VLOOKUP(G126,$B$20:$P$9999,12,FALSE),VLOOKUP($G126,$B$20:$P$9999,13,FALSE),H126,O126))),$L$15)","v":""},null,null,"","",null,0,0,"",{"$f":"IF(F126=\"End\",MAX(IF($C$20:$C$9999=C126,$P$20:$P$9999)),\"\")","v":""},"","",null,null,"",0,null,null,0,0,0,0,0,0,0,0,0,0,0,0,0,0,0,0,0,0,0,0,0,0,0,0,0,0,0,0,0,0,0,0,0,0,0,0,0,0,0,0,0,0,0,0,0,0,0,0,0,0,0,0,0,0,0,0,0,0,0,0,0,0,0,0,0,0,0,0,0,0,0,0,0,0,0,0,0,0,0,0,0,0,0,0,0,0,0,0,0,0,0,0,0,0,0,0,0,0,0,0,0,null,""]
["","",null,null,null,null,null,null,null,null,{"$f":"IFERROR(_xlfn.SINGLE(IF($F127=\"End\",PlannedFinish($C127,$P$9,$P$10,$P$11,$P$12,ROW()),IF(F127=\"Start\",M127,#NAME?(F127,G127,VLOOKUP(G127,$B$20:$P$9999,COLUMN(O$19)-1,FALSE),VLOOKUP($G127,$B$20:$P$9999,COLUMN(P$19)-1,FALSE),H127))))+IF(AND($J127<0,$F127=\"Finish to Start\"),$J127,0)+IF($J127>0,$J127,0),\"\")","v":""},{"$f":"IFERROR(IF(F127=\"End\",$O127,IF(F127=\"Start\",K127,PlannedStart(F127,G127,VLOOKUP(G127,$B$20:$P$9999,12,FALSE),VLOOKUP($G127,$B$20:$P$9999,13,FALSE),H127,O127))),$L$15)","v":""},null,null,"","",null,0,0,"",{"$f":"IF(F127=\"End\",MAX(IF($C$20:$C$9999=C127,$P$20:$P$9999)),\"\")","v":""},"","",null,null,"",0,null,null,0,0,0,0,0,0,0,0,0,0,0,0,0,0,0,0,0,0,0,0,0,0,0,0,0,0,0,0,0,0,0,0,0,0,0,0,0,0,0,0,0,0,0,0,0,0,0,0,0,0,0,0,0,0,0,0,0,0,0,0,0,0,0,0,0,0,0,0,0,0,0,0,0,0,0,0,0,0,0,0,0,0,0,0,0,0,0,0,0,0,0,0,0,0,0,0,0,0,0,0,0,null,""]
["","",null,null,null,null,null,null,null,null,{"$f":"IFERROR(_xlfn.SINGLE(IF($F128=\"End\",PlannedFinish($C128,$P$9,$P$10,$P$11,$P$12,ROW()),IF(F128=\"Start\",M128,#NAME?(F128,G128,VLOOKUP(G128,$B$20:$P$9999,COLUMN(O$19)-1,FALSE),VLOOKUP($G128,$B$20:$P$9999,COLUMN(P$19)-1,FALSE),H128))))+IF(AND($J128<0,$F128=\"Finish to Start\"),$J128,0)+IF($J128>0,$J128,0),\"\")","v":""},{"$f":"IFERROR(IF(F128=\"End\",$O128,IF(F128=\"Start\",K128,PlannedStart(F128,G128,VLOOKUP(G128,$B$20:$P$9999,12,FALSE),VLOOKUP($G128,$B$20:$P$9999,13,FALSE),H128,O128))),$L$15)","v":""},null,null,"","",null,0,0,"",{"$f":"IF(F128=\"End\",MAX(IF($C$20:$C$9999=C128,$P$20:$P$9999)),\"\")","v":""},"","",null,null,"",0,null,null,0,0,0,0,0,0,0,0,0,0,0,0,0,0,0,0,0,0,0,0,0,0,0,0,0,0,0,0,0,0,0,0,0,0,0,0,0,0,0,0,0,0,0,0,0,0,0,0,0,0,0,0,0,0,0,0,0,0,0,0,0,0,0,0,0,0,0,0,0,0,0,0,0,0,0,0,0,0,0,0,0,0,0,0,0,0,0,0,0,0,0,0,0,0,0,0,0,0,0,0,0,null,""]
["","",null,null,null,null,null,null,null,null,{"$f":"IFERROR(_xlfn.SINGLE(IF($F129=\"End\",PlannedFinish($C129,$P$9,$P$10,$P$11,$P$12,ROW()),IF(F129=\"Start\",M129,#NAME?(F129,G129,VLOOKUP(G129,$B$20:$P$9999,COLUMN(O$19)-1,FALSE),VLOOKUP($G129,$B$20:$P$9999,COLUMN(P$19)-1,FALSE),H129))))+IF(AND($J129<0,$F129=\"Finish to Start\"),$J129,0)+IF($J129>0,$J129,0),\"\")","v":""},{"$f":"IFERROR(IF(F129=\"End\",$O129,IF(F129=\"Start\",K129,PlannedStart(F129,G129,VLOOKUP(G129,$B$20:$P$9999,12,FALSE),VLOOKUP($G129,$B$20:$P$9999,13,FALSE),H129,O129))),$L$15)","v":""},null,null,"","",null,0,0,"",{"$f":"IF(F129=\"End\",MAX(IF($C$20:$C$9999=C129,$P$20:$P$9999)),\"\")","v":""},"","",null,null,"",0,null,null,0,0,0,0,0,0,0,0,0,0,0,0,0,0,0,0,0,0,0,0,0,0,0,0,0,0,0,0,0,0,0,0,0,0,0,0,0,0,0,0,0,0,0,0,0,0,0,0,0,0,0,0,0,0,0,0,0,0,0,0,0,0,0,0,0,0,0,{"$f":"IF(AND(CS$14>=$O129,CS$14<$P129),1+$AA129,IF(AND(ROUND(CS$14,0)>=$O129,ROUND(CS$14,0)<=$P129,OR($F129=\"Start\",$F129=\"End\")),10,0))","v":0},0,0,0,0,0,0,0,0,0,{"$f":"IF(AND(DC$14>=$O129,DC$14<$P129),1+$AA129,IF(AND(ROUND(DC$14,0)>=$O129,ROUND(DC$14,0)<=$P129,OR($F129=\"Start\",$F129=\"End\")),10,0))","v":0},0,0,0,0,0,0,0,0,0,0,0,0,0,0,0,0,0,0,0,0,0,0,0,null,""]
["","",null,null,null,null,null,null,null,null,{"$f":"IFERROR(_xlfn.SINGLE(IF($F130=\"End\",PlannedFinish($C130,$P$9,$P$10,$P$11,$P$12,ROW()),IF(F130=\"Start\",M130,#NAME?(F130,G130,VLOOKUP(G130,$B$20:$P$9999,COLUMN(O$19)-1,FALSE),VLOOKUP($G130,$B$20:$P$9999,COLUMN(P$19)-1,FALSE),H130))))+IF(AND($J130<0,$F130=\"Finish to Start\"),$J130,0)+IF($J130>0,$J130,0),\"\")","v":""},{"$f":"IFERROR(IF(F130=\"End\",$O130,IF(F130=\"Start\",K130,PlannedStart(F130,G130,VLOOKUP(G130,$B$20:$P$9999,12,FALSE),VLOOKUP($G130,$B$20:$P$9999,13,FALSE),H130,O130))),$L$15)","v":""},null,null,"","",null,0,0,"",{"$f":"IF(F130=\"End\",MAX(IF($C$20:$C$9999=C130,$P$20:$P$9999)),\"\")","v":""},"","",null,null,"",0,null,null,0,0,0,0,0,0,0,0,0,0,0,0,0,0,0,0,0,0,0,0,0,0,0,0,0,0,0,0,0,0,0,0,0,0,0,0,0,0,0,0,0,0,0,0,0,0,0,0,0,0,0,0,0,0,0,0,0,0,0,0,0,0,0,0,{"$f":"IF(AND(CP$14>=$O130,CP$14<$P130),1+$AA130,IF(AND(ROUND(CP$14,0)>=$O130,ROUND(CP$14,0)<=$P130,OR($F130=\"Start\",$F130=\"End\")),10,0))","v":0},0,0,0,0,0,0,0,0,0,0,0,0,0,0,0,0,0,0,0,0,0,0,0,0,0,0,0,0,0,0,0,0,0,0,0,0,null,""]
["","",null,null,null,null,null,null,null,null,{"$f":"IFERROR(_xlfn.SINGLE(IF($F131=\"End\",PlannedFinish($C131,$P$9,$P$10,$P$11,$P$12,ROW()),IF(F131=\"Start\",M131,#NAME?(F131,G131,VLOOKUP(G131,$B$20:$P$9999,COLUMN(O$19)-1,FALSE),VLOOKUP($G131,$B$20:$P$9999,COLUMN(P$19)-1,FALSE),H131))))+IF(AND($J131<0,$F131=\"Finish to Start\"),$J131,0)+IF($J131>0,$J131,0),\"\")","v":""},{"$f":"IFERROR(IF(F131=\"End\",$O131,IF(F131=\"Start\",K131,PlannedStart(F131,G131,VLOOKUP(G131,$B$20:$P$9999,12,FALSE),VLOOKUP($G131,$B$20:$P$9999,13,FALSE),H131,O131))),$L$15)","v":""},null,null,"","",null,0,0,"",{"$f":"IF(F131=\"End\",MAX(IF($C$20:$C$9999=C131,$P$20:$P$9999)),\"\")","v":""},"","",null,null,"",0,null,null,0,0,0,0,0,0,0,0,0,0,0,0,0,0,0,0,0,0,0,0,0,0,0,0,0,0,0,0,0,0,0,0,0,0,0,0,0,0,0,0,0,0,0,0,0,0,0,0,0,0,0,0,0,0,0,0,0,0,0,0,0,0,0,0,0,0,0,0,0,0,0,0,0,0,0,0,0,0,0,0,0,0,0,0,0,0,0,0,0,0,0,0,0,0,0,0,0,0,0,0,0,null,""]
["","",null,null,null,null,null,null,null,null,{"$f":"IFERROR(_xlfn.SINGLE(IF($F132=\"End\",PlannedFinish($C132,$P$9,$P$10,$P$11,$P$12,ROW()),IF(F132=\"Start\",M132,#NAME?(F132,G132,VLOOKUP(G132,$B$20:$P$9999,COLUMN(O$19)-1,FALSE),VLOOKUP($G132,$B$20:$P$9999,COLUMN(P$19)-1,FALSE),H132))))+IF(AND($J132<0,$F132=\"Finish to Start\"),$J132,0)+IF($J132>0,$J132,0),\"\")","v":""},{"$f":"IFERROR(IF(F132=\"End\",$O132,IF(F132=\"Start\",K132,PlannedStart(F132,G132,VLOOKUP(G132,$B$20:$P$9999,12,FALSE),VLOOKUP($G132,$B$20:$P$9999,13,FALSE),H132,O132))),$L$15)","v":""},null,null,"","",null,0,0,"",{"$f":"IF(F132=\"End\",MAX(IF($C$20:$C$9999=C132,$P$20:$P$9999)),\"\")","v":""},"","",null,null,"",0,null,null,0,0,0,0,0,0,0,0,0,0,0,0,0,0,0,0,0,0,0,0,0,0,0,0,0,0,0,0,0,0,0,0,0,0,0,0,0,0,0,0,0,0,0,0,0,0,0,0,0,0,0,0,0,0,0,0,0,0,0,0,0,0,0,0,0,0,0,0,0,0,0,0,0,0,0,0,0,0,0,0,0,0,0,0,0,0,0,0,0,0,0,0,0,0,0,0,0,0,0,0,0,null,""]
["","",null,null,null,null,null,null,null,null,{"$f":"IFERROR(_xlfn.SINGLE(IF($F133=\"End\",PlannedFinish($C133,$P$9,$P$10,$P$11,$P$12,ROW()),IF(F133=\"Start\",M133,#NAME?(F133,G133,VLOOKUP(G133,$B$20:$P$9999,COLUMN(O$19)-1,FALSE),VLOOKUP($G133,$B$20:$P$9999,COLUMN(P$19)-1,FALSE),H133))))+IF(AND($J133<0,$F133=\"Finish to Start\"),$J133,0)+IF($J133>0,$J133,0),\"\")","v":""},{"$f":"IFERROR(IF(F133=\"End\",$O133,IF(F133=\"Start\",K133,PlannedStart(F133,G133,VLOOKUP(G133,$B$20:$P$9999,12,FALSE),VLOOKUP($G133,$B$20:$P$9999,13,FALSE),H133,O133))),$L$15)","v":""},null,null,"","",null,0,0,"",{"$f":"IF(F133=\"End\",MAX(IF($C$20:$C$9999=C133,$P$20:$P$9999)),\"\")","v":""},"","",null,null,"",0,null,null,0,0,0,0,0,0,0,0,0,0,0,0,0,0,0,0,0,0,0,0,0,0,0,0,0,0,0,0,0,0,0,0,0,0,0,0,0,0,0,0,0,0,0,0,0,0,0,0,0,0,0,0,0,0,0,0,0,0,0,0,0,0,0,0,0,0,0,0,0,0,0,0,0,0,0,0,0,0,0,0,0,0,0,0,0,0,0,0,0,0,0,0,{"$f":"IF(AND(DR$14>=$O133,DR$14<$P133),1+$AA133,IF(AND(ROUND(DR$14,0)>=$O133,ROUND(DR$14,0)<=$P133,OR($F133=\"Start\",$F133=\"End\")),10,0))","v":0},0,0,0,0,0,0,0,0,null,""]
["","",null,null,null,null,null,null,null,null,{"$f":"IFERROR(_xlfn.SINGLE(IF($F134=\"End\",PlannedFinish($C134,$P$9,$P$10,$P$11,$P$12,ROW()),IF(F134=\"Start\",M134,#NAME?(F134,G134,VLOOKUP(G134,$B$20:$P$9999,COLUMN(O$19)-1,FALSE),VLOOKUP($G134,$B$20:$P$9999,COLUMN(P$19)-1,FALSE),H134))))+IF(AND($J134<0,$F134=\"Finish to Start\"),$J134,0)+IF($J134>0,$J134,0),\"\")","v":""},{"$f":"IFERROR(IF(F134=\"End\",$O134,IF(F134=\"Start\",K134,PlannedStart(F134,G134,VLOOKUP(G134,$B$20:$P$9999,12,FALSE),VLOOKUP($G134,$B$20:$P$9999,13,FALSE),H134,O134))),$L$15)","v":""},null,null,"","",null,0,0,"",{"$f":"IF(F134=\"End\",MAX(IF($C$20:$C$9999=C134,$P$20:$P$9999)),\"\")","v":""},"","",null,null,"",0,null,null,{"$f":"IF(AND(AD$14>=$O134,AD$14<$P134),1+$AA134,IF(AND(ROUND(AD$14,0)>=$O134,ROUND(AD$14,0)<=$P134,OR($F134=\"Start\",$F134=\"End\")),10,0))","v":0},0,0,0,0,0,0,0,0,0,{"$f":"IF(AND(AN$14>=$O134,AN$14<$P134),1+$AA134,IF(AND(ROUND(AN$14,0)>=$O134,ROUND(AN$14,0)<=$P134,OR($F134=\"Start\",$F134=\"End\")),10,0))","v":0},0,0,0,0,0,0,0,0,0,{"$f":"IF(AND(AX$14>=$O134,AX$14<$P134),1+$AA134,IF(AND(ROUND(AX$14,0)>=$O134,ROUND(AX$14,0)<=$P134,OR($F134=\"Start\",$F134=\"End\")),10,0))","v":0},0,0,0,0,0,0,0,0,0,{"$f":"IF(AND(BH$14>=$O134,BH$14<$P134),1+$AA134,IF(AND(ROUND(BH$14,0)>=$O134,ROUND(BH$14,0)<=$P134,OR($F134=\"Start\",$F134=\"End\")),10,0))","v":0},0,0,0,0,0,0,0,0,0,{"$f":"IF(AND(BR$14>=$O134,BR$14<$P134),1+$AA134,IF(AND(ROUND(BR$14,0)>=$O134,ROUND(BR$14,0)<=$P134,OR($F134=\"Start\",$F134=\"End\")),10,0))","v":0},0,0,0,0,0,0,0,0,0,{"$f":"IF(AND(CB$14>=$O134,CB$14<$P134),1+$AA134,IF(AND(ROUND(CB$14,0)>=$O134,ROUND(CB$14,0)<=$P134,OR($F134=\"Start\",$F134=\"End\")),10,0))","v":0},0,0,0,0,0,0,0,0,0,0,0,0,0,0,0,0,0,0,0,0,0,0,0,0,0,0,0,0,0,0,0,0,0,0,0,0,0,0,0,0,0,0,0,0,0,0,0,0,0,0,null,""]
["","",null,null,null,null,null,null,null,null,{"$f":"IFERROR(_xlfn.SINGLE(IF($F135=\"End\",PlannedFinish($C135,$P$9,$P$10,$P$11,$P$12,ROW()),IF(F135=\"Start\",M135,#NAME?(F135,G135,VLOOKUP(G135,$B$20:$P$9999,COLUMN(O$19)-1,FALSE),VLOOKUP($G135,$B$20:$P$9999,COLUMN(P$19)-1,FALSE),H135))))+IF(AND($J135<0,$F135=\"Finish to Start\"),$J135,0)+IF($J135>0,$J135,0),\"\")","v":""},{"$f":"IFERROR(IF(F135=\"End\",$O135,IF(F135=\"Start\",K135,PlannedStart(F135,G135,VLOOKUP(G135,$B$20:$P$9999,12,FALSE),VLOOKUP($G135,$B$20:$P$9999,13,FALSE),H135,O135))),$L$15)","v":""},null,null,"","",null,0,0,"",{"$f":"IF(F135=\"End\",MAX(IF($C$20:$C$9999=C135,$P$20:$P$9999)),\"\")","v":""},"","",null,null,"",0,null,null,0,0,0,0,0,0,0,0,0,0,0,0,0,0,0,0,0,0,0,0,0,0,0,0,0,0,0,0,0,0,0,0,0,0,0,0,0,0,0,0,0,0,0,0,0,0,0,0,0,0,0,0,0,0,0,0,0,0,0,0,0,0,0,0,0,0,0,0,0,0,0,0,0,0,0,0,0,0,0,0,0,0,0,0,0,0,0,0,0,0,0,0,0,0,0,0,0,0,0,0,0,null,""]
["","",null,null,null,null,null,null,null,null,{"$f":"IFERROR(_xlfn.SINGLE(IF($F136=\"End\",PlannedFinish($C136,$P$9,$P$10,$P$11,$P$12,ROW()),IF(F136=\"Start\",M136,#NAME?(F136,G136,VLOOKUP(G136,$B$20:$P$9999,COLUMN(O$19)-1,FALSE),VLOOKUP($G136,$B$20:$P$9999,COLUMN(P$19)-1,FALSE),H136))))+IF(AND($J136<0,$F136=\"Finish to Start\"),$J136,0)+IF($J136>0,$J136,0),\"\")","v":""},{"$f":"IFERROR(IF(F136=\"End\",$O136,IF(F136=\"Start\",K136,PlannedStart(F136,G136,VLOOKUP(G136,$B$20:$P$9999,12,FALSE),VLOOKUP($G136,$B$20:$P$9999,13,FALSE),H136,O136))),$L$15)","v":""},null,null,"","",null,0,0,"",{"$f":"IF(F136=\"End\",MAX(IF($C$20:$C$9999=C136,$P$20:$P$9999)),\"\")","v":""},"","",null,null,"",0,null,null,0,0,0,0,0,0,0,0,0,0,0,0,0,0,0,0,0,0,0,0,0,0,0,0,0,0,0,0,0,0,0,0,0,0,0,0,0,0,0,0,0,0,0,0,0,0,0,0,0,0,0,0,0,0,0,0,0,0,0,0,0,0,0,0,0,0,0,0,0,0,0,0,0,0,0,0,0,0,0,0,0,0,0,0,0,0,0,0,0,0,0,0,0,0,0,0,0,0,0,0,0,null,""]
["","",null,null,null,null,null,null,null,null,{"$f":"IFERROR(_xlfn.SINGLE(IF($F137=\"End\",PlannedFinish($C137,$P$9,$P$10,$P$11,$P$12,ROW()),IF(F137=\"Start\",M137,#NAME?(F137,G137,VLOOKUP(G137,$B$20:$P$9999,COLUMN(O$19)-1,FALSE),VLOOKUP($G137,$B$20:$P$9999,COLUMN(P$19)-1,FALSE),H137))))+IF(AND($J137<0,$F137=\"Finish to Start\"),$J137,0)+IF($J137>0,$J137,0),\"\")","v":""},{"$f":"IFERROR(IF(F137=\"End\",$O137,IF(F137=\"Start\",K137,PlannedStart(F137,G137,VLOOKUP(G137,$B$20:$P$9999,12,FALSE),VLOOKUP($G137,$B$20:$P$9999,13,FALSE),H137,O137))),$L$15)","v":""},null,null,"","",null,0,0,"",{"$f":"IF(F137=\"End\",MAX(IF($C$20:$C$9999=C137,$P$20:$P$9999)),\"\")","v":""},"","",null,null,"",0,null,null,0,0,0,0,0,0,0,0,0,0,0,0,0,0,0,0,0,0,0,0,0,0,0,0,0,0,0,0,0,0,0,0,0,0,0,0,0,0,0,0,0,0,0,0,0,0,0,0,0,0,0,0,0,0,0,0,0,0,0,0,0,0,0,0,0,0,0,0,0,0,0,0,0,0,0,0,0,0,0,0,0,0,0,0,0,0,0,0,0,0,0,0,0,0,0,0,0,0,0,0,0,null,""]
["","",null,null,null,null,null,null,null,null,{"$f":"IFERROR(_xlfn.SINGLE(IF($F138=\"End\",PlannedFinish($C138,$P$9,$P$10,$P$11,$P$12,ROW()),IF(F138=\"Start\",M138,#NAME?(F138,G138,VLOOKUP(G138,$B$20:$P$9999,COLUMN(O$19)-1,FALSE),VLOOKUP($G138,$B$20:$P$9999,COLUMN(P$19)-1,FALSE),H138))))+IF(AND($J138<0,$F138=\"Finish to Start\"),$J138,0)+IF($J138>0,$J138,0),\"\")","v":""},{"$f":"IFERROR(IF(F138=\"End\",$O138,IF(F138=\"Start\",K138,PlannedStart(F138,G138,VLOOKUP(G138,$B$20:$P$9999,12,FALSE),VLOOKUP($G138,$B$20:$P$9999,13,FALSE),H138,O138))),$L$15)","v":""},null,null,"","",null,0,0,"",{"$f":"IF(F138=\"End\",MAX(IF($C$20:$C$9999=C138,$P$20:$P$9999)),\"\")","v":""},"","",null,null,"",0,null,null,0,0,0,0,0,0,0,0,0,0,0,0,0,0,0,0,0,0,0,0,0,0,0,0,0,0,0,0,0,0,0,0,0,0,0,0,0,0,0,0,0,0,0,0,0,0,0,0,0,0,0,0,0,0,0,0,0,0,0,0,0,0,0,0,0,0,0,0,0,0,0,0,0,0,0,0,0,0,0,0,0,0,0,0,0,0,0,0,0,0,0,0,0,0,0,0,0,0,0,0,0,null,""]
["","",null,null,null,null,null,null,null,null,{"$f":"IFERROR(_xlfn.SINGLE(IF($F139=\"End\",PlannedFinish($C139,$P$9,$P$10,$P$11,$P$12,ROW()),IF(F139=\"Start\",M139,#NAME?(F139,G139,VLOOKUP(G139,$B$20:$P$9999,COLUMN(O$19)-1,FALSE),VLOOKUP($G139,$B$20:$P$9999,COLUMN(P$19)-1,FALSE),H139))))+IF(AND($J139<0,$F139=\"Finish to Start\"),$J139,0)+IF($J139>0,$J139,0),\"\")","v":""},{"$f":"IFERROR(IF(F139=\"End\",$O139,IF(F139=\"Start\",K139,PlannedStart(F139,G139,VLOOKUP(G139,$B$20:$P$9999,12,FALSE),VLOOKUP($G139,$B$20:$P$9999,13,FALSE),H139,O139))),$L$15)","v":""},null,null,"","",null,0,0,"",{"$f":"IF(F139=\"End\",MAX(IF($C$20:$C$9999=C139,$P$20:$P$9999)),\"\")","v":""},"","",null,null,"",0,null,null,0,0,0,0,0,0,0,0,0,0,0,0,0,0,0,0,0,0,0,0,0,0,0,0,0,0,0,0,0,0,0,0,0,0,0,0,0,0,0,0,0,0,0,0,0,0,0,0,0,0,0,0,0,0,0,0,0,0,0,0,0,0,0,0,0,0,0,{"$f":"IF(AND(CS$14>=$O139,CS$14<$P139),1+$AA139,IF(AND(ROUND(CS$14,0)>=$O139,ROUND(CS$14,0)<=$P139,OR($F139=\"Start\",$F139=\"End\")),10,0))","v":0},0,0,0,0,0,0,0,0,0,{"$f":"IF(AND(DC$14>=$O139,DC$14<$P139),1+$AA139,IF(AND(ROUND(DC$14,0)>=$O139,ROUND(DC$14,0)<=$P139,OR($F139=\"Start\",$F139=\"End\")),10,0))","v":0},0,0,0,0,0,0,0,0,0,0,0,0,0,0,0,0,0,0,0,0,0,0,0,null,""]
["","",null,null,null,null,null,null,null,null,{"$f":"IFERROR(_xlfn.SINGLE(IF($F140=\"End\",PlannedFinish($C140,$P$9,$P$10,$P$11,$P$12,ROW()),IF(F140=\"Start\",M140,#NAME?(F140,G140,VLOOKUP(G140,$B$20:$P$9999,COLUMN(O$19)-1,FALSE),VLOOKUP($G140,$B$20:$P$9999,COLUMN(P$19)-1,FALSE),H140))))+IF(AND($J140<0,$F140=\"Finish to Start\"),$J140,0)+IF($J140>0,$J140,0),\"\")","v":""},{"$f":"IFERROR(IF(F140=\"End\",$O140,IF(F140=\"Start\",K140,PlannedStart(F140,G140,VLOOKUP(G140,$B$20:$P$9999,12,FALSE),VLOOKUP($G140,$B$20:$P$9999,13,FALSE),H140,O140))),$L$15)","v":""},null,null,"","",null,0,0,"",{"$f":"IF(F140=\"End\",MAX(IF($C$20:$C$9999=C140,$P$20:$P$9999)),\"\")","v":""},"","",null,null,"",0,null,null,0,0,0,0,0,0,0,0,0,0,0,0,0,0,0,0,0,0,0,0,0,0,0,0,0,0,0,0,0,0,0,0,0,0,0,0,0,0,0,0,0,0,0,0,0,0,0,0,0,0,0,0,0,0,0,0,0,0,0,0,0,0,0,0,0,0,0,0,0,0,0,0,0,0,0,0,0,0,0,0,0,0,0,0,0,0,0,0,0,0,0,0,0,0,0,0,0,0,0,0,0,null,""]
["","",null,null,null,null,null,null,null,null,{"$f":"IFERROR(_xlfn.SINGLE(IF($F141=\"End\",PlannedFinish($C141,$P$9,$P$10,$P$11,$P$12,ROW()),IF(F141=\"Start\",M141,#NAME?(F141,G141,VLOOKUP(G141,$B$20:$P$9999,COLUMN(O$19)-1,FALSE),VLOOKUP($G141,$B$20:$P$9999,COLUMN(P$19)-1,FALSE),H141))))+IF(AND($J141<0,$F141=\"Finish to Start\"),$J141,0)+IF($J141>0,$J141,0),\"\")","v":""},{"$f":"IFERROR(IF(F141=\"End\",$O141,IF(F141=\"Start\",K141,PlannedStart(F141,G141,VLOOKUP(G141,$B$20:$P$9999,12,FALSE),VLOOKUP($G141,$B$20:$P$9999,13,FALSE),H141,O141))),$L$15)","v":""},null,null,"","",null,0,0,"",{"$f":"IF(F141=\"End\",MAX(IF($C$20:$C$9999=C141,$P$20:$P$9999)),\"\")","v":""},"","",null,null,"",0,null,null,0,0,0,0,0,0,0,0,0,0,0,0,0,0,0,0,0,0,0,0,0,0,0,0,0,0,0,0,0,0,0,0,0,0,0,0,0,0,0,0,0,0,0,0,0,0,0,0,0,0,0,0,0,0,0,0,0,0,0,0,0,0,0,0,0,0,0,0,0,0,0,0,0,0,0,0,0,0,0,0,0,0,0,0,0,0,0,0,0,0,0,0,0,0,0,0,0,0,0,0,0,null,""]
["","",null,null,null,null,null,null,null,null,{"$f":"IFERROR(_xlfn.SINGLE(IF($F142=\"End\",PlannedFinish($C142,$P$9,$P$10,$P$11,$P$12,ROW()),IF(F142=\"Start\",M142,#NAME?(F142,G142,VLOOKUP(G142,$B$20:$P$9999,COLUMN(O$19)-1,FALSE),VLOOKUP($G142,$B$20:$P$9999,COLUMN(P$19)-1,FALSE),H142))))+IF(AND($J142<0,$F142=\"Finish to Start\"),$J142,0)+IF($J142>0,$J142,0),\"\")","v":""},{"$f":"IFERROR(IF(F142=\"End\",$O142,IF(F142=\"Start\",K142,PlannedStart(F142,G142,VLOOKUP(G142,$B$20:$P$9999,12,FALSE),VLOOKUP($G142,$B$20:$P$9999,13,FALSE),H142,O142))),$L$15)","v":""},null,null,"","",null,0,0,"",{"$f":"IF(F142=\"End\",MAX(IF($C$20:$C$9999=C142,$P$20:$P$9999)),\"\")","v":""},"","",null,null,"",0,null,null,0,0,0,0,0,0,0,0,0,0,0,0,0,0,0,0,0,0,0,0,0,0,0,0,0,0,0,0,0,0,0,0,0,0,0,0,0,0,0,0,0,0,0,0,0,0,0,0,0,0,0,0,0,0,0,0,0,0,0,0,0,0,0,0,0,0,0,0,0,0,0,0,0,0,0,0,0,0,0,0,0,0,0,0,0,0,0,0,0,0,0,0,0,0,0,0,0,0,0,0,0,null,""]
["","",null,null,null,null,null,null,null,null,{"$f":"IFERROR(_xlfn.SINGLE(IF($F143=\"End\",PlannedFinish($C143,$P$9,$P$10,$P$11,$P$12,ROW()),IF(F143=\"Start\",M143,#NAME?(F143,G143,VLOOKUP(G143,$B$20:$P$9999,COLUMN(O$19)-1,FALSE),VLOOKUP($G143,$B$20:$P$9999,COLUMN(P$19)-1,FALSE),H143))))+IF(AND($J143<0,$F143=\"Finish to Start\"),$J143,0)+IF($J143>0,$J143,0),\"\")","v":""},{"$f":"IFERROR(IF(F143=\"End\",$O143,IF(F143=\"Start\",K143,PlannedStart(F143,G143,VLOOKUP(G143,$B$20:$P$9999,12,FALSE),VLOOKUP($G143,$B$20:$P$9999,13,FALSE),H143,O143))),$L$15)","v":""},null,null,"","",null,0,0,"",{"$f":"IF(F143=\"End\",MAX(IF($C$20:$C$9999=C143,$P$20:$P$9999)),\"\")","v":""},"","",null,null,"",0,null,null,0,0,0,0,0,0,0,0,0,0,0,0,0,0,0,0,0,0,0,0,0,0,0,0,0,0,0,0,0,0,0,0,0,0,0,0,0,0,0,0,0,0,0,0,0,0,0,0,0,0,0,0,0,0,0,0,0,0,0,0,0,0,0,0,0,0,0,0,0,0,0,0,0,0,0,0,0,0,0,0,0,0,0,0,0,0,0,0,0,0,0,0,0,0,0,0,0,0,0,0,0,null,""]
["","",null,null,null,null,null,null,null,null,{"$f":"IFERROR(_xlfn.SINGLE(IF($F144=\"End\",PlannedFinish($C144,$P$9,$P$10,$P$11,$P$12,ROW()),IF(F144=\"Start\",M144,#NAME?(F144,G144,VLOOKUP(G144,$B$20:$P$9999,COLUMN(O$19)-1,FALSE),VLOOKUP($G144,$B$20:$P$9999,COLUMN(P$19)-1,FALSE),H144))))+IF(AND($J144<0,$F144=\"Finish to Start\"),$J144,0)+IF($J144>0,$J144,0),\"\")","v":""},{"$f":"IFERROR(IF(F144=\"End\",$O144,IF(F144=\"Start\",K144,PlannedStart(F144,G144,VLOOKUP(G144,$B$20:$P$9999,12,FALSE),VLOOKUP($G144,$B$20:$P$9999,13,FALSE),H144,O144))),$L$15)","v":""},null,null,"","",null,0,0,"",{"$f":"IF(F144=\"End\",MAX(IF($C$20:$C$9999=C144,$P$20:$P$9999)),\"\")","v":""},"","",null,null,"",0,null,null,{"$f":"IF(AND(AD$14>=$O144,AD$14<$P144),1+$AA144,IF(AND(ROUND(AD$14,0)>=$O144,ROUND(AD$14,0)<=$P144,OR($F144=\"Start\",$F144=\"End\")),10,0))","v":0},0,0,0,0,0,0,0,0,0,{"$f":"IF(AND(AN$14>=$O144,AN$14<$P144),1+$AA144,IF(AND(ROUND(AN$14,0)>=$O144,ROUND(AN$14,0)<=$P144,OR($F144=\"Start\",$F144=\"End\")),10,0))","v":0},0,0,0,0,0,0,0,0,0,{"$f":"IF(AND(AX$14>=$O144,AX$14<$P144),1+$AA144,IF(AND(ROUND(AX$14,0)>=$O144,ROUND(AX$14,0)<=$P144,OR($F144=\"Start\",$F144=\"End\")),10,0))","v":0},0,0,0,0,0,0,0,0,0,{"$f":"IF(AND(BH$14>=$O144,BH$14<$P144),1+$AA144,IF(AND(ROUND(BH$14,0)>=$O144,ROUND(BH$14,0)<=$P144,OR($F144=\"Start\",$F144=\"End\")),10,0))","v":0},0,0,0,0,0,0,0,0,0,{"$f":"IF(AND(BR$14>=$O144,BR$14<$P144),1+$AA144,IF(AND(ROUND(BR$14,0)>=$O144,ROUND(BR$14,0)<=$P144,OR($F144=\"Start\",$F144=\"End\")),10,0))","v":0},0,0,0,0,0,0,0,0,0,{"$f":"IF(AND(CB$14>=$O144,CB$14<$P144),1+$AA144,IF(AND(ROUND(CB$14,0)>=$O144,ROUND(CB$14,0)<=$P144,OR($F144=\"Start\",$F144=\"End\")),10,0))","v":0},0,0,0,0,0,0,0,0,0,0,0,0,0,0,0,0,0,0,0,0,0,0,0,0,0,0,0,0,0,0,0,0,0,0,0,0,0,0,0,0,0,{"$f":"IF(AND(DR$14>=$O144,DR$14<$P144),1+$AA144,IF(AND(ROUND(DR$14,0)>=$O144,ROUND(DR$14,0)<=$P144,OR($F144=\"Start\",$F144=\"End\")),10,0))","v":0},0,0,0,0,0,0,{"$f":"IF(AND(DY$14>=$O144,DY$14<$P144),1+$AA144,IF(AND(ROUND(DY$14,0)>=$O144,ROUND(DY$14,0)<=$P144,OR($F144=\"Start\",$F144=\"End\")),10,0))","v":0},0,null,""]
["","",null,null,null,null,null,null,null,null,{"$f":"IFERROR(_xlfn.SINGLE(IF($F145=\"End\",PlannedFinish($C145,$P$9,$P$10,$P$11,$P$12,ROW()),IF(F145=\"Start\",M145,#NAME?(F145,G145,VLOOKUP(G145,$B$20:$P$9999,COLUMN(O$19)-1,FALSE),VLOOKUP($G145,$B$20:$P$9999,COLUMN(P$19)-1,FALSE),H145))))+IF(AND($J145<0,$F145=\"Finish to Start\"),$J145,0)+IF($J145>0,$J145,0),\"\")","v":""},{"$f":"IFERROR(IF(F145=\"End\",$O145,IF(F145=\"Start\",K145,PlannedStart(F145,G145,VLOOKUP(G145,$B$20:$P$9999,12,FALSE),VLOOKUP($G145,$B$20:$P$9999,13,FALSE),H145,O145))),$L$15)","v":""},null,null,"","",null,0,0,"",{"$f":"IF(F145=\"End\",MAX(IF($C$20:$C$9999=C145,$P$20:$P$9999)),\"\")","v":""},"","",null,null,"",0,null,null,0,0,0,0,0,0,0,0,0,0,0,0,0,0,0,0,0,0,0,0,0,0,0,0,0,0,0,0,0,0,0,0,0,0,0,0,0,0,0,0,0,0,0,0,0,0,0,0,0,0,0,0,0,0,0,0,0,0,0,0,0,0,0,0,0,0,0,0,0,0,0,0,0,0,0,0,0,0,0,0,0,0,0,0,0,0,0,0,0,0,0,0,{"$f":"IF(AND(DR$14>=$O145,DR$14<$P145),1+$AA145,IF(AND(ROUND(DR$14,0)>=$O145,ROUND(DR$14,0)<=$P145,OR($F145=\"Start\",$F145=\"End\")),10,0))","v":0},0,0,0,0,0,0,0,0,null,""]
["","",null,null,null,null,null,null,null,null,{"$f":"IFERROR(_xlfn.SINGLE(IF($F146=\"End\",PlannedFinish($C146,$P$9,$P$10,$P$11,$P$12,ROW()),IF(F146=\"Start\",M146,#NAME?(F146,G146,VLOOKUP(G146,$B$20:$P$9999,COLUMN(O$19)-1,FALSE),VLOOKUP($G146,$B$20:$P$9999,COLUMN(P$19)-1,FALSE),H146))))+IF(AND($J146<0,$F146=\"Finish to Start\"),$J146,0)+IF($J146>0,$J146,0),\"\")","v":""},{"$f":"IFERROR(IF(F146=\"End\",$O146,IF(F146=\"Start\",K146,PlannedStart(F146,G146,VLOOKUP(G146,$B$20:$P$9999,12,FALSE),VLOOKUP($G146,$B$20:$P$9999,13,FALSE),H146,O146))),$L$15)","v":""},null,null,"","",null,0,0,"",{"$f":"IF(F146=\"End\",MAX(IF($C$20:$C$9999=C146,$P$20:$P$9999)),\"\")","v":""},"","",null,null,"",0,null,null,0,0,0,0,0,0,0,0,0,0,0,0,0,0,0,0,0,0,0,0,0,0,0,0,0,0,0,0,0,0,0,0,0,0,0,0,0,0,0,0,0,0,0,0,0,0,0,0,0,0,0,0,0,0,0,0,0,0,0,0,0,0,0,0,0,0,0,0,0,0,0,0,0,0,0,0,0,0,0,0,0,0,0,0,0,0,0,0,0,0,0,0,{"$f":"IF(AND(DR$14>=$O146,DR$14<$P146),1+$AA146,IF(AND(ROUND(DR$14,0)>=$O146,ROUND(DR$14,0)<=$P146,OR($F146=\"Start\",$F146=\"End\")),10,0))","v":0},0,0,0,0,0,0,0,0,null,""]
["","",null,null,null,null,null,null,null,null,{"$f":"IFERROR(_xlfn.SINGLE(IF($F147=\"End\",PlannedFinish($C147,$P$9,$P$10,$P$11,$P$12,ROW()),IF(F147=\"Start\",M147,#NAME?(F147,G147,VLOOKUP(G147,$B$20:$P$9999,COLUMN(O$19)-1,FALSE),VLOOKUP($G147,$B$20:$P$9999,COLUMN(P$19)-1,FALSE),H147))))+IF(AND($J147<0,$F147=\"Finish to Start\"),$J147,0)+IF($J147>0,$J147,0),\"\")","v":""},{"$f":"IFERROR(IF(F147=\"End\",$O147,IF(F147=\"Start\",K147,PlannedStart(F147,G147,VLOOKUP(G147,$B$20:$P$9999,12,FALSE),VLOOKUP($G147,$B$20:$P$9999,13,FALSE),H147,O147))),$L$15)","v":""},null,null,"","",null,0,0,"",{"$f":"IF(F147=\"End\",MAX(IF($C$20:$C$9999=C147,$P$20:$P$9999)),\"\")","v":""},"","",null,null,"",0,null,null,0,0,0,0,0,0,0,0,0,0,0,0,0,0,0,0,0,0,0,0,0,0,0,0,0,0,0,0,0,0,0,0,0,0,0,0,0,0,0,0,0,0,0,0,0,0,0,0,0,0,0,0,0,0,0,0,0,0,0,0,0,0,0,0,0,0,0,0,0,0,0,0,0,0,0,0,0,0,0,0,0,0,0,0,0,0,0,0,0,0,0,0,{"$f":"IF(AND(DR$14>=$O147,DR$14<$P147),1+$AA147,IF(AND(ROUND(DR$14,0)>=$O147,ROUND(DR$14,0)<=$P147,OR($F147=\"Start\",$F147=\"End\")),10,0))","v":0},0,0,0,0,0,0,0,0,null,""]
["","",null,null,null,null,null,null,null,null,{"$f":"IFERROR(_xlfn.SINGLE(IF($F148=\"End\",PlannedFinish($C148,$P$9,$P$10,$P$11,$P$12,ROW()),IF(F148=\"Start\",M148,#NAME?(F148,G148,VLOOKUP(G148,$B$20:$P$9999,COLUMN(O$19)-1,FALSE),VLOOKUP($G148,$B$20:$P$9999,COLUMN(P$19)-1,FALSE),H148))))+IF(AND($J148<0,$F148=\"Finish to Start\"),$J148,0)+IF($J148>0,$J148,0),\"\")","v":""},{"$f":"IFERROR(IF(F148=\"End\",$O148,IF(F148=\"Start\",K148,PlannedStart(F148,G148,VLOOKUP(G148,$B$20:$P$9999,12,FALSE),VLOOKUP($G148,$B$20:$P$9999,13,FALSE),H148,O148))),$L$15)","v":""},null,null,"","",null,0,0,"",{"$f":"IF(F148=\"End\",MAX(IF($C$20:$C$9999=C148,$P$20:$P$9999)),\"\")","v":""},"","",null,null,"",0,null,null,0,0,0,0,0,0,0,0,0,0,0,0,0,0,0,0,0,0,0,0,0,0,0,0,0,0,0,0,0,0,0,0,0,0,0,0,0,0,0,0,0,0,0,0,0,0,0,0,0,0,0,0,0,0,0,0,0,0,0,0,0,0,0,0,0,0,0,0,0,0,0,0,0,0,0,0,0,0,0,0,0,0,0,0,0,0,0,0,0,0,0,0,{"$f":"IF(AND(DR$14>=$O148,DR$14<$P148),1+$AA148,IF(AND(ROUND(DR$14,0)>=$O148,ROUND(DR$14,0)<=$P148,OR($F148=\"Start\",$F148=\"End\")),10,0))","v":0},0,0,0,0,0,0,0,0,null,""]
["","",null,null,null,null,null,null,null,null,{"$f":"IFERROR(_xlfn.SINGLE(IF($F149=\"End\",PlannedFinish($C149,$P$9,$P$10,$P$11,$P$12,ROW()),IF(F149=\"Start\",M149,#NAME?(F149,G149,VLOOKUP(G149,$B$20:$P$9999,COLUMN(O$19)-1,FALSE),VLOOKUP($G149,$B$20:$P$9999,COLUMN(P$19)-1,FALSE),H149))))+IF(AND($J149<0,$F149=\"Finish to Start\"),$J149,0)+IF($J149>0,$J149,0),\"\")","v":""},{"$f":"IFERROR(IF(F149=\"End\",$O149,IF(F149=\"Start\",K149,PlannedStart(F149,G149,VLOOKUP(G149,$B$20:$P$9999,12,FALSE),VLOOKUP($G149,$B$20:$P$9999,13,FALSE),H149,O149))),$L$15)","v":""},null,null,"","",null,0,{"$f":"IF(OR(AND($F149=\"End\",LEN($N149)=0),AND(M149>0,ISBLANK(N149)=TRUE)),1,0)","v":0},"",{"$f":"IF(F149=\"End\",MAX(IF($C$20:$C$9999=C149,$P$20:$P$9999)),\"\")","v":""},{"$f":"O149","v":""},{"$f":"P149","v":""},null,null,{"$f":"IF(OR(X149=0,Y149=0),\"\",IF(AND(X149>0,V149>0),(X149-V149),0)+IF(AND(Y149>0,W149>0),W149-Y149,0))","v":""},{"$f":"IF($Z149=0,$AA$17,0)","v":0},null,null,0,0,0,0,0,0,0,0,0,0,0,0,0,0,0,0,0,0,0,0,0,0,0,0,0,0,0,0,0,0,0,0,0,0,0,0,0,0,0,0,0,0,0,0,0,0,0,0,0,0,0,0,0,0,0,0,0,0,0,0,0,0,0,0,0,0,0,{"$f":"IF(AND(CS$14>=$O149,CS$14<$P149),1+$AA149,IF(AND(ROUND(CS$14,0)>=$O149,ROUND(CS$14,0)<=$P149,OR($F149=\"Start\",$F149=\"End\")),10,0))","v":0},0,0,0,0,0,0,0,0,0,{"$f":"IF(AND(DC$14>=$O149,DC$14<$P149),1+$AA149,IF(AND(ROUND(DC$14,0)>=$O149,ROUND(DC$14,0)<=$P149,OR($F149=\"Start\",$F149=\"End\")),10,0))","v":0},0,0,0,0,0,0,0,0,0,0,0,0,0,{"$f":"IF(AND(DQ$14>=$O149,DQ$14<$P149),1+$AA149,IF(AND(ROUND(DQ$14,0)>=$O149,ROUND(DQ$14,0)<=$P149,OR($F149=\"Start\",$F149=\"End\")),10,0))","v":0},0,0,0,0,0,0,0,0,0,null,{"$f":"IF(AND($L$2=\"x\",LEN($E149)>0),IF(AND(OR($F149=\"Finish to Start\",$F149=\"Finish to Finish\"),$G149=$J$3),\"S\",IF($B149=$J$4,\"P\",IF(AND(LEN($E149)>0,$B149=$J$3),\"A\",\"\"))),\"\")","v":""}]
["","",null,null,null,null,null,null,null,null,{"$f":"IFERROR(_xlfn.SINGLE(IF($F150=\"End\",PlannedFinish($C150,$P$9,$P$10,$P$11,$P$12,ROW()),IF(F150=\"Start\",M150,#NAME?(F150,G150,VLOOKUP(G150,$B$20:$P$9999,COLUMN(O$19)-1,FALSE),VLOOKUP($G150,$B$20:$P$9999,COLUMN(P$19)-1,FALSE),H150))))+IF(AND($J150<0,$F150=\"Finish to Start\"),$J150,0)+IF($J150>0,$J150,0),\"\")","v":""},{"$f":"IFERROR(IF(F150=\"End\",$O150,IF(F150=\"Start\",K150,PlannedStart(F150,G150,VLOOKUP(G150,$B$20:$P$9999,12,FALSE),VLOOKUP($G150,$B$20:$P$9999,13,FALSE),H150,O150))),$L$15)","v":""},null,null,"","",null,0,0,"",{"$f":"IF(F150=\"End\",MAX(IF($C$20:$C$9999=C150,$P$20:$P$9999)),\"\")","v":""},"","",null,null,"",0,null,null,0,0,0,0,0,0,0,0,0,0,0,0,0,0,0,0,0,0,0,0,0,0,0,0,0,0,0,0,0,0,0,0,0,0,0,0,0,0,0,0,0,0,0,0,0,0,0,0,0,0,0,0,0,0,0,0,0,0,0,0,0,0,0,0,{"$f":"IF(AND(CP$14>=$O150,CP$14<$P150),1+$AA150,IF(AND(ROUND(CP$14,0)>=$O150,ROUND(CP$14,0)<=$P150,OR($F150=\"Start\",$F150=\"End\")),10,0))","v":0},0,0,0,0,0,0,0,0,0,0,0,0,0,0,0,0,0,0,0,0,0,0,0,0,0,0,{"$f":"IF(AND(DQ$14>=$O150,DQ$14<$P150),1+$AA150,IF(AND(ROUND(DQ$14,0)>=$O150,ROUND(DQ$14,0)<=$P150,OR($F150=\"Start\",$F150=\"End\")),10,0))","v":0},0,0,0,0,0,0,0,0,0,null,""]
["","",null,null,null,null,null,null,null,null,{"$f":"IFERROR(_xlfn.SINGLE(IF($F151=\"End\",PlannedFinish($C151,$P$9,$P$10,$P$11,$P$12,ROW()),IF(F151=\"Start\",M151,#NAME?(F151,G151,VLOOKUP(G151,$B$20:$P$9999,COLUMN(O$19)-1,FALSE),VLOOKUP($G151,$B$20:$P$9999,COLUMN(P$19)-1,FALSE),H151))))+IF(AND($J151<0,$F151=\"Finish to Start\"),$J151,0)+IF($J151>0,$J151,0),\"\")","v":""},{"$f":"IFERROR(IF(F151=\"End\",$O151,IF(F151=\"Start\",K151,PlannedStart(F151,G151,VLOOKUP(G151,$B$20:$P$9999,12,FALSE),VLOOKUP($G151,$B$20:$P$9999,13,FALSE),H151,O151))),$L$15)","v":""},null,null,"","",null,0,0,"",{"$f":"IF(F151=\"End\",MAX(IF($C$20:$C$9999=C151,$P$20:$P$9999)),\"\")","v":""},"","",null,null,"",0,null,null,0,0,0,0,0,0,0,0,0,0,0,0,0,0,0,0,0,0,0,0,0,0,0,0,0,0,0,0,0,0,0,0,0,0,0,0,0,0,0,0,0,0,0,0,0,0,0,0,0,0,0,0,0,0,0,0,0,0,0,0,0,0,0,{"$f":"IF(AND(CO$14>=$O151,CO$14<$P151),1+$AA151,IF(AND(ROUND(CO$14,0)>=$O151,ROUND(CO$14,0)<=$P151,OR($F151=\"Start\",$F151=\"End\")),10,0))","v":0},0,0,0,0,0,0,0,0,0,0,0,0,0,0,0,0,0,0,0,0,0,0,0,0,0,0,0,0,0,0,0,0,0,0,0,0,0,null,""]
["","",null,null,null,null,null,null,null,null,{"$f":"IFERROR(_xlfn.SINGLE(IF($F152=\"End\",PlannedFinish($C152,$P$9,$P$10,$P$11,$P$12,ROW()),IF(F152=\"Start\",M152,#NAME?(F152,G152,VLOOKUP(G152,$B$20:$P$9999,COLUMN(O$19)-1,FALSE),VLOOKUP($G152,$B$20:$P$9999,COLUMN(P$19)-1,FALSE),H152))))+IF(AND($J152<0,$F152=\"Finish to Start\"),$J152,0)+IF($J152>0,$J152,0),\"\")","v":""},{"$f":"IFERROR(IF(F152=\"End\",$O152,IF(F152=\"Start\",K152,PlannedStart(F152,G152,VLOOKUP(G152,$B$20:$P$9999,12,FALSE),VLOOKUP($G152,$B$20:$P$9999,13,FALSE),H152,O152))),$L$15)","v":""},null,null,"","",null,0,0,"",{"$f":"IF(F152=\"End\",MAX(IF($C$20:$C$9999=C152,$P$20:$P$9999)),\"\")","v":""},"","",null,null,"",0,null,null,0,0,0,0,0,0,0,0,0,0,0,0,0,0,0,0,0,0,0,0,0,0,0,0,0,0,0,0,0,0,0,0,0,0,0,0,0,0,0,0,0,0,0,0,0,0,0,0,0,0,0,0,0,0,0,0,0,0,0,0,0,0,0,0,0,0,0,0,0,0,0,0,0,0,0,0,0,0,0,0,0,0,0,0,0,0,0,0,0,0,0,0,0,0,0,0,0,0,0,0,0,null,""]
["","",null,null,null,null,null,null,null,null,{"$f":"IFERROR(_xlfn.SINGLE(IF($F153=\"End\",PlannedFinish($C153,$P$9,$P$10,$P$11,$P$12,ROW()),IF(F153=\"Start\",M153,#NAME?(F153,G153,VLOOKUP(G153,$B$20:$P$9999,COLUMN(O$19)-1,FALSE),VLOOKUP($G153,$B$20:$P$9999,COLUMN(P$19)-1,FALSE),H153))))+IF(AND($J153<0,$F153=\"Finish to Start\"),$J153,0)+IF($J153>0,$J153,0),\"\")","v":""},{"$f":"IFERROR(IF(F153=\"End\",$O153,IF(F153=\"Start\",K153,PlannedStart(F153,G153,VLOOKUP(G153,$B$20:$P$9999,12,FALSE),VLOOKUP($G153,$B$20:$P$9999,13,FALSE),H153,O153))),$L$15)","v":""},null,null,"","",null,0,0,"",{"$f":"IF(F153=\"End\",MAX(IF($C$20:$C$9999=C153,$P$20:$P$9999)),\"\")","v":""},"","",null,null,"",0,null,null,0,0,0,0,0,0,0,0,0,0,0,0,0,0,0,0,0,0,0,0,0,0,0,0,0,0,0,0,0,0,0,0,0,0,0,0,0,0,0,0,0,0,0,0,0,0,0,0,0,0,0,0,0,0,0,0,0,0,0,0,0,0,0,0,0,0,0,0,0,0,0,0,0,0,0,0,0,0,0,0,0,0,0,0,0,0,0,0,0,0,0,0,0,0,0,0,0,0,0,0,0,null,""]
["","",null,null,null,null,null,null,null,null,{"$f":"IFERROR(_xlfn.SINGLE(IF($F154=\"End\",PlannedFinish($C154,$P$9,$P$10,$P$11,$P$12,ROW()),IF(F154=\"Start\",M154,#NAME?(F154,G154,VLOOKUP(G154,$B$20:$P$9999,COLUMN(O$19)-1,FALSE),VLOOKUP($G154,$B$20:$P$9999,COLUMN(P$19)-1,FALSE),H154))))+IF(AND($J154<0,$F154=\"Finish to Start\"),$J154,0)+IF($J154>0,$J154,0),\"\")","v":""},{"$f":"IFERROR(IF(F154=\"End\",$O154,IF(F154=\"Start\",K154,PlannedStart(F154,G154,VLOOKUP(G154,$B$20:$P$9999,12,FALSE),VLOOKUP($G154,$B$20:$P$9999,13,FALSE),H154,O154))),$L$15)","v":""},null,null,"","",null,0,0,"",{"$f":"IF(F154=\"End\",MAX(IF($C$20:$C$9999=C154,$P$20:$P$9999)),\"\")","v":""},"","",null,null,"",0,null,null,{"$f":"IF(AND(AD$14>=$O154,AD$14<$P154),1+$AA154,IF(AND(ROUND(AD$14,0)>=$O154,ROUND(AD$14,0)<=$P154,OR($F154=\"Start\",$F154=\"End\")),10,0))","v":0},0,0,0,0,0,0,0,0,0,{"$f":"IF(AND(AN$14>=$O154,AN$14<$P154),1+$AA154,IF(AND(ROUND(AN$14,0)>=$O154,ROUND(AN$14,0)<=$P154,OR($F154=\"Start\",$F154=\"End\")),10,0))","v":0},0,0,0,0,0,0,0,0,0,{"$f":"IF(AND(AX$14>=$O154,AX$14<$P154),1+$AA154,IF(AND(ROUND(AX$14,0)>=$O154,ROUND(AX$14,0)<=$P154,OR($F154=\"Start\",$F154=\"End\")),10,0))","v":0},0,0,0,0,0,0,0,0,0,{"$f":"IF(AND(BH$14>=$O154,BH$14<$P154),1+$AA154,IF(AND(ROUND(BH$14,0)>=$O154,ROUND(BH$14,0)<=$P154,OR($F154=\"Start\",$F154=\"End\")),10,0))","v":0},0,0,0,0,0,0,0,0,0,{"$f":"IF(AND(BR$14>=$O154,BR$14<$P154),1+$AA154,IF(AND(ROUND(BR$14,0)>=$O154,ROUND(BR$14,0)<=$P154,OR($F154=\"Start\",$F154=\"End\")),10,0))","v":0},0,0,0,0,0,0,0,0,0,{"$f":"IF(AND(CB$14>=$O154,CB$14<$P154),1+$AA154,IF(AND(ROUND(CB$14,0)>=$O154,ROUND(CB$14,0)<=$P154,OR($F154=\"Start\",$F154=\"End\")),10,0))","v":0},0,0,0,0,0,0,0,0,0,0,0,0,0,0,0,0,0,0,0,0,0,0,0,0,0,0,0,0,0,0,0,0,0,0,0,0,0,0,0,0,0,0,0,0,0,0,0,0,0,0,null,""]
["","",null,null,null,null,null,null,null,null,{"$f":"IFERROR(_xlfn.SINGLE(IF($F155=\"End\",PlannedFinish($C155,$P$9,$P$10,$P$11,$P$12,ROW()),IF(F155=\"Start\",M155,#NAME?(F155,G155,VLOOKUP(G155,$B$20:$P$9999,COLUMN(O$19)-1,FALSE),VLOOKUP($G155,$B$20:$P$9999,COLUMN(P$19)-1,FALSE),H155))))+IF(AND($J155<0,$F155=\"Finish to Start\"),$J155,0)+IF($J155>0,$J155,0),\"\")","v":""},{"$f":"IFERROR(IF(F155=\"End\",$O155,IF(F155=\"Start\",K155,PlannedStart(F155,G155,VLOOKUP(G155,$B$20:$P$9999,12,FALSE),VLOOKUP($G155,$B$20:$P$9999,13,FALSE),H155,O155))),$L$15)","v":""},null,null,"","",null,0,0,"",{"$f":"IF(F155=\"End\",MAX(IF($C$20:$C$9999=C155,$P$20:$P$9999)),\"\")","v":""},"","",null,null,"",0,null,null,0,0,0,0,0,0,0,0,0,0,0,0,0,0,0,0,0,0,0,0,0,0,0,0,0,0,0,0,0,0,0,0,0,0,0,0,0,0,0,0,0,0,0,0,0,0,0,0,0,0,0,0,0,0,0,0,0,0,0,0,0,0,0,0,0,0,0,0,0,0,0,0,0,0,0,0,0,0,0,0,0,0,0,0,0,0,0,0,0,0,0,0,0,0,0,0,0,0,0,0,0,null,""]
["","",null,null,null,null,null,null,null,null,{"$f":"IFERROR(_xlfn.SINGLE(IF($F156=\"End\",PlannedFinish($C156,$P$9,$P$10,$P$11,$P$12,ROW()),IF(F156=\"Start\",M156,#NAME?(F156,G156,VLOOKUP(G156,$B$20:$P$9999,COLUMN(O$19)-1,FALSE),VLOOKUP($G156,$B$20:$P$9999,COLUMN(P$19)-1,FALSE),H156))))+IF(AND($J156<0,$F156=\"Finish to Start\"),$J156,0)+IF($J156>0,$J156,0),\"\")","v":""},{"$f":"IFERROR(IF(F156=\"End\",$O156,IF(F156=\"Start\",K156,PlannedStart(F156,G156,VLOOKUP(G156,$B$20:$P$9999,12,FALSE),VLOOKUP($G156,$B$20:$P$9999,13,FALSE),H156,O156))),$L$15)","v":""},null,null,"","",null,0,0,"",{"$f":"IF(F156=\"End\",MAX(IF($C$20:$C$9999=C156,$P$20:$P$9999)),\"\")","v":""},"","",null,null,"",0,null,null,0,0,0,0,0,0,0,0,0,0,0,0,0,0,0,0,0,0,0,0,0,0,0,0,0,0,0,0,0,0,0,0,0,0,0,0,0,0,0,0,0,0,0,0,0,0,0,0,0,0,0,0,0,0,0,0,0,0,0,0,0,0,0,0,0,0,0,0,0,0,0,0,0,0,0,0,0,0,0,0,0,0,0,0,0,0,0,0,0,0,0,0,0,0,0,0,0,0,0,0,0,null,""]
["","",null,null,null,null,null,null,null,null,{"$f":"IFERROR(_xlfn.SINGLE(IF($F157=\"End\",PlannedFinish($C157,$P$9,$P$10,$P$11,$P$12,ROW()),IF(F157=\"Start\",M157,#NAME?(F157,G157,VLOOKUP(G157,$B$20:$P$9999,COLUMN(O$19)-1,FALSE),VLOOKUP($G157,$B$20:$P$9999,COLUMN(P$19)-1,FALSE),H157))))+IF(AND($J157<0,$F157=\"Finish to Start\"),$J157,0)+IF($J157>0,$J157,0),\"\")","v":""},{"$f":"IFERROR(IF(F157=\"End\",$O157,IF(F157=\"Start\",K157,PlannedStart(F157,G157,VLOOKUP(G157,$B$20:$P$9999,12,FALSE),VLOOKUP($G157,$B$20:$P$9999,13,FALSE),H157,O157))),$L$15)","v":""},null,null,"","",null,0,0,"",{"$f":"IF(F157=\"End\",MAX(IF($C$20:$C$9999=C157,$P$20:$P$9999)),\"\")","v":""},"","",null,null,"",0,null,null,0,0,0,0,0,0,0,0,0,0,0,0,0,0,0,0,0,0,0,0,0,0,0,0,0,0,0,0,0,0,0,0,0,0,0,0,0,0,0,0,0,0,0,0,0,0,0,0,0,0,0,0,0,0,0,0,0,0,0,0,0,0,0,0,0,0,0,0,0,0,0,0,0,0,0,0,0,0,0,0,0,0,0,0,0,0,0,0,0,0,0,0,0,0,0,0,0,0,0,0,0,null,""]
["","",null,null,null,null,null,null,null,null,{"$f":"IFERROR(_xlfn.SINGLE(IF($F158=\"End\",PlannedFinish($C158,$P$9,$P$10,$P$11,$P$12,ROW()),IF(F158=\"Start\",M158,#NAME?(F158,G158,VLOOKUP(G158,$B$20:$P$9999,COLUMN(O$19)-1,FALSE),VLOOKUP($G158,$B$20:$P$9999,COLUMN(P$19)-1,FALSE),H158))))+IF(AND($J158<0,$F158=\"Finish to Start\"),$J158,0)+IF($J158>0,$J158,0),\"\")","v":""},{"$f":"IFERROR(IF(F158=\"End\",$O158,IF(F158=\"Start\",K158,PlannedStart(F158,G158,VLOOKUP(G158,$B$20:$P$9999,12,FALSE),VLOOKUP($G158,$B$20:$P$9999,13,FALSE),H158,O158))),$L$15)","v":""},null,null,"","",null,0,0,"",{"$f":"IF(F158=\"End\",MAX(IF($C$20:$C$9999=C158,$P$20:$P$9999)),\"\")","v":""},"","",null,null,"",0,null,null,0,0,0,0,0,0,0,0,0,0,0,0,0,0,0,0,0,0,0,0,0,0,0,0,0,0,0,0,0,0,0,0,0,0,0,0,0,0,0,0,0,0,0,0,0,0,0,0,0,0,0,0,0,0,0,0,0,0,0,0,0,0,0,0,0,0,0,0,0,0,0,0,0,0,0,0,0,0,0,0,0,0,0,0,0,0,0,0,0,0,0,0,0,0,0,0,0,0,0,0,0,null,""]
["","",null,null,null,null,null,null,null,null,{"$f":"IFERROR(_xlfn.SINGLE(IF($F159=\"End\",PlannedFinish($C159,$P$9,$P$10,$P$11,$P$12,ROW()),IF(F159=\"Start\",M159,#NAME?(F159,G159,VLOOKUP(G159,$B$20:$P$9999,COLUMN(O$19)-1,FALSE),VLOOKUP($G159,$B$20:$P$9999,COLUMN(P$19)-1,FALSE),H159))))+IF(AND($J159<0,$F159=\"Finish to Start\"),$J159,0)+IF($J159>0,$J159,0),\"\")","v":""},{"$f":"IFERROR(IF(F159=\"End\",$O159,IF(F159=\"Start\",K159,PlannedStart(F159,G159,VLOOKUP(G159,$B$20:$P$9999,12,FALSE),VLOOKUP($G159,$B$20:$P$9999,13,FALSE),H159,O159))),$L$15)","v":""},null,null,"","",null,0,0,"",{"$f":"IF(F159=\"End\",MAX(IF($C$20:$C$9999=C159,$P$20:$P$9999)),\"\")","v":""},"","",null,null,"",0,null,null,0,0,0,0,0,0,0,0,0,0,0,0,0,0,0,0,0,0,0,0,0,0,0,0,0,0,0,0,0,0,0,0,0,0,0,0,0,0,0,0,0,0,0,0,0,0,0,0,0,0,0,0,0,0,0,0,0,0,0,0,0,0,0,0,0,0,0,{"$f":"IF(AND(CS$14>=$O159,CS$14<$P159),1+$AA159,IF(AND(ROUND(CS$14,0)>=$O159,ROUND(CS$14,0)<=$P159,OR($F159=\"Start\",$F159=\"End\")),10,0))","v":0},0,0,0,0,0,0,0,0,0,{"$f":"IF(AND(DC$14>=$O159,DC$14<$P159),1+$AA159,IF(AND(ROUND(DC$14,0)>=$O159,ROUND(DC$14,0)<=$P159,OR($F159=\"Start\",$F159=\"End\")),10,0))","v":0},0,0,0,0,0,0,0,0,0,0,0,0,0,0,0,0,0,0,0,0,0,0,0,null,""]
["","",null,null,null,null,null,null,null,null,{"$f":"IFERROR(_xlfn.SINGLE(IF($F160=\"End\",PlannedFinish($C160,$P$9,$P$10,$P$11,$P$12,ROW()),IF(F160=\"Start\",M160,#NAME?(F160,G160,VLOOKUP(G160,$B$20:$P$9999,COLUMN(O$19)-1,FALSE),VLOOKUP($G160,$B$20:$P$9999,COLUMN(P$19)-1,FALSE),H160))))+IF(AND($J160<0,$F160=\"Finish to Start\"),$J160,0)+IF($J160>0,$J160,0),\"\")","v":""},{"$f":"IFERROR(IF(F160=\"End\",$O160,IF(F160=\"Start\",K160,PlannedStart(F160,G160,VLOOKUP(G160,$B$20:$P$9999,12,FALSE),VLOOKUP($G160,$B$20:$P$9999,13,FALSE),H160,O160))),$L$15)","v":""},null,null,"","",null,0,0,"",{"$f":"IF(F160=\"End\",MAX(IF($C$20:$C$9999=C160,$P$20:$P$9999)),\"\")","v":""},"","",null,null,"",0,null,null,0,0,0,0,0,0,0,0,0,0,0,0,0,0,0,0,0,0,0,0,0,0,0,0,0,0,0,0,0,0,0,0,0,0,0,0,0,0,0,0,0,0,0,0,0,0,0,0,0,0,0,0,0,0,0,0,0,0,0,0,0,0,0,0,0,0,0,0,0,0,0,0,0,0,0,0,0,0,0,0,0,0,0,0,0,0,0,0,0,0,0,0,0,0,0,0,0,0,0,0,0,null,""]
["","",null,null,null,null,null,null,null,null,{"$f":"IFERROR(_xlfn.SINGLE(IF($F161=\"End\",PlannedFinish($C161,$P$9,$P$10,$P$11,$P$12,ROW()),IF(F161=\"Start\",M161,#NAME?(F161,G161,VLOOKUP(G161,$B$20:$P$9999,COLUMN(O$19)-1,FALSE),VLOOKUP($G161,$B$20:$P$9999,COLUMN(P$19)-1,FALSE),H161))))+IF(AND($J161<0,$F161=\"Finish to Start\"),$J161,0)+IF($J161>0,$J161,0),\"\")","v":""},{"$f":"IFERROR(IF(F161=\"End\",$O161,IF(F161=\"Start\",K161,PlannedStart(F161,G161,VLOOKUP(G161,$B$20:$P$9999,12,FALSE),VLOOKUP($G161,$B$20:$P$9999,13,FALSE),H161,O161))),$L$15)","v":""},null,null,"","",null,0,0,"",{"$f":"IF(F161=\"End\",MAX(IF($C$20:$C$9999=C161,$P$20:$P$9999)),\"\")","v":""},"","",null,null,"",0,null,null,0,0,0,0,0,0,0,0,0,0,0,0,0,0,0,0,0,0,0,0,0,0,0,0,0,0,0,0,0,0,0,0,0,0,0,0,0,0,0,0,0,0,0,0,0,0,0,0,0,0,0,0,0,0,0,0,0,0,0,0,0,0,0,0,0,0,0,0,0,0,0,0,0,0,0,0,0,0,0,0,0,0,0,0,0,0,0,0,0,0,0,0,0,0,0,0,0,0,0,0,0,null,""]
["","",null,null,null,null,null,null,null,null,{"$f":"IFERROR(_xlfn.SINGLE(IF($F162=\"End\",PlannedFinish($C162,$P$9,$P$10,$P$11,$P$12,ROW()),IF(F162=\"Start\",M162,#NAME?(F162,G162,VLOOKUP(G162,$B$20:$P$9999,COLUMN(O$19)-1,FALSE),VLOOKUP($G162,$B$20:$P$9999,COLUMN(P$19)-1,FALSE),H162))))+IF(AND($J162<0,$F162=\"Finish to Start\"),$J162,0)+IF($J162>0,$J162,0),\"\")","v":""},{"$f":"IFERROR(IF(F162=\"End\",$O162,IF(F162=\"Start\",K162,PlannedStart(F162,G162,VLOOKUP(G162,$B$20:$P$9999,12,FALSE),VLOOKUP($G162,$B$20:$P$9999,13,FALSE),H162,O162))),$L$15)","v":""},null,null,"","",null,0,0,"",{"$f":"IF(F162=\"End\",MAX(IF($C$20:$C$9999=C162,$P$20:$P$9999)),\"\")","v":""},"","",null,null,"",0,null,null,0,0,0,0,0,0,0,0,0,0,0,0,0,0,0,0,0,0,0,0,0,0,0,0,0,0,0,0,0,0,0,0,0,0,0,0,0,0,0,0,0,0,0,0,0,0,0,0,0,0,0,0,0,0,0,0,0,0,0,0,0,0,0,0,0,0,0,0,0,0,0,0,0,0,0,0,0,0,0,0,0,0,0,0,0,0,0,0,0,0,0,0,0,0,0,0,0,0,0,0,0,null,""]
["","",null,null,null,null,null,null,null,null,{"$f":"IFERROR(_xlfn.SINGLE(IF($F163=\"End\",PlannedFinish($C163,$P$9,$P$10,$P$11,$P$12,ROW()),IF(F163=\"Start\",M163,#NAME?(F163,G163,VLOOKUP(G163,$B$20:$P$9999,COLUMN(O$19)-1,FALSE),VLOOKUP($G163,$B$20:$P$9999,COLUMN(P$19)-1,FALSE),H163))))+IF(AND($J163<0,$F163=\"Finish to Start\"),$J163,0)+IF($J163>0,$J163,0),\"\")","v":""},{"$f":"IFERROR(IF(F163=\"End\",$O163,IF(F163=\"Start\",K163,PlannedStart(F163,G163,VLOOKUP(G163,$B$20:$P$9999,12,FALSE),VLOOKUP($G163,$B$20:$P$9999,13,FALSE),H163,O163))),$L$15)","v":""},null,null,"","",null,0,0,"",{"$f":"IF(F163=\"End\",MAX(IF($C$20:$C$9999=C163,$P$20:$P$9999)),\"\")","v":""},"","",null,null,"",0,null,null,0,0,0,0,0,0,0,0,0,0,0,0,0,0,0,0,0,0,0,0,0,0,0,0,0,0,0,0,0,0,0,0,0,0,0,0,0,0,0,0,0,0,0,0,0,0,0,0,0,0,0,0,0,0,0,0,0,0,0,0,0,0,0,0,0,0,0,0,0,0,0,0,0,0,0,0,0,0,0,0,0,0,0,0,0,0,0,0,0,0,0,0,0,0,0,0,0,0,0,0,0,null,""]
["","",null,null,null,null,null,null,null,null,{"$f":"IFERROR(_xlfn.SINGLE(IF($F164=\"End\",PlannedFinish($C164,$P$9,$P$10,$P$11,$P$12,ROW()),IF(F164=\"Start\",M164,#NAME?(F164,G164,VLOOKUP(G164,$B$20:$P$9999,COLUMN(O$19)-1,FALSE),VLOOKUP($G164,$B$20:$P$9999,COLUMN(P$19)-1,FALSE),H164))))+IF(AND($J164<0,$F164=\"Finish to Start\"),$J164,0)+IF($J164>0,$J164,0),\"\")","v":""},{"$f":"IFERROR(IF(F164=\"End\",$O164,IF(F164=\"Start\",K164,PlannedStart(F164,G164,VLOOKUP(G164,$B$20:$P$9999,12,FALSE),VLOOKUP($G164,$B$20:$P$9999,13,FALSE),H164,O164))),$L$15)","v":""},null,null,"","",null,0,0,"",{"$f":"IF(F164=\"End\",MAX(IF($C$20:$C$9999=C164,$P$20:$P$9999)),\"\")","v":""},"","",null,null,"",0,null,null,{"$f":"IF(AND(AD$14>=$O164,AD$14<$P164),1+$AA164,IF(AND(ROUND(AD$14,0)>=$O164,ROUND(AD$14,0)<=$P164,OR($F164=\"Start\",$F164=\"End\")),10,0))","v":0},0,0,0,0,0,0,0,0,0,{"$f":"IF(AND(AN$14>=$O164,AN$14<$P164),1+$AA164,IF(AND(ROUND(AN$14,0)>=$O164,ROUND(AN$14,0)<=$P164,OR($F164=\"Start\",$F164=\"End\")),10,0))","v":0},0,0,0,0,0,0,0,0,0,{"$f":"IF(AND(AX$14>=$O164,AX$14<$P164),1+$AA164,IF(AND(ROUND(AX$14,0)>=$O164,ROUND(AX$14,0)<=$P164,OR($F164=\"Start\",$F164=\"End\")),10,0))","v":0},0,0,0,0,0,0,0,0,0,{"$f":"IF(AND(BH$14>=$O164,BH$14<$P164),1+$AA164,IF(AND(ROUND(BH$14,0)>=$O164,ROUND(BH$14,0)<=$P164,OR($F164=\"Start\",$F164=\"End\")),10,0))","v":0},0,0,0,0,0,0,0,0,0,{"$f":"IF(AND(BR$14>=$O164,BR$14<$P164),1+$AA164,IF(AND(ROUND(BR$14,0)>=$O164,ROUND(BR$14,0)<=$P164,OR($F164=\"Start\",$F164=\"End\")),10,0))","v":0},0,0,0,0,0,0,0,0,0,{"$f":"IF(AND(CB$14>=$O164,CB$14<$P164),1+$AA164,IF(AND(ROUND(CB$14,0)>=$O164,ROUND(CB$14,0)<=$P164,OR($F164=\"Start\",$F164=\"End\")),10,0))","v":0},0,0,0,0,0,0,0,0,0,0,0,0,0,0,0,0,0,0,0,0,0,0,0,0,0,0,0,0,0,0,0,0,0,0,0,0,0,0,0,0,0,0,0,0,0,0,0,0,0,0,null,""]
["","",null,null,null,null,null,null,null,null,{"$f":"IFERROR(_xlfn.SINGLE(IF($F165=\"End\",PlannedFinish($C165,$P$9,$P$10,$P$11,$P$12,ROW()),IF(F165=\"Start\",M165,#NAME?(F165,G165,VLOOKUP(G165,$B$20:$P$9999,COLUMN(O$19)-1,FALSE),VLOOKUP($G165,$B$20:$P$9999,COLUMN(P$19)-1,FALSE),H165))))+IF(AND($J165<0,$F165=\"Finish to Start\"),$J165,0)+IF($J165>0,$J165,0),\"\")","v":""},{"$f":"IFERROR(IF(F165=\"End\",$O165,IF(F165=\"Start\",K165,PlannedStart(F165,G165,VLOOKUP(G165,$B$20:$P$9999,12,FALSE),VLOOKUP($G165,$B$20:$P$9999,13,FALSE),H165,O165))),$L$15)","v":""},null,null,"","",null,0,0,"",{"$f":"IF(F165=\"End\",MAX(IF($C$20:$C$9999=C165,$P$20:$P$9999)),\"\")","v":""},"","",null,null,"",0,null,null,0,0,0,0,0,0,0,0,0,0,0,0,0,0,0,0,0,0,0,0,0,0,0,0,0,0,0,0,0,0,0,0,0,0,0,0,0,0,0,0,0,0,0,0,0,0,0,0,0,0,0,0,0,0,0,0,0,0,0,0,0,0,0,0,0,0,0,0,0,0,0,0,0,0,0,0,0,0,0,0,0,0,0,0,0,0,0,0,0,0,0,0,0,0,0,0,0,0,0,0,0,null,""]
["","",null,null,null,null,null,null,null,null,{"$f":"IFERROR(_xlfn.SINGLE(IF($F166=\"End\",PlannedFinish($C166,$P$9,$P$10,$P$11,$P$12,ROW()),IF(F166=\"Start\",M166,#NAME?(F166,G166,VLOOKUP(G166,$B$20:$P$9999,COLUMN(O$19)-1,FALSE),VLOOKUP($G166,$B$20:$P$9999,COLUMN(P$19)-1,FALSE),H166))))+IF(AND($J166<0,$F166=\"Finish to Start\"),$J166,0)+IF($J166>0,$J166,0),\"\")","v":""},{"$f":"IFERROR(IF(F166=\"End\",$O166,IF(F166=\"Start\",K166,PlannedStart(F166,G166,VLOOKUP(G166,$B$20:$P$9999,12,FALSE),VLOOKUP($G166,$B$20:$P$9999,13,FALSE),H166,O166))),$L$15)","v":""},null,null,"","",null,0,0,"",{"$f":"IF(F166=\"End\",MAX(IF($C$20:$C$9999=C166,$P$20:$P$9999)),\"\")","v":""},"","",null,null,"",0,null,null,0,0,0,0,0,0,0,0,0,0,0,0,0,0,0,0,0,0,0,0,0,0,0,0,0,0,0,0,0,0,0,0,0,0,0,0,0,0,0,0,0,0,0,0,0,0,0,0,0,0,0,0,0,0,0,0,0,0,0,0,0,0,0,0,0,0,0,0,0,0,0,0,0,0,0,0,0,0,0,0,0,0,0,0,0,0,0,0,0,0,0,0,0,0,0,0,0,0,0,0,0,null,""]
["","",null,null,null,null,null,null,null,null,{"$f":"IFERROR(_xlfn.SINGLE(IF($F167=\"End\",PlannedFinish($C167,$P$9,$P$10,$P$11,$P$12,ROW()),IF(F167=\"Start\",M167,#NAME?(F167,G167,VLOOKUP(G167,$B$20:$P$9999,COLUMN(O$19)-1,FALSE),VLOOKUP($G167,$B$20:$P$9999,COLUMN(P$19)-1,FALSE),H167))))+IF(AND($J167<0,$F167=\"Finish to Start\"),$J167,0)+IF($J167>0,$J167,0),\"\")","v":""},{"$f":"IFERROR(IF(F167=\"End\",$O167,IF(F167=\"Start\",K167,PlannedStart(F167,G167,VLOOKUP(G167,$B$20:$P$9999,12,FALSE),VLOOKUP($G167,$B$20:$P$9999,13,FALSE),H167,O167))),$L$15)","v":""},null,null,"","",null,0,0,"",{"$f":"IF(F167=\"End\",MAX(IF($C$20:$C$9999=C167,$P$20:$P$9999)),\"\")","v":""},"","",null,null,"",0,null,null,0,0,0,0,0,0,0,0,0,0,0,0,0,0,0,0,0,0,0,0,0,0,0,0,0,0,0,0,0,0,0,0,0,0,0,0,0,0,0,0,0,0,0,0,0,0,0,0,0,0,0,0,0,0,0,0,0,0,0,0,0,0,0,0,0,0,0,{"$f":"IF(AND(CS$14>=$O167,CS$14<$P167),1+$AA167,IF(AND(ROUND(CS$14,0)>=$O167,ROUND(CS$14,0)<=$P167,OR($F167=\"Start\",$F167=\"End\")),10,0))","v":0},0,0,0,0,0,0,0,0,0,0,{"$f":"IF(AND(DD$14>=$O167,DD$14<$P167),1+$AA167,IF(AND(ROUND(DD$14,0)>=$O167,ROUND(DD$14,0)<=$P167,OR($F167=\"Start\",$F167=\"End\")),10,0))","v":0},0,0,0,0,0,0,0,0,0,0,0,0,0,0,0,0,0,0,0,0,0,0,null,""]
["","",null,null,null,null,null,null,null,null,{"$f":"IFERROR(_xlfn.SINGLE(IF($F168=\"End\",PlannedFinish($C168,$P$9,$P$10,$P$11,$P$12,ROW()),IF(F168=\"Start\",M168,#NAME?(F168,G168,VLOOKUP(G168,$B$20:$P$9999,COLUMN(O$19)-1,FALSE),VLOOKUP($G168,$B$20:$P$9999,COLUMN(P$19)-1,FALSE),H168))))+IF(AND($J168<0,$F168=\"Finish to Start\"),$J168,0)+IF($J168>0,$J168,0),\"\")","v":""},{"$f":"IFERROR(IF(F168=\"End\",$O168,IF(F168=\"Start\",K168,PlannedStart(F168,G168,VLOOKUP(G168,$B$20:$P$9999,12,FALSE),VLOOKUP($G168,$B$20:$P$9999,13,FALSE),H168,O168))),$L$15)","v":""},null,null,"","",null,0,0,"",{"$f":"IF(F168=\"End\",MAX(IF($C$20:$C$9999=C168,$P$20:$P$9999)),\"\")","v":""},"","",null,null,"",0,null,null,0,0,0,0,0,0,0,0,0,0,0,0,0,0,0,0,0,0,0,0,0,0,0,0,0,0,0,0,0,0,0,0,0,0,0,0,0,0,0,0,0,0,0,0,0,0,0,0,0,0,0,0,0,0,0,0,0,0,0,0,0,0,0,0,0,0,0,0,0,0,0,0,0,0,0,0,0,0,0,0,0,0,0,0,0,0,0,0,0,0,0,0,0,0,0,0,0,0,0,0,0,null,""]
["","",null,null,null,null,null,null,null,null,{"$f":"IFERROR(_xlfn.SINGLE(IF($F169=\"End\",PlannedFinish($C169,$P$9,$P$10,$P$11,$P$12,ROW()),IF(F169=\"Start\",M169,#NAME?(F169,G169,VLOOKUP(G169,$B$20:$P$9999,COLUMN(O$19)-1,FALSE),VLOOKUP($G169,$B$20:$P$9999,COLUMN(P$19)-1,FALSE),H169))))+IF(AND($J169<0,$F169=\"Finish to Start\"),$J169,0)+IF($J169>0,$J169,0),\"\")","v":""},{"$f":"IFERROR(IF(F169=\"End\",$O169,IF(F169=\"Start\",K169,PlannedStart(F169,G169,VLOOKUP(G169,$B$20:$P$9999,12,FALSE),VLOOKUP($G169,$B$20:$P$9999,13,FALSE),H169,O169))),$L$15)","v":""},null,null,"","",null,0,0,"",{"$f":"IF(F169=\"End\",MAX(IF($C$20:$C$9999=C169,$P$20:$P$9999)),\"\")","v":""},"","",null,null,"",0,null,null,0,0,0,0,0,0,0,0,0,0,0,0,0,0,0,0,0,0,0,0,0,0,0,0,0,0,0,0,0,0,0,0,0,0,0,0,0,0,0,0,0,0,0,0,0,0,0,0,0,0,0,0,0,0,0,0,0,0,0,0,0,0,0,0,0,0,0,0,0,0,0,0,0,0,0,0,0,0,0,0,0,0,0,0,0,0,0,0,0,0,0,0,0,0,0,0,0,0,0,0,0,null,""]
["","",null,null,null,null,null,null,null,null,{"$f":"IFERROR(_xlfn.SINGLE(IF($F170=\"End\",PlannedFinish($C170,$P$9,$P$10,$P$11,$P$12,ROW()),IF(F170=\"Start\",M170,#NAME?(F170,G170,VLOOKUP(G170,$B$20:$P$9999,COLUMN(O$19)-1,FALSE),VLOOKUP($G170,$B$20:$P$9999,COLUMN(P$19)-1,FALSE),H170))))+IF(AND($J170<0,$F170=\"Finish to Start\"),$J170,0)+IF($J170>0,$J170,0),\"\")","v":""},{"$f":"IFERROR(IF(F170=\"End\",$O170,IF(F170=\"Start\",K170,PlannedStart(F170,G170,VLOOKUP(G170,$B$20:$P$9999,12,FALSE),VLOOKUP($G170,$B$20:$P$9999,13,FALSE),H170,O170))),$L$15)","v":""},null,null,"","",null,0,0,"",{"$f":"IF(F170=\"End\",MAX(IF($C$20:$C$9999=C170,$P$20:$P$9999)),\"\")","v":""},"","",null,null,"",0,null,null,0,0,0,0,0,0,0,0,0,0,0,0,0,0,0,0,0,0,0,0,0,0,0,0,0,0,0,0,0,0,0,0,0,0,0,0,0,0,0,0,0,0,0,0,0,0,0,0,0,0,0,0,0,0,0,0,0,0,0,0,0,0,0,0,{"$f":"IF(AND(CP$14>=$O170,CP$14<$P170),1+$AA170,IF(AND(ROUND(CP$14,0)>=$O170,ROUND(CP$14,0)<=$P170,OR($F170=\"Start\",$F170=\"End\")),10,0))","v":0},0,0,0,0,0,0,0,0,0,0,0,0,0,0,0,0,0,0,0,0,0,0,0,0,0,0,0,0,0,0,0,0,0,0,0,0,null,""]
["","",null,null,null,null,null,null,null,null,{"$f":"IFERROR(_xlfn.SINGLE(IF($F171=\"End\",PlannedFinish($C171,$P$9,$P$10,$P$11,$P$12,ROW()),IF(F171=\"Start\",M171,#NAME?(F171,G171,VLOOKUP(G171,$B$20:$P$9999,COLUMN(O$19)-1,FALSE),VLOOKUP($G171,$B$20:$P$9999,COLUMN(P$19)-1,FALSE),H171))))+IF(AND($J171<0,$F171=\"Finish to Start\"),$J171,0)+IF($J171>0,$J171,0),\"\")","v":""},{"$f":"IFERROR(IF(F171=\"End\",$O171,IF(F171=\"Start\",K171,PlannedStart(F171,G171,VLOOKUP(G171,$B$20:$P$9999,12,FALSE),VLOOKUP($G171,$B$20:$P$9999,13,FALSE),H171,O171))),$L$15)","v":""},null,null,"","",null,0,0,"",{"$f":"IF(F171=\"End\",MAX(IF($C$20:$C$9999=C171,$P$20:$P$9999)),\"\")","v":""},"","",null,null,"",0,null,null,0,0,0,0,0,0,0,0,0,0,0,0,0,0,0,0,0,0,0,0,0,0,0,0,0,0,0,0,0,0,0,0,0,0,0,0,0,0,0,0,0,0,0,0,0,0,0,0,0,0,0,0,0,0,0,0,0,0,0,0,0,0,0,0,0,0,0,0,0,0,0,0,0,0,0,0,0,0,0,0,0,0,0,0,0,0,0,0,0,0,0,0,0,0,0,0,0,0,0,0,0,null,""]
["","",null,null,null,null,null,null,null,null,{"$f":"IFERROR(_xlfn.SINGLE(IF($F172=\"End\",PlannedFinish($C172,$P$9,$P$10,$P$11,$P$12,ROW()),IF(F172=\"Start\",M172,#NAME?(F172,G172,VLOOKUP(G172,$B$20:$P$9999,COLUMN(O$19)-1,FALSE),VLOOKUP($G172,$B$20:$P$9999,COLUMN(P$19)-1,FALSE),H172))))+IF(AND($J172<0,$F172=\"Finish to Start\"),$J172,0)+IF($J172>0,$J172,0),\"\")","v":""},{"$f":"IFERROR(IF(F172=\"End\",$O172,IF(F172=\"Start\",K172,PlannedStart(F172,G172,VLOOKUP(G172,$B$20:$P$9999,12,FALSE),VLOOKUP($G172,$B$20:$P$9999,13,FALSE),H172,O172))),$L$15)","v":""},null,null,"","",null,0,0,"",{"$f":"IF(F172=\"End\",MAX(IF($C$20:$C$9999=C172,$P$20:$P$9999)),\"\")","v":""},"","",null,null,"",0,null,null,0,0,0,0,0,0,0,0,0,0,0,0,0,0,0,0,0,0,0,0,0,0,0,0,0,0,0,0,0,0,0,0,0,0,0,0,0,0,0,0,0,0,0,0,0,0,0,0,0,0,0,0,0,0,0,0,0,0,0,0,0,0,0,0,0,0,0,0,0,0,0,0,0,0,0,0,0,0,0,0,0,0,0,0,0,0,0,0,0,0,0,0,0,0,0,0,0,0,0,0,0,null,""]
["","",null,null,null,null,null,null,null,null,{"$f":"IFERROR(_xlfn.SINGLE(IF($F173=\"End\",PlannedFinish($C173,$P$9,$P$10,$P$11,$P$12,ROW()),IF(F173=\"Start\",M173,#NAME?(F173,G173,VLOOKUP(G173,$B$20:$P$9999,COLUMN(O$19)-1,FALSE),VLOOKUP($G173,$B$20:$P$9999,COLUMN(P$19)-1,FALSE),H173))))+IF(AND($J173<0,$F173=\"Finish to Start\"),$J173,0)+IF($J173>0,$J173,0),\"\")","v":""},{"$f":"IFERROR(IF(F173=\"End\",$O173,IF(F173=\"Start\",K173,PlannedStart(F173,G173,VLOOKUP(G173,$B$20:$P$9999,12,FALSE),VLOOKUP($G173,$B$20:$P$9999,13,FALSE),H173,O173))),$L$15)","v":""},null,null,"","",null,0,0,"",{"$f":"IF(F173=\"End\",MAX(IF($C$20:$C$9999=C173,$P$20:$P$9999)),\"\")","v":""},"","",null,null,"",0,null,null,0,0,0,0,0,0,0,0,0,0,0,0,0,0,0,0,0,0,0,0,0,0,0,0,0,0,0,0,0,0,0,0,0,0,0,0,0,0,0,0,0,0,0,0,0,0,0,0,0,0,0,0,0,0,0,0,0,0,0,0,0,0,0,0,0,0,0,0,0,0,0,0,0,0,0,0,0,0,0,0,0,0,0,0,0,0,0,0,0,0,0,0,0,0,0,0,0,0,0,0,0,null,""]
["","",null,null,null,null,null,null,null,null,{"$f":"IFERROR(_xlfn.SINGLE(IF($F174=\"End\",PlannedFinish($C174,$P$9,$P$10,$P$11,$P$12,ROW()),IF(F174=\"Start\",M174,#NAME?(F174,G174,VLOOKUP(G174,$B$20:$P$9999,COLUMN(O$19)-1,FALSE),VLOOKUP($G174,$B$20:$P$9999,COLUMN(P$19)-1,FALSE),H174))))+IF(AND($J174<0,$F174=\"Finish to Start\"),$J174,0)+IF($J174>0,$J174,0),\"\")","v":""},{"$f":"IFERROR(IF(F174=\"End\",$O174,IF(F174=\"Start\",K174,PlannedStart(F174,G174,VLOOKUP(G174,$B$20:$P$9999,12,FALSE),VLOOKUP($G174,$B$20:$P$9999,13,FALSE),H174,O174))),$L$15)","v":""},null,null,"","",null,0,0,"",{"$f":"IF(F174=\"End\",MAX(IF($C$20:$C$9999=C174,$P$20:$P$9999)),\"\")","v":""},"","",null,null,"",0,null,null,{"$f":"IF(AND(AD$14>=$O174,AD$14<$P174),1+$AA174,IF(AND(ROUND(AD$14,0)>=$O174,ROUND(AD$14,0)<=$P174,OR($F174=\"Start\",$F174=\"End\")),10,0))","v":0},0,0,0,0,0,0,0,0,0,{"$f":"IF(AND(AN$14>=$O174,AN$14<$P174),1+$AA174,IF(AND(ROUND(AN$14,0)>=$O174,ROUND(AN$14,0)<=$P174,OR($F174=\"Start\",$F174=\"End\")),10,0))","v":0},0,0,0,0,0,0,0,0,0,{"$f":"IF(AND(AX$14>=$O174,AX$14<$P174),1+$AA174,IF(AND(ROUND(AX$14,0)>=$O174,ROUND(AX$14,0)<=$P174,OR($F174=\"Start\",$F174=\"End\")),10,0))","v":0},0,0,0,0,0,0,0,0,0,{"$f":"IF(AND(BH$14>=$O174,BH$14<$P174),1+$AA174,IF(AND(ROUND(BH$14,0)>=$O174,ROUND(BH$14,0)<=$P174,OR($F174=\"Start\",$F174=\"End\")),10,0))","v":0},0,0,0,0,0,0,0,0,0,{"$f":"IF(AND(BR$14>=$O174,BR$14<$P174),1+$AA174,IF(AND(ROUND(BR$14,0)>=$O174,ROUND(BR$14,0)<=$P174,OR($F174=\"Start\",$F174=\"End\")),10,0))","v":0},0,0,0,0,0,0,0,0,0,{"$f":"IF(AND(CB$14>=$O174,CB$14<$P174),1+$AA174,IF(AND(ROUND(CB$14,0)>=$O174,ROUND(CB$14,0)<=$P174,OR($F174=\"Start\",$F174=\"End\")),10,0))","v":0},0,0,0,0,0,0,0,0,0,0,0,0,0,0,0,0,0,0,0,0,0,0,0,0,0,0,0,0,0,0,0,0,0,0,0,0,0,0,0,0,0,0,0,0,0,0,0,0,0,0,null,""]
["","",null,null,null,null,null,null,null,null,{"$f":"IFERROR(_xlfn.SINGLE(IF($F175=\"End\",PlannedFinish($C175,$P$9,$P$10,$P$11,$P$12,ROW()),IF(F175=\"Start\",M175,#NAME?(F175,G175,VLOOKUP(G175,$B$20:$P$9999,COLUMN(O$19)-1,FALSE),VLOOKUP($G175,$B$20:$P$9999,COLUMN(P$19)-1,FALSE),H175))))+IF(AND($J175<0,$F175=\"Finish to Start\"),$J175,0)+IF($J175>0,$J175,0),\"\")","v":""},{"$f":"IFERROR(IF(F175=\"End\",$O175,IF(F175=\"Start\",K175,PlannedStart(F175,G175,VLOOKUP(G175,$B$20:$P$9999,12,FALSE),VLOOKUP($G175,$B$20:$P$9999,13,FALSE),H175,O175))),$L$15)","v":""},null,null,"","",null,0,0,"",{"$f":"IF(F175=\"End\",MAX(IF($C$20:$C$9999=C175,$P$20:$P$9999)),\"\")","v":""},"","",null,null,"",0,null,null,0,0,0,0,0,0,0,0,0,0,0,0,0,0,0,0,0,0,0,0,0,0,0,0,0,0,0,0,0,0,0,0,0,0,0,0,0,0,0,0,0,0,0,0,0,0,0,0,0,0,0,0,0,0,0,0,0,0,0,0,0,0,0,0,0,0,0,0,0,0,0,0,0,0,0,0,0,0,0,0,0,0,0,0,0,0,0,0,0,0,0,0,0,0,0,0,0,0,0,0,0,null,""]
["","",null,null,null,null,null,null,null,null,{"$f":"IFERROR(_xlfn.SINGLE(IF($F176=\"End\",PlannedFinish($C176,$P$9,$P$10,$P$11,$P$12,ROW()),IF(F176=\"Start\",M176,#NAME?(F176,G176,VLOOKUP(G176,$B$20:$P$9999,COLUMN(O$19)-1,FALSE),VLOOKUP($G176,$B$20:$P$9999,COLUMN(P$19)-1,FALSE),H176))))+IF(AND($J176<0,$F176=\"Finish to Start\"),$J176,0)+IF($J176>0,$J176,0),\"\")","v":""},{"$f":"IFERROR(IF(F176=\"End\",$O176,IF(F176=\"Start\",K176,PlannedStart(F176,G176,VLOOKUP(G176,$B$20:$P$9999,12,FALSE),VLOOKUP($G176,$B$20:$P$9999,13,FALSE),H176,O176))),$L$15)","v":""},null,null,"","",null,0,0,"",{"$f":"IF(F176=\"End\",MAX(IF($C$20:$C$9999=C176,$P$20:$P$9999)),\"\")","v":""},"","",null,null,"",0,null,null,0,0,0,0,0,0,0,0,0,0,0,0,0,0,0,0,0,0,0,0,0,0,0,0,0,0,0,0,0,0,0,0,0,0,0,0,0,0,0,0,0,0,0,0,0,0,0,0,0,0,0,0,0,0,0,0,0,0,0,0,0,0,0,0,0,0,0,0,0,0,0,0,0,0,0,0,0,0,0,0,0,0,0,0,0,0,0,0,0,0,0,0,0,0,0,0,0,0,{"$f":"IF(AND(DX$14>=$O176,DX$14<$P176),1+$AA176,IF(AND(ROUND(DX$14,0)>=$O176,ROUND(DX$14,0)<=$P176,OR($F176=\"Start\",$F176=\"End\")),10,0))","v":0},0,0,null,""]
["","",null,null,null,null,null,null,null,null,{"$f":"IFERROR(_xlfn.SINGLE(IF($F177=\"End\",PlannedFinish($C177,$P$9,$P$10,$P$11,$P$12,ROW()),IF(F177=\"Start\",M177,#NAME?(F177,G177,VLOOKUP(G177,$B$20:$P$9999,COLUMN(O$19)-1,FALSE),VLOOKUP($G177,$B$20:$P$9999,COLUMN(P$19)-1,FALSE),H177))))+IF(AND($J177<0,$F177=\"Finish to Start\"),$J177,0)+IF($J177>0,$J177,0),\"\")","v":""},{"$f":"IFERROR(IF(F177=\"End\",$O177,IF(F177=\"Start\",K177,PlannedStart(F177,G177,VLOOKUP(G177,$B$20:$P$9999,12,FALSE),VLOOKUP($G177,$B$20:$P$9999,13,FALSE),H177,O177))),$L$15)","v":""},null,null,"","",null,0,0,"",{"$f":"IF(F177=\"End\",MAX(IF($C$20:$C$9999=C177,$P$20:$P$9999)),\"\")","v":""},"","",null,null,"",0,null,null,0,0,0,0,0,0,0,0,0,0,0,0,0,0,0,0,0,0,0,0,0,0,0,0,0,0,0,0,0,0,0,0,0,0,0,0,0,0,0,0,0,0,0,0,0,0,0,0,0,0,0,0,0,0,0,0,0,0,0,0,0,0,0,0,0,0,0,{"$f":"IF(AND(CS$14>=$O177,CS$14<$P177),1+$AA177,IF(AND(ROUND(CS$14,0)>=$O177,ROUND(CS$14,0)<=$P177,OR($F177=\"Start\",$F177=\"End\")),10,0))","v":0},0,0,0,0,0,0,0,0,0,0,0,0,0,0,0,0,0,0,0,0,0,0,0,0,0,0,0,0,0,0,0,0,0,null,""]
["","",null,null,null,null,null,null,null,null,{"$f":"IFERROR(_xlfn.SINGLE(IF($F178=\"End\",PlannedFinish($C178,$P$9,$P$10,$P$11,$P$12,ROW()),IF(F178=\"Start\",M178,#NAME?(F178,G178,VLOOKUP(G178,$B$20:$P$9999,COLUMN(O$19)-1,FALSE),VLOOKUP($G178,$B$20:$P$9999,COLUMN(P$19)-1,FALSE),H178))))+IF(AND($J178<0,$F178=\"Finish to Start\"),$J178,0)+IF($J178>0,$J178,0),\"\")","v":""},{"$f":"IFERROR(IF(F178=\"End\",$O178,IF(F178=\"Start\",K178,PlannedStart(F178,G178,VLOOKUP(G178,$B$20:$P$9999,12,FALSE),VLOOKUP($G178,$B$20:$P$9999,13,FALSE),H178,O178))),$L$15)","v":""},null,null,"","",null,0,0,"",{"$f":"IF(F178=\"End\",MAX(IF($C$20:$C$9999=C178,$P$20:$P$9999)),\"\")","v":""},"","",null,null,"",0,null,null,0,0,0,0,0,0,0,0,0,0,0,0,0,0,0,0,0,0,0,0,0,0,0,0,0,0,0,0,0,0,0,0,0,0,0,0,0,0,0,0,0,0,0,0,0,0,0,0,0,0,0,0,0,0,0,0,0,0,0,0,0,0,0,0,0,0,0,0,0,0,0,0,0,0,0,0,0,0,0,0,0,0,0,0,0,0,0,0,0,0,0,0,0,0,0,0,0,0,0,0,0,null,""]
["","",null,null,null,null,null,null,null,null,{"$f":"IFERROR(_xlfn.SINGLE(IF($F179=\"End\",PlannedFinish($C179,$P$9,$P$10,$P$11,$P$12,ROW()),IF(F179=\"Start\",M179,#NAME?(F179,G179,VLOOKUP(G179,$B$20:$P$9999,COLUMN(O$19)-1,FALSE),VLOOKUP($G179,$B$20:$P$9999,COLUMN(P$19)-1,FALSE),H179))))+IF(AND($J179<0,$F179=\"Finish to Start\"),$J179,0)+IF($J179>0,$J179,0),\"\")","v":""},{"$f":"IFERROR(IF(F179=\"End\",$O179,IF(F179=\"Start\",K179,PlannedStart(F179,G179,VLOOKUP(G179,$B$20:$P$9999,12,FALSE),VLOOKUP($G179,$B$20:$P$9999,13,FALSE),H179,O179))),$L$15)","v":""},null,null,"","",null,0,0,"",{"$f":"IF(F179=\"End\",MAX(IF($C$20:$C$9999=C179,$P$20:$P$9999)),\"\")","v":""},"","",null,null,"",0,null,null,0,0,0,0,0,0,0,0,0,0,0,0,0,0,0,0,0,0,0,0,0,0,0,0,0,0,0,0,0,0,0,0,0,0,0,0,0,0,0,0,0,0,0,0,0,0,0,0,0,0,0,0,0,0,0,0,0,0,0,0,0,0,0,0,0,0,0,0,0,0,0,0,0,0,0,0,0,0,0,0,0,0,0,0,0,0,0,0,0,0,0,0,0,0,0,0,0,0,0,0,0,null,""]
["","",null,null,null,null,null,null,null,null,{"$f":"IFERROR(_xlfn.SINGLE(IF($F180=\"End\",PlannedFinish($C180,$P$9,$P$10,$P$11,$P$12,ROW()),IF(F180=\"Start\",M180,#NAME?(F180,G180,VLOOKUP(G180,$B$20:$P$9999,COLUMN(O$19)-1,FALSE),VLOOKUP($G180,$B$20:$P$9999,COLUMN(P$19)-1,FALSE),H180))))+IF(AND($J180<0,$F180=\"Finish to Start\"),$J180,0)+IF($J180>0,$J180,0),\"\")","v":""},{"$f":"IFERROR(IF(F180=\"End\",$O180,IF(F180=\"Start\",K180,PlannedStart(F180,G180,VLOOKUP(G180,$B$20:$P$9999,12,FALSE),VLOOKUP($G180,$B$20:$P$9999,13,FALSE),H180,O180))),$L$15)","v":""},null,null,"","",null,0,0,"",{"$f":"IF(F180=\"End\",MAX(IF($C$20:$C$9999=C180,$P$20:$P$9999)),\"\")","v":""},"","",null,null,"",0,null,null,0,0,0,0,0,0,0,0,0,0,0,0,0,0,0,0,0,0,0,0,0,0,0,0,0,0,0,0,0,0,0,0,0,0,0,0,0,0,0,0,0,0,0,0,0,0,0,0,0,0,0,0,0,0,0,0,0,0,0,0,0,0,0,0,0,0,0,0,0,0,0,0,0,0,0,0,0,0,0,0,0,0,0,0,0,0,0,0,0,0,0,0,0,0,0,0,0,0,0,0,0,null,""]
["","",null,null,null,null,null,null,null,null,{"$f":"IFERROR(_xlfn.SINGLE(IF($F181=\"End\",PlannedFinish($C181,$P$9,$P$10,$P$11,$P$12,ROW()),IF(F181=\"Start\",M181,#NAME?(F181,G181,VLOOKUP(G181,$B$20:$P$9999,COLUMN(O$19)-1,FALSE),VLOOKUP($G181,$B$20:$P$9999,COLUMN(P$19)-1,FALSE),H181))))+IF(AND($J181<0,$F181=\"Finish to Start\"),$J181,0)+IF($J181>0,$J181,0),\"\")","v":""},{"$f":"IFERROR(IF(F181=\"End\",$O181,IF(F181=\"Start\",K181,PlannedStart(F181,G181,VLOOKUP(G181,$B$20:$P$9999,12,FALSE),VLOOKUP($G181,$B$20:$P$9999,13,FALSE),H181,O181))),$L$15)","v":""},null,null,"","",null,0,0,"",{"$f":"IF(F181=\"End\",MAX(IF($C$20:$C$9999=C181,$P$20:$P$9999)),\"\")","v":""},"","",null,null,"",0,null,null,0,0,0,0,0,0,0,0,0,0,0,0,0,0,0,0,0,0,0,0,0,0,0,0,0,0,0,0,0,0,0,0,0,0,0,0,0,0,0,0,0,0,0,0,0,0,0,0,0,0,0,0,0,0,0,0,0,0,0,0,0,0,0,0,0,0,0,0,0,0,0,0,0,0,0,0,0,0,0,0,0,0,0,0,0,0,0,0,0,0,0,0,0,0,0,0,0,0,0,0,0,null,""]
["","",null,null,null,null,null,null,null,null,{"$f":"IFERROR(_xlfn.SINGLE(IF($F182=\"End\",PlannedFinish($C182,$P$9,$P$10,$P$11,$P$12,ROW()),IF(F182=\"Start\",M182,#NAME?(F182,G182,VLOOKUP(G182,$B$20:$P$9999,COLUMN(O$19)-1,FALSE),VLOOKUP($G182,$B$20:$P$9999,COLUMN(P$19)-1,FALSE),H182))))+IF(AND($J182<0,$F182=\"Finish to Start\"),$J182,0)+IF($J182>0,$J182,0),\"\")","v":""},{"$f":"IFERROR(IF(F182=\"End\",$O182,IF(F182=\"Start\",K182,PlannedStart(F182,G182,VLOOKUP(G182,$B$20:$P$9999,12,FALSE),VLOOKUP($G182,$B$20:$P$9999,13,FALSE),H182,O182))),$L$15)","v":""},null,null,"","",null,0,0,"",{"$f":"IF(F182=\"End\",MAX(IF($C$20:$C$9999=C182,$P$20:$P$9999)),\"\")","v":""},"","",null,null,"",0,null,null,0,0,0,0,0,0,0,0,0,0,0,0,0,0,0,0,0,0,0,0,0,0,0,0,0,0,0,0,0,0,0,0,0,0,0,0,0,0,0,0,0,0,0,0,0,0,0,0,0,0,0,0,0,0,0,0,0,0,0,0,0,0,0,0,0,0,0,0,0,0,0,0,0,0,0,0,0,0,0,0,0,0,0,0,0,0,0,0,0,0,0,0,0,0,0,0,0,0,0,0,0,null,""]
["","",null,null,null,null,null,null,null,null,{"$f":"IFERROR(_xlfn.SINGLE(IF($F183=\"End\",PlannedFinish($C183,$P$9,$P$10,$P$11,$P$12,ROW()),IF(F183=\"Start\",M183,#NAME?(F183,G183,VLOOKUP(G183,$B$20:$P$9999,COLUMN(O$19)-1,FALSE),VLOOKUP($G183,$B$20:$P$9999,COLUMN(P$19)-1,FALSE),H183))))+IF(AND($J183<0,$F183=\"Finish to Start\"),$J183,0)+IF($J183>0,$J183,0),\"\")","v":""},{"$f":"IFERROR(IF(F183=\"End\",$O183,IF(F183=\"Start\",K183,PlannedStart(F183,G183,VLOOKUP(G183,$B$20:$P$9999,12,FALSE),VLOOKUP($G183,$B$20:$P$9999,13,FALSE),H183,O183))),$L$15)","v":""},null,null,"","",null,0,0,"",{"$f":"IF(F183=\"End\",MAX(IF($C$20:$C$9999=C183,$P$20:$P$9999)),\"\")","v":""},"","",null,null,"",0,null,null,{"$f":"IF(AND(AD$14>=$O183,AD$14<$P183),1+$AA183,IF(AND(ROUND(AD$14,0)>=$O183,ROUND(AD$14,0)<=$P183,OR($F183=\"Start\",$F183=\"End\")),10,0))","v":0},0,0,0,0,0,0,0,0,0,0,0,0,0,0,{"$f":"IF(AND(AS$14>=$O183,AS$14<$P183),1+$AA183,IF(AND(ROUND(AS$14,0)>=$O183,ROUND(AS$14,0)<=$P183,OR($F183=\"Start\",$F183=\"End\")),10,0))","v":0},0,0,0,0,0,0,0,0,0,0,0,0,0,0,0,{"$f":"IF(AND(BI$14>=$O183,BI$14<$P183),1+$AA183,IF(AND(ROUND(BI$14,0)>=$O183,ROUND(BI$14,0)<=$P183,OR($F183=\"Start\",$F183=\"End\")),10,0))","v":0},0,0,0,0,0,0,0,0,0,0,0,0,0,0,0,{"$f":"IF(AND(BY$14>=$O183,BY$14<$P183),1+$AA183,IF(AND(ROUND(BY$14,0)>=$O183,ROUND(BY$14,0)<=$P183,OR($F183=\"Start\",$F183=\"End\")),10,0))","v":0},0,0,0,0,0,0,0,0,0,0,0,0,0,0,0,{"$f":"IF(AND(CO$14>=$O183,CO$14<$P183),1+$AA183,IF(AND(ROUND(CO$14,0)>=$O183,ROUND(CO$14,0)<=$P183,OR($F183=\"Start\",$F183=\"End\")),10,0))","v":0},0,0,0,0,0,0,0,0,0,0,0,0,0,0,0,0,0,0,0,0,0,0,0,0,0,0,0,0,0,0,0,0,0,0,0,0,0,null,""]
["","",null,null,null,null,null,null,null,null,{"$f":"IFERROR(_xlfn.SINGLE(IF($F184=\"End\",PlannedFinish($C184,$P$9,$P$10,$P$11,$P$12,ROW()),IF(F184=\"Start\",M184,#NAME?(F184,G184,VLOOKUP(G184,$B$20:$P$9999,COLUMN(O$19)-1,FALSE),VLOOKUP($G184,$B$20:$P$9999,COLUMN(P$19)-1,FALSE),H184))))+IF(AND($J184<0,$F184=\"Finish to Start\"),$J184,0)+IF($J184>0,$J184,0),\"\")","v":""},{"$f":"IFERROR(IF(F184=\"End\",$O184,IF(F184=\"Start\",K184,PlannedStart(F184,G184,VLOOKUP(G184,$B$20:$P$9999,12,FALSE),VLOOKUP($G184,$B$20:$P$9999,13,FALSE),H184,O184))),$L$15)","v":""},null,null,"","",null,0,0,"",{"$f":"IF(F184=\"End\",MAX(IF($C$20:$C$9999=C184,$P$20:$P$9999)),\"\")","v":""},"","",null,null,"",0,null,null,{"$f":"IF(AND(AD$14>=$O184,AD$14<$P184),1+$AA184,IF(AND(ROUND(AD$14,0)>=$O184,ROUND(AD$14,0)<=$P184,OR($F184=\"Start\",$F184=\"End\")),10,0))","v":0},0,0,0,0,0,0,0,0,0,0,0,0,0,0,0,0,0,0,0,0,0,0,0,0,0,0,0,0,0,0,{"$f":"IF(AND(BI$14>=$O184,BI$14<$P184),1+$AA184,IF(AND(ROUND(BI$14,0)>=$O184,ROUND(BI$14,0)<=$P184,OR($F184=\"Start\",$F184=\"End\")),10,0))","v":0},{"$f":"IF(AND(BJ$14>=$O184,BJ$14<$P184),1+$AA184,IF(AND(ROUND(BJ$14,0)>=$O184,ROUND(BJ$14,0)<=$P184,OR($F184=\"Start\",$F184=\"End\")),10,0))","v":0},0,0,0,0,0,0,0,0,0,0,0,0,0,0,0,0,0,0,0,0,0,0,0,0,0,0,0,0,0,0,0,0,0,0,0,0,0,0,0,0,0,0,0,0,0,0,0,0,0,0,0,0,0,0,0,0,0,0,0,0,0,0,0,0,0,0,0,0,null,""]
["","",null,null,null,null,null,null,null,null,{"$f":"IFERROR(_xlfn.SINGLE(IF($F185=\"End\",PlannedFinish($C185,$P$9,$P$10,$P$11,$P$12,ROW()),IF(F185=\"Start\",M185,#NAME?(F185,G185,VLOOKUP(G185,$B$20:$P$9999,COLUMN(O$19)-1,FALSE),VLOOKUP($G185,$B$20:$P$9999,COLUMN(P$19)-1,FALSE),H185))))+IF(AND($J185<0,$F185=\"Finish to Start\"),$J185,0)+IF($J185>0,$J185,0),\"\")","v":""},{"$f":"IFERROR(IF(F185=\"End\",$O185,IF(F185=\"Start\",K185,PlannedStart(F185,G185,VLOOKUP(G185,$B$20:$P$9999,12,FALSE),VLOOKUP($G185,$B$20:$P$9999,13,FALSE),H185,O185))),$L$15)","v":""},null,null,"","",null,0,0,"",{"$f":"IF(F185=\"End\",MAX(IF($C$20:$C$9999=C185,$P$20:$P$9999)),\"\")","v":""},"","",null,null,"",0,null,null,0,0,0,0,0,0,0,0,0,0,0,0,0,0,0,0,0,0,0,0,0,0,0,0,0,0,0,0,0,0,0,0,0,0,0,0,0,0,0,0,0,0,0,0,0,0,0,0,0,0,0,0,0,0,0,0,0,0,0,0,0,0,0,0,0,0,0,0,0,0,0,0,0,0,0,0,0,0,{"$f":"IF(AND(DD$14>=$O185,DD$14<$P185),1+$AA185,IF(AND(ROUND(DD$14,0)>=$O185,ROUND(DD$14,0)<=$P185,OR($F185=\"Start\",$F185=\"End\")),10,0))","v":0},{"$f":"IF(AND(DE$14>=$O185,DE$14<$P185),1+$AA185,IF(AND(ROUND(DE$14,0)>=$O185,ROUND(DE$14,0)<=$P185,OR($F185=\"Start\",$F185=\"End\")),10,0))","v":0},{"$f":"IF(AND(DF$14>=$O185,DF$14<$P185),1+$AA185,IF(AND(ROUND(DF$14,0)>=$O185,ROUND(DF$14,0)<=$P185,OR($F185=\"Start\",$F185=\"End\")),10,0))","v":0},0,0,0,{"$f":"IF(AND(DJ$14>=$O185,DJ$14<$P185),1+$AA185,IF(AND(ROUND(DJ$14,0)>=$O185,ROUND(DJ$14,0)<=$P185,OR($F185=\"Start\",$F185=\"End\")),10,0))","v":0},0,0,0,0,0,0,0,0,0,0,0,0,0,0,0,0,null,""]
["","",null,null,null,null,null,null,null,null,{"$f":"IFERROR(_xlfn.SINGLE(IF($F186=\"End\",PlannedFinish($C186,$P$9,$P$10,$P$11,$P$12,ROW()),IF(F186=\"Start\",M186,#NAME?(F186,G186,VLOOKUP(G186,$B$20:$P$9999,COLUMN(O$19)-1,FALSE),VLOOKUP($G186,$B$20:$P$9999,COLUMN(P$19)-1,FALSE),H186))))+IF(AND($J186<0,$F186=\"Finish to Start\"),$J186,0)+IF($J186>0,$J186,0),\"\")","v":""},{"$f":"IFERROR(IF(F186=\"End\",$O186,IF(F186=\"Start\",K186,PlannedStart(F186,G186,VLOOKUP(G186,$B$20:$P$9999,12,FALSE),VLOOKUP($G186,$B$20:$P$9999,13,FALSE),H186,O186))),$L$15)","v":""},null,null,"","",null,0,0,"",{"$f":"IF(F186=\"End\",MAX(IF($C$20:$C$9999=C186,$P$20:$P$9999)),\"\")","v":""},"","",null,null,"",0,null,null,0,0,0,0,0,0,0,0,0,0,0,0,0,0,0,0,0,0,0,0,0,0,0,0,0,0,0,0,0,0,0,0,0,0,0,0,0,0,0,0,0,0,0,0,0,0,0,0,0,0,0,0,0,0,0,0,0,0,0,0,0,0,0,0,{"$f":"IF(AND(CP$14>=$O186,CP$14<$P186),1+$AA186,IF(AND(ROUND(CP$14,0)>=$O186,ROUND(CP$14,0)<=$P186,OR($F186=\"Start\",$F186=\"End\")),10,0))","v":0},0,0,0,0,0,0,0,0,0,0,0,0,0,0,0,{"$f":"IF(AND(DF$14>=$O186,DF$14<$P186),1+$AA186,IF(AND(ROUND(DF$14,0)>=$O186,ROUND(DF$14,0)<=$P186,OR($F186=\"Start\",$F186=\"End\")),10,0))","v":0},{"$f":"IF(AND(DG$14>=$O186,DG$14<$P186),1+$AA186,IF(AND(ROUND(DG$14,0)>=$O186,ROUND(DG$14,0)<=$P186,OR($F186=\"Start\",$F186=\"End\")),10,0))","v":0},0,0,0,0,0,0,0,0,0,0,0,0,0,0,0,0,0,0,0,null,""]
["","",null,null,null,null,null,null,null,null,{"$f":"IFERROR(_xlfn.SINGLE(IF($F187=\"End\",PlannedFinish($C187,$P$9,$P$10,$P$11,$P$12,ROW()),IF(F187=\"Start\",M187,#NAME?(F187,G187,VLOOKUP(G187,$B$20:$P$9999,COLUMN(O$19)-1,FALSE),VLOOKUP($G187,$B$20:$P$9999,COLUMN(P$19)-1,FALSE),H187))))+IF(AND($J187<0,$F187=\"Finish to Start\"),$J187,0)+IF($J187>0,$J187,0),\"\")","v":""},{"$f":"IFERROR(IF(F187=\"End\",$O187,IF(F187=\"Start\",K187,PlannedStart(F187,G187,VLOOKUP(G187,$B$20:$P$9999,12,FALSE),VLOOKUP($G187,$B$20:$P$9999,13,FALSE),H187,O187))),$L$15)","v":""},null,null,"","",null,0,0,"",{"$f":"IF(F187=\"End\",MAX(IF($C$20:$C$9999=C187,$P$20:$P$9999)),\"\")","v":""},"","",null,null,"",0,null,null,0,0,0,0,0,0,0,0,0,0,0,0,0,0,0,0,0,0,0,0,0,0,0,0,0,0,0,0,0,0,0,0,0,0,0,0,0,0,0,0,0,0,0,0,0,0,0,0,0,0,0,0,0,0,0,0,0,0,0,0,0,0,0,0,0,0,0,0,0,0,0,0,0,0,0,0,0,0,0,0,0,0,0,0,0,0,0,0,0,0,0,0,0,0,0,0,0,0,0,0,0,null,""]
["","",null,null,null,null,null,null,null,null,{"$f":"IFERROR(_xlfn.SINGLE(IF($F188=\"End\",PlannedFinish($C188,$P$9,$P$10,$P$11,$P$12,ROW()),IF(F188=\"Start\",M188,#NAME?(F188,G188,VLOOKUP(G188,$B$20:$P$9999,COLUMN(O$19)-1,FALSE),VLOOKUP($G188,$B$20:$P$9999,COLUMN(P$19)-1,FALSE),H188))))+IF(AND($J188<0,$F188=\"Finish to Start\"),$J188,0)+IF($J188>0,$J188,0),\"\")","v":""},{"$f":"IFERROR(IF(F188=\"End\",$O188,IF(F188=\"Start\",K188,PlannedStart(F188,G188,VLOOKUP(G188,$B$20:$P$9999,12,FALSE),VLOOKUP($G188,$B$20:$P$9999,13,FALSE),H188,O188))),$L$15)","v":""},null,null,"","",null,0,0,"",{"$f":"IF(F188=\"End\",MAX(IF($C$20:$C$9999=C188,$P$20:$P$9999)),\"\")","v":""},"","",null,null,"",0,null,null,0,0,0,0,0,0,0,0,0,0,0,0,0,0,0,0,0,0,0,0,0,0,0,0,0,0,0,0,0,0,0,0,0,0,0,0,0,0,0,0,0,0,0,0,0,0,0,0,0,0,0,0,0,0,0,0,0,0,0,0,0,0,0,0,0,0,0,0,0,0,0,0,0,0,0,0,0,0,0,0,0,0,0,0,0,0,0,0,0,0,0,0,0,0,0,0,0,0,0,0,0,null,""]
["","",null,null,null,null,null,null,null,null,{"$f":"IFERROR(_xlfn.SINGLE(IF($F189=\"End\",PlannedFinish($C189,$P$9,$P$10,$P$11,$P$12,ROW()),IF(F189=\"Start\",M189,#NAME?(F189,G189,VLOOKUP(G189,$B$20:$P$9999,COLUMN(O$19)-1,FALSE),VLOOKUP($G189,$B$20:$P$9999,COLUMN(P$19)-1,FALSE),H189))))+IF(AND($J189<0,$F189=\"Finish to Start\"),$J189,0)+IF($J189>0,$J189,0),\"\")","v":""},{"$f":"IFERROR(IF(F189=\"End\",$O189,IF(F189=\"Start\",K189,PlannedStart(F189,G189,VLOOKUP(G189,$B$20:$P$9999,12,FALSE),VLOOKUP($G189,$B$20:$P$9999,13,FALSE),H189,O189))),$L$15)","v":""},null,null,{"$f":"IF(M189>0,M189,K189)","v":""},{"$f":"IF(N189>0,N189,L189)","v":""},null,{"$f":"IFERROR(P189-O189,0)","v":0},0,{"$f":"IF(S189>0,O189,\"\")","v":""},{"$f":"IF(F189=\"End\",MAX(IF($C$20:$C$9999=C189,$P$20:$P$9999)),\"\")","v":""},"","",null,null,"",0,null,null,0,0,0,0,0,0,0,0,0,0,0,0,0,0,0,0,0,0,0,0,0,0,0,0,0,0,0,0,0,0,0,0,0,0,0,0,0,0,0,0,0,0,0,0,0,0,0,0,0,0,0,0,0,0,0,0,0,0,0,0,0,0,0,0,0,0,0,0,0,0,0,0,0,0,0,0,0,0,0,0,0,0,0,0,0,0,0,0,0,0,0,0,0,0,0,0,0,0,0,0,0,null,""]
["","",null,null,null,null,null,null,null,null,{"$f":"IFERROR(_xlfn.SINGLE(IF($F190=\"End\",PlannedFinish($C190,$P$9,$P$10,$P$11,$P$12,ROW()),IF(F190=\"Start\",M190,#NAME?(F190,G190,VLOOKUP(G190,$B$20:$P$9999,COLUMN(O$19)-1,FALSE),VLOOKUP($G190,$B$20:$P$9999,COLUMN(P$19)-1,FALSE),H190))))+IF(AND($J190<0,$F190=\"Finish to Start\"),$J190,0)+IF($J190>0,$J190,0),\"\")","v":""},{"$f":"IFERROR(IF(F190=\"End\",$O190,IF(F190=\"Start\",K190,PlannedStart(F190,G190,VLOOKUP(G190,$B$20:$P$9999,12,FALSE),VLOOKUP($G190,$B$20:$P$9999,13,FALSE),H190,O190))),$L$15)","v":""},null,null,"","",null,0,0,"",{"$f":"IF(F190=\"End\",MAX(IF($C$20:$C$9999=C190,$P$20:$P$9999)),\"\")","v":""},"","",null,null,"",0,null,null,0,0,0,0,0,0,0,0,0,0,0,0,0,0,0,0,0,0,0,0,0,0,0,0,0,0,0,0,0,0,0,0,0,0,0,0,0,0,0,0,0,0,0,0,0,0,0,0,0,0,0,0,0,0,0,0,0,0,0,0,0,0,0,0,0,0,0,0,0,0,0,0,0,0,0,0,0,0,0,0,0,0,0,0,0,0,0,0,0,0,0,0,0,0,0,0,0,0,0,0,0,null,""]
["","",null,null,null,null,null,null,null,null,{"$f":"IFERROR(_xlfn.SINGLE(IF($F191=\"End\",PlannedFinish($C191,$P$9,$P$10,$P$11,$P$12,ROW()),IF(F191=\"Start\",M191,#NAME?(F191,G191,VLOOKUP(G191,$B$20:$P$9999,COLUMN(O$19)-1,FALSE),VLOOKUP($G191,$B$20:$P$9999,COLUMN(P$19)-1,FALSE),H191))))+IF(AND($J191<0,$F191=\"Finish to Start\"),$J191,0)+IF($J191>0,$J191,0),\"\")","v":""},{"$f":"IFERROR(IF(F191=\"End\",$O191,IF(F191=\"Start\",K191,PlannedStart(F191,G191,VLOOKUP(G191,$B$20:$P$9999,12,FALSE),VLOOKUP($G191,$B$20:$P$9999,13,FALSE),H191,O191))),$L$15)","v":""},null,null,"","",null,0,0,"",{"$f":"IF(F191=\"End\",MAX(IF($C$20:$C$9999=C191,$P$20:$P$9999)),\"\")","v":""},"","",null,null,"",0,null,null,0,0,0,0,0,0,0,0,0,0,0,0,0,0,0,0,0,0,0,0,0,0,0,0,0,0,0,0,0,0,0,0,0,0,0,0,0,0,0,0,0,0,0,0,0,0,0,0,0,0,0,0,0,0,0,0,0,0,0,0,0,0,0,0,0,0,0,0,0,0,0,0,0,0,0,0,0,0,0,0,0,0,0,0,0,0,0,0,0,0,0,0,0,0,0,0,0,0,0,0,0,null,""]
["","",null,null,null,null,null,null,null,null,{"$f":"IFERROR(_xlfn.SINGLE(IF($F192=\"End\",PlannedFinish($C192,$P$9,$P$10,$P$11,$P$12,ROW()),IF(F192=\"Start\",M192,#NAME?(F192,G192,VLOOKUP(G192,$B$20:$P$9999,COLUMN(O$19)-1,FALSE),VLOOKUP($G192,$B$20:$P$9999,COLUMN(P$19)-1,FALSE),H192))))+IF(AND($J192<0,$F192=\"Finish to Start\"),$J192,0)+IF($J192>0,$J192,0),\"\")","v":""},{"$f":"IFERROR(IF(F192=\"End\",$O192,IF(F192=\"Start\",K192,PlannedStart(F192,G192,VLOOKUP(G192,$B$20:$P$9999,12,FALSE),VLOOKUP($G192,$B$20:$P$9999,13,FALSE),H192,O192))),$L$15)","v":""},null,null,"","",null,0,0,"",{"$f":"IF(F192=\"End\",MAX(IF($C$20:$C$9999=C192,$P$20:$P$9999)),\"\")","v":""},"","",null,null,"",0,null,null,0,0,0,0,0,0,0,0,0,0,0,0,0,0,0,0,0,0,0,0,0,0,0,0,0,0,0,0,0,0,0,0,0,0,0,0,0,0,0,0,0,0,0,0,0,0,0,0,0,0,0,0,0,0,0,0,0,0,0,0,0,0,0,0,0,0,0,0,0,0,0,0,0,0,0,0,0,0,0,0,0,0,0,0,0,0,0,0,0,0,0,0,0,0,0,0,0,0,0,0,0,null,""]
["","",null,null,null,null,null,null,null,null,{"$f":"IFERROR(_xlfn.SINGLE(IF($F193=\"End\",PlannedFinish($C193,$P$9,$P$10,$P$11,$P$12,ROW()),IF(F193=\"Start\",M193,#NAME?(F193,G193,VLOOKUP(G193,$B$20:$P$9999,COLUMN(O$19)-1,FALSE),VLOOKUP($G193,$B$20:$P$9999,COLUMN(P$19)-1,FALSE),H193))))+IF(AND($J193<0,$F193=\"Finish to Start\"),$J193,0)+IF($J193>0,$J193,0),\"\")","v":""},{"$f":"IFERROR(IF(F193=\"End\",$O193,IF(F193=\"Start\",K193,PlannedStart(F193,G193,VLOOKUP(G193,$B$20:$P$9999,12,FALSE),VLOOKUP($G193,$B$20:$P$9999,13,FALSE),H193,O193))),$L$15)","v":""},null,null,"","",null,0,0,"",{"$f":"IF(F193=\"End\",MAX(IF($C$20:$C$9999=C193,$P$20:$P$9999)),\"\")","v":""},"","",null,null,"",0,null,null,0,0,0,0,0,0,0,0,0,0,0,0,0,0,0,0,0,0,0,0,0,0,0,0,0,0,0,0,0,0,0,0,0,0,0,0,0,0,0,0,0,0,0,0,0,0,0,0,0,0,0,0,0,0,0,0,0,0,0,0,0,0,0,0,0,0,0,0,0,0,0,0,0,0,0,0,0,0,0,0,0,0,0,0,0,0,0,0,0,0,0,0,0,0,0,0,0,0,0,0,0,null,""]
["","",null,null,null,null,null,null,null,null,{"$f":"IFERROR(_xlfn.SINGLE(IF($F194=\"End\",PlannedFinish($C194,$P$9,$P$10,$P$11,$P$12,ROW()),IF(F194=\"Start\",M194,#NAME?(F194,G194,VLOOKUP(G194,$B$20:$P$9999,COLUMN(O$19)-1,FALSE),VLOOKUP($G194,$B$20:$P$9999,COLUMN(P$19)-1,FALSE),H194))))+IF(AND($J194<0,$F194=\"Finish to Start\"),$J194,0)+IF($J194>0,$J194,0),\"\")","v":""},{"$f":"IFERROR(IF(F194=\"End\",$O194,IF(F194=\"Start\",K194,PlannedStart(F194,G194,VLOOKUP(G194,$B$20:$P$9999,12,FALSE),VLOOKUP($G194,$B$20:$P$9999,13,FALSE),H194,O194))),$L$15)","v":""},null,null,"","",null,0,0,"",{"$f":"IF(F194=\"End\",MAX(IF($C$20:$C$9999=C194,$P$20:$P$9999)),\"\")","v":""},"","",null,null,"",0,null,null,0,0,0,0,0,0,0,0,0,0,0,0,0,0,0,0,0,0,0,0,0,0,0,0,0,0,0,0,0,0,0,0,0,0,0,0,0,0,0,0,0,0,0,0,0,0,0,0,0,0,0,0,0,0,0,0,0,0,0,0,0,0,0,0,0,0,0,0,0,0,0,0,0,0,0,0,0,0,0,0,0,0,0,0,0,0,0,0,0,0,0,0,0,0,0,0,0,0,0,0,0,null,""]
["","",null,null,null,null,null,null,null,null,{"$f":"IFERROR(_xlfn.SINGLE(IF($F195=\"End\",PlannedFinish($C195,$P$9,$P$10,$P$11,$P$12,ROW()),IF(F195=\"Start\",M195,#NAME?(F195,G195,VLOOKUP(G195,$B$20:$P$9999,COLUMN(O$19)-1,FALSE),VLOOKUP($G195,$B$20:$P$9999,COLUMN(P$19)-1,FALSE),H195))))+IF(AND($J195<0,$F195=\"Finish to Start\"),$J195,0)+IF($J195>0,$J195,0),\"\")","v":""},{"$f":"IFERROR(IF(F195=\"End\",$O195,IF(F195=\"Start\",K195,PlannedStart(F195,G195,VLOOKUP(G195,$B$20:$P$9999,12,FALSE),VLOOKUP($G195,$B$20:$P$9999,13,FALSE),H195,O195))),$L$15)","v":""},null,null,"","",null,0,0,"",{"$f":"IF(F195=\"End\",MAX(IF($C$20:$C$9999=C195,$P$20:$P$9999)),\"\")","v":""},"","",null,null,"",0,null,null,0,0,0,0,0,0,0,0,0,0,0,0,0,0,0,0,0,0,0,0,0,0,0,0,0,0,0,0,0,0,0,0,0,0,0,0,0,0,0,0,0,0,0,0,0,0,0,0,0,0,0,0,0,0,0,0,0,0,0,0,0,0,0,0,0,0,0,0,0,0,0,0,0,0,0,0,0,0,0,0,0,0,0,0,0,0,0,0,0,0,0,0,0,0,0,0,0,0,0,0,0,null,""]
["","",null,null,null,null,null,null,null,null,{"$f":"IFERROR(_xlfn.SINGLE(IF($F196=\"End\",PlannedFinish($C196,$P$9,$P$10,$P$11,$P$12,ROW()),IF(F196=\"Start\",M196,#NAME?(F196,G196,VLOOKUP(G196,$B$20:$P$9999,COLUMN(O$19)-1,FALSE),VLOOKUP($G196,$B$20:$P$9999,COLUMN(P$19)-1,FALSE),H196))))+IF(AND($J196<0,$F196=\"Finish to Start\"),$J196,0)+IF($J196>0,$J196,0),\"\")","v":""},{"$f":"IFERROR(IF(F196=\"End\",$O196,IF(F196=\"Start\",K196,PlannedStart(F196,G196,VLOOKUP(G196,$B$20:$P$9999,12,FALSE),VLOOKUP($G196,$B$20:$P$9999,13,FALSE),H196,O196))),$L$15)","v":""},null,null,"","",null,0,0,"",{"$f":"IF(F196=\"End\",MAX(IF($C$20:$C$9999=C196,$P$20:$P$9999)),\"\")","v":""},"","",null,null,"",0,null,null,0,0,0,0,0,0,0,0,0,0,0,0,0,0,0,0,0,0,0,0,0,0,0,0,0,0,0,0,0,0,0,0,0,0,0,0,0,0,0,0,0,0,0,0,0,0,0,0,0,0,0,0,0,0,0,0,0,0,0,0,0,0,0,0,0,0,0,0,0,0,0,0,0,0,0,0,0,0,0,0,0,0,0,0,0,0,0,0,0,0,0,0,0,0,0,0,0,0,0,0,0,null,""]
["","",null,null,null,null,null,null,null,null,{"$f":"IFERROR(_xlfn.SINGLE(IF($F197=\"End\",PlannedFinish($C197,$P$9,$P$10,$P$11,$P$12,ROW()),IF(F197=\"Start\",M197,#NAME?(F197,G197,VLOOKUP(G197,$B$20:$P$9999,COLUMN(O$19)-1,FALSE),VLOOKUP($G197,$B$20:$P$9999,COLUMN(P$19)-1,FALSE),H197))))+IF(AND($J197<0,$F197=\"Finish to Start\"),$J197,0)+IF($J197>0,$J197,0),\"\")","v":""},{"$f":"IFERROR(IF(F197=\"End\",$O197,IF(F197=\"Start\",K197,PlannedStart(F197,G197,VLOOKUP(G197,$B$20:$P$9999,12,FALSE),VLOOKUP($G197,$B$20:$P$9999,13,FALSE),H197,O197))),$L$15)","v":""},null,null,"","",null,0,0,"",{"$f":"IF(F197=\"End\",MAX(IF($C$20:$C$9999=C197,$P$20:$P$9999)),\"\")","v":""},"","",null,null,"",0,null,null,0,0,0,0,0,0,0,0,0,0,0,0,0,0,0,0,0,0,0,0,0,0,0,0,0,0,0,0,0,0,0,0,0,0,0,0,0,0,0,0,0,0,0,0,0,0,0,0,0,0,0,0,0,0,0,0,0,0,0,0,0,0,0,0,0,0,0,0,0,0,0,0,0,0,0,0,0,0,0,0,0,0,0,0,0,0,0,0,0,0,0,0,0,0,0,0,0,0,0,0,0,null,""]
["","",null,null,null,null,null,null,null,null,{"$f":"IFERROR(_xlfn.SINGLE(IF($F198=\"End\",PlannedFinish($C198,$P$9,$P$10,$P$11,$P$12,ROW()),IF(F198=\"Start\",M198,#NAME?(F198,G198,VLOOKUP(G198,$B$20:$P$9999,COLUMN(O$19)-1,FALSE),VLOOKUP($G198,$B$20:$P$9999,COLUMN(P$19)-1,FALSE),H198))))+IF(AND($J198<0,$F198=\"Finish to Start\"),$J198,0)+IF($J198>0,$J198,0),\"\")","v":""},{"$f":"IFERROR(IF(F198=\"End\",$O198,IF(F198=\"Start\",K198,PlannedStart(F198,G198,VLOOKUP(G198,$B$20:$P$9999,12,FALSE),VLOOKUP($G198,$B$20:$P$9999,13,FALSE),H198,O198))),$L$15)","v":""},null,null,"","",null,0,0,"",{"$f":"IF(F198=\"End\",MAX(IF($C$20:$C$9999=C198,$P$20:$P$9999)),\"\")","v":""},"","",null,null,"",0,null,null,0,0,0,0,0,0,0,0,0,0,0,0,0,0,0,0,0,0,0,0,0,0,0,0,0,0,0,0,0,0,0,0,{"$f":"IF(AND(BJ$14>=$O198,BJ$14<$P198),1+$AA198,IF(AND(ROUND(BJ$14,0)>=$O198,ROUND(BJ$14,0)<=$P198,OR($F198=\"Start\",$F198=\"End\")),10,0))","v":0},0,0,0,0,0,0,0,0,0,0,0,0,0,0,0,0,0,0,0,0,0,0,0,0,0,0,0,0,0,0,{"$f":"IF(AND(CO$14>=$O198,CO$14<$P198),1+$AA198,IF(AND(ROUND(CO$14,0)>=$O198,ROUND(CO$14,0)<=$P198,OR($F198=\"Start\",$F198=\"End\")),10,0))","v":0},0,0,0,0,0,0,0,0,0,0,0,0,0,0,0,0,0,0,0,0,0,0,0,0,0,0,0,0,0,0,0,0,0,0,0,0,0,null,""]
["","",null,null,null,null,null,null,null,null,{"$f":"IFERROR(_xlfn.SINGLE(IF($F199=\"End\",PlannedFinish($C199,$P$9,$P$10,$P$11,$P$12,ROW()),IF(F199=\"Start\",M199,#NAME?(F199,G199,VLOOKUP(G199,$B$20:$P$9999,COLUMN(O$19)-1,FALSE),VLOOKUP($G199,$B$20:$P$9999,COLUMN(P$19)-1,FALSE),H199))))+IF(AND($J199<0,$F199=\"Finish to Start\"),$J199,0)+IF($J199>0,$J199,0),\"\")","v":""},{"$f":"IFERROR(IF(F199=\"End\",$O199,IF(F199=\"Start\",K199,PlannedStart(F199,G199,VLOOKUP(G199,$B$20:$P$9999,12,FALSE),VLOOKUP($G199,$B$20:$P$9999,13,FALSE),H199,O199))),$L$15)","v":""},null,null,"","",null,0,0,"",{"$f":"IF(F199=\"End\",MAX(IF($C$20:$C$9999=C199,$P$20:$P$9999)),\"\")","v":""},"","",null,null,"",0,null,null,0,0,0,0,0,0,0,0,0,0,0,0,0,0,0,0,0,0,0,0,0,0,0,0,0,0,0,0,0,0,0,0,0,0,0,0,0,0,0,0,0,0,0,0,0,0,0,0,0,0,0,0,0,0,0,0,0,0,0,0,0,0,0,0,0,0,0,0,0,0,0,0,0,0,0,0,0,0,0,0,0,0,0,0,0,0,0,0,0,0,0,0,0,0,0,0,0,0,0,0,0,null,""]
["","",null,null,null,null,null,null,null,null,{"$f":"IFERROR(_xlfn.SINGLE(IF($F200=\"End\",PlannedFinish($C200,$P$9,$P$10,$P$11,$P$12,ROW()),IF(F200=\"Start\",M200,#NAME?(F200,G200,VLOOKUP(G200,$B$20:$P$9999,COLUMN(O$19)-1,FALSE),VLOOKUP($G200,$B$20:$P$9999,COLUMN(P$19)-1,FALSE),H200))))+IF(AND($J200<0,$F200=\"Finish to Start\"),$J200,0)+IF($J200>0,$J200,0),\"\")","v":""},{"$f":"IFERROR(IF(F200=\"End\",$O200,IF(F200=\"Start\",K200,PlannedStart(F200,G200,VLOOKUP(G200,$B$20:$P$9999,12,FALSE),VLOOKUP($G200,$B$20:$P$9999,13,FALSE),H200,O200))),$L$15)","v":""},null,null,"","",null,0,0,"",{"$f":"IF(F200=\"End\",MAX(IF($C$20:$C$9999=C200,$P$20:$P$9999)),\"\")","v":""},"","",null,null,"",0,null,null,0,0,0,0,0,0,0,0,0,0,0,0,0,0,0,0,0,0,0,0,0,0,0,0,0,0,0,0,0,0,0,0,0,0,0,0,0,0,0,0,0,0,0,0,0,0,0,0,0,0,0,0,0,0,0,0,0,0,0,0,0,0,0,0,0,0,0,0,0,0,0,0,0,0,0,0,0,0,0,0,0,0,0,0,0,0,0,0,0,0,0,0,0,0,0,0,0,0,0,0,0,null,""]

{"sheet":"WeekendsAndHolidays","index":2,"n_rows":237,"n_cols":35,"rows_kept":237,"cut":false,"hidden":false,"merged":[[1,19,1,20]]}
[]
[null,null,null,null,null,null,null,null,null,null,null,null,null,null,null,"Pay Period List",null,null,null,"For Lookup",null,null,null,null,"Holidays",null,null,null,null,null,null,null,null,1,"Sunday"]
[null,null,null,null,null,null,null,null,null,null,null,null,null,null,null,null,"Year","Pay Period","Start Date","Year (Again)","Pay Period (Again)","RDO",null,null,null,"Year",2021,null,null,null,null,null,null,2,"Monday"]
["RDO:","1st","Friday",null,null,null,null,"1st Monday",1,null,null,"Date:","2021-01-01",{"$f":"IF(M4=M8,\"RDO\",IF($M$10=\"x\",\"Weekend\",\"\"))","v":""},null,null,2021,1,"2020-12-20",{"$f":"Q4","v":2021},{"$f":"R4","v":1},{"$f":"S4+$C$5","v":"2020-12-25"},null,null,null,null,null,null,null,null,null,null,null,3,"Tuesday"]
[null,"Pay Period Day:",{"$f":"IF($B$4=\"None\",0,VLOOKUP($B$4&\" \"&$C$4,$H$4:$I$9,2,FALSE))","v":5},null,null,null,null,"1st Friday",5,null,null,"Pay Period Year:",{"$f":"VLOOKUP($M$4,$S$4:$X$1000,2,TRUE)","v":2021},null,null,null,{"$f":"IF(R4=26,Q4+1,Q4)","v":2021},{"$f":"IF(R4=26,1,R4+1)","v":2},{"$f":"S4+14","v":"2021-01-03"},{"$f":"Q5","v":2021},{"$f":"R5","v":2},{"$f":"S5+$C$5","v":"2021-01-08"},null,null,"Year","Date","Weekday","RDO","Adjusted","RDO Adjusted","Holiday",null,null,4,"Wednesday"]
[null,null,null,null,null,null,null,"2nd Monday",8,null,null,"Pay Period Start:",{"$f":"VLOOKUP($M$4,$S$4:$X$1000,3,TRUE)","v":1},null,null,null,{"$f":"IF(R5=26,Q5+1,Q5)","v":2021},{"$f":"IF(R5=26,1,R5+1)","v":3},{"$f":"S5+14","v":"2021-01-17"},2021,3,"2021-01-22",null,null,{"$f":"$AA$3","v":2021},{"$f":"DATE(Y6,1,1)","v":"2021-01-01"},{"$f":"WEEKDAY(Z6,1)","v":6},{"$f":"IFERROR(VLOOKUP(Z6,$S$4:$X$1000,1,TRUE)+$C$5,\"\")","v":"2020-12-25"},{"$f":"IF(AA6=1,Z6+1,IF(AA6=7,Z6-1,Z6))","v":"2021-01-01"},{"$f":"IF(AC6=AB6,AC6-1,AC6)","v":"2021-01-01"},"New Year's Day",null,null,5,"Thursday"]
["Start Date:","2020-12-20",null,null,null,null,null,"2nd Friday",12,null,null,"Day of Pay Period:",{"$f":"M4-VLOOKUP($M$4,$S$4:$X$1000,1,TRUE)","v":12},null,null,null,2021,4,"2021-01-31",2021,4,"2021-02-05",null,null,{"$f":"$AA$3","v":2021},{"$f":"DATE(Y7,1,1)+14+CHOOSE(WEEKDAY(DATE(Y7,1,1)),1,0,6,5,4,3,2)","v":"2021-01-18"},{"$f":"WEEKDAY(Z7,1)","v":2},"2021-01-22",{"$f":"IF(AA7=1,Z7+1,IF(AA7=7,Z7-1,Z7))","v":"2021-01-18"},{"$f":"IF(AC7=AB7,AC7-1,AC7)","v":"2021-01-18"},"Martin Luther King Jr. Day",null,null,6,"Friday"]
["Pay year:",2021,null,null,null,null,null,null,null,null,null,"RDO:",{"$f":"IFERROR(VLOOKUP($M$4,$S$4:$X$1000,1,TRUE)+C5,\"\")","v":"2020-12-25"},null,null,null,2021,5,"2021-02-14",2021,5,"2021-02-19",null,null,2021,{"$f":"DATE(Y8,2,1)+14+CHOOSE(WEEKDAY(DATE(Y8,2,1)),1,0,6,5,4,3,2)","v":"2021-02-15"},2,"2021-02-19","2021-02-15","2021-02-15","President's Day",null,null,7,"Saturday"]
[null,null,null,null,null,null,null,null,null,null,null,"Is RDO?",{"$f":"IF(M8=M4,\"x\",\"\")","v":""},null,null,null,2021,6,"2021-02-28",2021,6,"2021-03-05",null,null,2021,{"$f":"DATE(Y9,5,31)-CHOOSE(WEEKDAY(DATE(Y9,5,31)),6,0,1,2,3,4,5)","v":"2021-05-31"},2,"2021-05-28","2021-05-31","2021-05-31","Memorial Day"]
["Leave Days",null,null,"Days Not Worked",null,null,null,"Unique List",null,null,null,"Is Weekend?",{"$f":"IF(OR(WEEKDAY($M$4,1)=1,WEEKDAY($M$4,1)=7),\"x\",\"\")","v":""},null,null,null,2021,7,"2021-03-14",2021,7,"2021-03-19",null,null,2021,{"$f":"DATE(Y10,6,19)","v":"2021-06-19"},7,"2021-06-11","2021-06-18","2021-06-18","Juneteenth"]
["Date","Weekday",null,"Year","Date","Holiday",null,"Date","Description",null,null,"Is Holiday?",null,null,null,null,2021,8,"2021-03-28",2021,8,"2021-04-02",null,null,2021,{"$f":"DATE(Y11,7,4)","v":"2021-07-04"},1,"2021-07-09","2021-07-05","2021-07-05","Independence Day"]
["2021-07-06",{"$f":"IFERROR(IF($A12>0,VLOOKUP(WEEKDAY($A12),$AH$2:$AI$8,2,FALSE),\"\"),\"\")","v":"Tuesday"},null,2021,{"$f":"DATE(D12,1,1)","v":"2021-01-01"},"New Year's Day",null,null,null,null,null,null,null,null,null,null,2021,9,"2021-04-11",2021,9,"2021-04-16",null,null,2021,{"$f":"DATE(Y12,9,1)+CHOOSE(WEEKDAY(DATE(Y12,9,1)),1,0,6,5,4,3,2)","v":"2021-09-06"},2,"2021-09-03","2021-09-06","2021-09-06","Labor Day"]
["2021-07-07",{"$f":"IFERROR(IF($A13>0,VLOOKUP(WEEKDAY($A13),$AH$2:$AI$8,2,FALSE),\"\"),\"\")","v":"Wednesday"},null,{"$f":"COUNTIF($F$12:F12,F13)+$D$12","v":2021},{"$f":"DATE(D13,1,1)+14+CHOOSE(WEEKDAY(DATE(D13,1,1)),1,0,6,5,4,3,2)","v":"2021-01-18"},"Martin Luther King Jr. Day",null,null,null,null,null,null,null,null,null,null,2021,10,"2021-04-25",2021,10,"2021-04-30",null,null,2021,{"$f":"DATE(Y13,10,1)+7+CHOOSE(WEEKDAY(DATE(Y13,10,1)),1,0,6,5,4,3,2)","v":"2021-10-11"},2,"2021-10-15","2021-10-11","2021-10-11","Columbus Day"]
["2021-07-08","Thursday",null,{"$f":"COUNTIF($F$12:F13,F14)+$D$12","v":2021},{"$f":"DATE(D14,2,1)+14+CHOOSE(WEEKDAY(DATE(D14,2,1)),1,0,6,5,4,3,2)","v":"2021-02-15"},"President's Day",null,null,null,null,null,null,null,null,null,null,2021,11,"2021-05-09",2021,11,"2021-05-14",null,null,2021,{"$f":"DATE(Y14,11,11)","v":"2021-11-11"},5,"2021-11-12","2021-11-11","2021-11-11","Veteran's Day"]
[null,"",null,{"$f":"COUNTIF($F$12:F14,F15)+$D$12","v":2021},{"$f":"DATE(D15,5,31)-CHOOSE(WEEKDAY(DATE(D15,5,31)),6,0,1,2,3,4,5)","v":"2021-05-31"},"Memorial Day",null,null,null,null,null,null,null,null,null,null,2021,12,"2021-05-23",2021,12,"2021-05-28",null,null,2021,{"$f":"DATE(Y15,11,1)+21+CHOOSE(WEEKDAY(DATE(Y15,11,1)),4,3,2,1,0,6,5)","v":"2021-11-25"},5,"2021-11-26","2021-11-25","2021-11-25","Thanksgiving Day"]
[null,"",null,{"$f":"COUNTIF($F$12:F15,F16)+$D$12","v":2021},{"$f":"DATE(D16,6,19)","v":"2021-06-19"},"Juneteenth",null,null,null,null,null,null,null,null,null,null,2021,13,"2021-06-06",2021,13,"2021-06-11",null,null,2021,{"$f":"DATE(Y16,12,25)","v":"2021-12-25"},7,"2021-12-24","2021-12-24","2021-12-23","Christmas Day"]
[null,"",null,{"$f":"COUNTIF($F$12:F16,F17)+$D$12","v":2021},{"$f":"DATE(D17,7,4)","v":"2021-07-04"},"Independence Day",null,null,null,null,null,null,null,null,null,null,2021,14,"2021-06-20",2021,14,"2021-06-25"]
[null,"",null,{"$f":"COUNTIF($F$12:F17,F18)+$D$12","v":2021},{"$f":"DATE(D18,9,1)+CHOOSE(WEEKDAY(DATE(D18,9,1)),1,0,6,5,4,3,2)","v":"2021-09-06"},"Labor Day",null,null,null,null,null,null,null,null,null,null,2021,15,"2021-07-04",2021,15,"2021-07-09"]
[null,"",null,{"$f":"COUNTIF($F$12:F18,F19)+$D$12","v":2021},{"$f":"DATE(D19,10,1)+7+CHOOSE(WEEKDAY(DATE(D19,10,1)),1,0,6,5,4,3,2)","v":"2021-10-11"},"Columbus Day",null,null,null,null,null,null,null,null,null,null,2021,16,"2021-07-18",2021,16,"2021-07-23"]
[null,"",null,{"$f":"COUNTIF($F$12:F19,F20)+$D$12","v":2021},{"$f":"DATE(D20,11,11)","v":"2021-11-11"},"Veteran's Day",null,null,null,null,null,null,null,null,null,null,2021,17,"2021-08-01",2021,17,"2021-08-06",null,null,"Weekends"]
[null,"",null,{"$f":"COUNTIF($F$12:F20,F21)+$D$12","v":2021},{"$f":"DATE(D21,11,1)+21+CHOOSE(WEEKDAY(DATE(D21,11,1)),4,3,2,1,0,6,5)","v":"2021-11-25"},"Thanksgiving Day",null,null,null,null,null,null,null,null,null,null,2021,18,"2021-08-15",2021,18,"2021-08-20",null,null,"First Day of Year Weekday:",null,{"$f":"WEEKDAY(DATE($AA$3,1,1),1)","v":6},{"$f":"DATE($AA$3,1,1)","v":"2021-01-01"}]
[null,"",null,{"$f":"COUNTIF($F$12:F21,F22)+$D$12","v":2021},{"$f":"DATE(D22,12,25)","v":"2021-12-25"},"Christmas Day",null,null,null,null,null,null,null,null,null,null,2021,19,"2021-08-29",2021,19,"2021-09-03",null,null,"Weekend Dates:"]
[null,"",null,{"$f":"COUNTIF($F$12:F22,F23)+$D$12","v":2022},{"$f":"DATE(D23,1,1)","v":"2022-01-01"},"New Year's Day",null,null,null,null,null,null,null,null,null,null,2021,20,"2021-09-12",2021,20,"2021-09-17",null,null,{"$f":"IF(OR(AA21=1,AA21=7),AB21,AB21+(AH8-AA21))","v":"2021-01-02"},{"$f":"WEEKDAY(Y23,1)","v":7},"Total Weekend Days:",null,{"$f":"COUNTIF($Y$23:$Y$134,\"<>\"&\"x\")","v":104}]
[null,"",null,{"$f":"COUNTIF($F$12:F23,F24)+$D$12","v":2022},{"$f":"DATE(D24,1,1)+14+CHOOSE(WEEKDAY(DATE(D24,1,1)),1,0,6,5,4,3,2)","v":"2022-01-17"},"Martin Luther King Jr. Day",null,null,null,null,null,null,null,null,null,null,2021,21,"2021-09-26",2021,21,"2021-10-01",null,null,{"$f":"IFERROR(IF(IF(Z23=$AH$8,Y23+1,Y23+6)<=DATE($AA$3,12,31),IF(Z23=$AH$8,Y23+1,Y23+6),\"x\"),\"x\")","v":"2021-01-03"},{"$f":"IFERROR(WEEKDAY(Y24,1),\"\")","v":1}]
[null,"",null,{"$f":"COUNTIF($F$12:F24,F25)+$D$12","v":2022},{"$f":"DATE(D25,2,1)+14+CHOOSE(WEEKDAY(DATE(D25,2,1)),1,0,6,5,4,3,2)","v":"2022-02-21"},"President's Day",null,null,null,null,null,null,null,null,null,null,2021,22,"2021-10-10",2021,22,"2021-10-15",null,null,{"$f":"IFERROR(IF(IF(Z24=$AH$8,Y24+1,Y24+6)<=DATE($AA$3,12,31),IF(Z24=$AH$8,Y24+1,Y24+6),\"x\"),\"x\")","v":"2021-01-09"},{"$f":"IFERROR(WEEKDAY(Y25,1),\"\")","v":7}]
[null,{"$f":"IFERROR(IF($A26>0,VLOOKUP(WEEKDAY($A26),$AH$2:$AI$8,2,FALSE),\"\"),\"\")","v":""},null,{"$f":"COUNTIF($F$12:F25,F26)+$D$12","v":2022},{"$f":"DATE(D26,5,31)-CHOOSE(WEEKDAY(DATE(D26,5,31)),6,0,1,2,3,4,5)","v":"2022-05-30"},"Memorial Day",null,null,null,null,null,null,null,null,null,null,{"$f":"IF(R25=26,Q25+1,Q25)","v":2021},{"$f":"IF(R25=26,1,R25+1)","v":23},{"$f":"S25+14","v":"2021-10-24"},2021,23,"2021-10-29",null,null,"2021-01-10",1]
[null,"",null,{"$f":"COUNTIF($F$12:F26,F27)+$D$12","v":2022},{"$f":"DATE(D27,6,19)","v":"2022-06-19"},"Juneteenth",null,null,null,null,null,null,null,null,null,null,2021,24,"2021-11-07",2021,24,"2021-11-12",null,null,"2021-01-16",7]
[null,"",null,{"$f":"COUNTIF($F$12:F27,F28)+$D$12","v":2022},{"$f":"DATE(D28,7,4)","v":"2022-07-04"},"Independence Day",null,null,null,null,null,null,null,null,null,null,2021,25,"2021-11-21",2021,25,"2021-11-26",null,null,"2021-01-17",1]
[null,"",null,{"$f":"COUNTIF($F$12:F28,F29)+$D$12","v":2022},{"$f":"DATE(D29,9,1)+CHOOSE(WEEKDAY(DATE(D29,9,1)),1,0,6,5,4,3,2)","v":"2022-09-05"},"Labor Day",null,null,null,null,null,null,null,null,null,null,2021,26,"2021-12-05",2021,26,"2021-12-10",null,null,"2021-01-23",7]
[null,"",null,{"$f":"COUNTIF($F$12:F29,F30)+$D$12","v":2022},{"$f":"DATE(D30,10,1)+7+CHOOSE(WEEKDAY(DATE(D30,10,1)),1,0,6,5,4,3,2)","v":"2022-10-10"},"Columbus Day",null,null,null,null,null,null,null,null,null,null,2022,1,"2021-12-19",2022,1,"2021-12-24",null,null,"2021-01-24",1]
[null,"",null,{"$f":"COUNTIF($F$12:F30,F31)+$D$12","v":2022},{"$f":"DATE(D31,11,11)","v":"2022-11-11"},"Veteran's Day",null,null,null,null,null,null,null,null,null,null,2022,2,"2022-01-02",2022,2,"2022-01-07",null,null,"2021-01-30",7]
[null,"",null,{"$f":"COUNTIF($F$12:F31,F32)+$D$12","v":2022},{"$f":"DATE(D32,11,1)+21+CHOOSE(WEEKDAY(DATE(D32,11,1)),4,3,2,1,0,6,5)","v":"2022-11-24"},"Thanksgiving Day",null,null,null,null,null,null,null,null,null,null,2022,3,"2022-01-16",2022,3,"2022-01-21",null,null,"2021-01-31",1]
[null,"",null,{"$f":"COUNTIF($F$12:F32,F33)+$D$12","v":2022},{"$f":"DATE(D33,12,25)","v":"2022-12-25"},"Christmas Day",null,null,null,null,null,null,null,null,null,null,2022,4,"2022-01-30",2022,4,"2022-02-04",null,null,"2021-02-06",7]
[null,"",null,{"$f":"COUNTIF($F$12:F33,F34)+$D$12","v":2023},{"$f":"DATE(D34,1,1)","v":"2023-01-01"},"New Year's Day",null,null,null,null,null,null,null,null,null,null,2022,5,"2022-02-13",2022,5,"2022-02-18",null,null,"2021-02-07",1]
[null,"",null,{"$f":"COUNTIF($F$12:F34,F35)+$D$12","v":2023},{"$f":"DATE(D35,1,1)+14+CHOOSE(WEEKDAY(DATE(D35,1,1)),1,0,6,5,4,3,2)","v":"2023-01-16"},"Martin Luther King Jr. Day",null,null,null,null,null,null,null,null,null,null,2022,6,"2022-02-27",2022,6,"2022-03-04",null,null,"2021-02-13",7]
[null,"",null,{"$f":"COUNTIF($F$12:F35,F36)+$D$12","v":2023},{"$f":"DATE(D36,2,1)+14+CHOOSE(WEEKDAY(DATE(D36,2,1)),1,0,6,5,4,3,2)","v":"2023-02-20"},"President's Day",null,null,null,null,null,null,null,null,null,null,2022,7,"2022-03-13",2022,7,"2022-03-18",null,null,"2021-02-14",1]
[null,"",null,{"$f":"COUNTIF($F$12:F36,F37)+$D$12","v":2023},{"$f":"DATE(D37,5,31)-CHOOSE(WEEKDAY(DATE(D37,5,31)),6,0,1,2,3,4,5)","v":"2023-05-29"},"Memorial Day",null,null,null,null,null,null,null,null,null,null,2022,8,"2022-03-27",2022,8,"2022-04-01",null,null,"2021-02-20",7]
[null,"",null,{"$f":"COUNTIF($F$12:F37,F38)+$D$12","v":2023},{"$f":"DATE(D38,6,19)","v":"2023-06-19"},"Juneteenth",null,null,null,null,null,null,null,null,null,null,2022,9,"2022-04-10",2022,9,"2022-04-15",null,null,"2021-02-21",1]
[null,"",null,{"$f":"COUNTIF($F$12:F38,F39)+$D$12","v":2023},{"$f":"DATE(D39,7,4)","v":"2023-07-04"},"Independence Day",null,null,null,null,null,null,null,null,null,null,2022,10,"2022-04-24",2022,10,"2022-04-29",null,null,"2021-02-27",7]
[null,"",null,{"$f":"COUNTIF($F$12:F39,F40)+$D$12","v":2023},{"$f":"DATE(D40,9,1)+CHOOSE(WEEKDAY(DATE(D40,9,1)),1,0,6,5,4,3,2)","v":"2023-09-04"},"Labor Day",null,null,null,null,null,null,null,null,null,null,2022,11,"2022-05-08",2022,11,"2022-05-13",null,null,"2021-02-28",1]
[null,"",null,{"$f":"COUNTIF($F$12:F40,F41)+$D$12","v":2023},{"$f":"DATE(D41,10,1)+7+CHOOSE(WEEKDAY(DATE(D41,10,1)),1,0,6,5,4,3,2)","v":"2023-10-09"},"Columbus Day",null,null,null,null,null,null,null,null,null,null,2022,12,"2022-05-22",2022,12,"2022-05-27",null,null,"2021-03-06",7]
[null,"",null,{"$f":"COUNTIF($F$12:F41,F42)+$D$12","v":2023},{"$f":"DATE(D42,11,11)","v":"2023-11-11"},"Veteran's Day",null,null,null,null,null,null,null,null,null,null,2022,13,"2022-06-05",2022,13,"2022-06-10",null,null,"2021-03-07",1]
[null,"",null,{"$f":"COUNTIF($F$12:F42,F43)+$D$12","v":2023},{"$f":"DATE(D43,11,1)+21+CHOOSE(WEEKDAY(DATE(D43,11,1)),4,3,2,1,0,6,5)","v":"2023-11-23"},"Thanksgiving Day",null,null,null,null,null,null,null,null,null,null,2022,14,"2022-06-19",2022,14,"2022-06-24",null,null,"2021-03-13",7]
[null,"",null,{"$f":"COUNTIF($F$12:F43,F44)+$D$12","v":2023},{"$f":"DATE(D44,12,25)","v":"2023-12-25"},"Christmas Day",null,null,null,null,null,null,null,null,null,null,2022,15,"2022-07-03",2022,15,"2022-07-08",null,null,"2021-03-14",1]
[null,"",null,{"$f":"COUNTIF($F$12:F44,F45)+$D$12","v":2024},{"$f":"DATE(D45,1,1)","v":"2024-01-01"},"New Year's Day",null,null,null,null,null,null,null,null,null,null,2022,16,"2022-07-17",2022,16,"2022-07-22",null,null,"2021-03-20",7]
[null,"",null,{"$f":"COUNTIF($F$12:F45,F46)+$D$12","v":2024},{"$f":"DATE(D46,1,1)+14+CHOOSE(WEEKDAY(DATE(D46,1,1)),1,0,6,5,4,3,2)","v":"2024-01-15"},"Martin Luther King Jr. Day",null,null,null,null,null,null,null,null,null,null,2022,17,"2022-07-31",2022,17,"2022-08-05",null,null,"2021-03-21",1]
[null,"",null,{"$f":"COUNTIF($F$12:F46,F47)+$D$12","v":2024},{"$f":"DATE(D47,2,1)+14+CHOOSE(WEEKDAY(DATE(D47,2,1)),1,0,6,5,4,3,2)","v":"2024-02-19"},"President's Day",null,null,null,null,null,null,null,null,null,null,{"$f":"IF(R46=26,Q46+1,Q46)","v":2022},{"$f":"IF(R46=26,1,R46+1)","v":18},{"$f":"S46+14","v":"2022-08-14"},2022,18,"2022-08-19",null,null,"2021-03-27",7]
[null,"",null,{"$f":"COUNTIF($F$12:F47,F48)+$D$12","v":2024},{"$f":"DATE(D48,5,31)-CHOOSE(WEEKDAY(DATE(D48,5,31)),6,0,1,2,3,4,5)","v":"2024-05-27"},"Memorial Day",null,null,null,null,null,null,null,null,null,null,2022,19,"2022-08-28",2022,19,"2022-09-02",null,null,"2021-03-28",1]
[null,"",null,{"$f":"COUNTIF($F$12:F48,F49)+$D$12","v":2024},{"$f":"DATE(D49,6,19)","v":"2024-06-19"},"Juneteenth",null,null,null,null,null,null,null,null,null,null,2022,20,"2022-09-11",2022,20,"2022-09-16",null,null,"2021-04-03",7]
[null,"",null,{"$f":"COUNTIF($F$12:F49,F50)+$D$12","v":2024},{"$f":"DATE(D50,7,4)","v":"2024-07-04"},"Independence Day",null,null,null,null,null,null,null,null,null,null,2022,21,"2022-09-25",2022,21,"2022-09-30",null,null,"2021-04-04",1]
[null,"",null,{"$f":"COUNTIF($F$12:F50,F51)+$D$12","v":2024},{"$f":"DATE(D51,9,1)+CHOOSE(WEEKDAY(DATE(D51,9,1)),1,0,6,5,4,3,2)","v":"2024-09-02"},"Labor Day",null,null,null,null,null,null,null,null,null,null,2022,22,"2022-10-09",2022,22,"2022-10-14",null,null,"2021-04-10",7]
[null,"",null,{"$f":"COUNTIF($F$12:F51,F52)+$D$12","v":2024},{"$f":"DATE(D52,10,1)+7+CHOOSE(WEEKDAY(DATE(D52,10,1)),1,0,6,5,4,3,2)","v":"2024-10-14"},"Columbus Day",null,null,null,null,null,null,null,null,null,null,2022,23,"2022-10-23",2022,23,"2022-10-28",null,null,"2021-04-11",1]
[null,"",null,{"$f":"COUNTIF($F$12:F52,F53)+$D$12","v":2024},{"$f":"DATE(D53,11,11)","v":"2024-11-11"},"Veteran's Day",null,null,null,null,null,null,null,null,null,null,2022,24,"2022-11-06",2022,24,"2022-11-11",null,null,"2021-04-17",7]
[null,"",null,{"$f":"COUNTIF($F$12:F53,F54)+$D$12","v":2024},{"$f":"DATE(D54,11,1)+21+CHOOSE(WEEKDAY(DATE(D54,11,1)),4,3,2,1,0,6,5)","v":"2024-11-28"},"Thanksgiving Day",null,null,null,null,null,null,null,null,null,null,2022,25,"2022-11-20",2022,25,"2022-11-25",null,null,"2021-04-18",1]
[null,"",null,{"$f":"COUNTIF($F$12:F54,F55)+$D$12","v":2024},{"$f":"DATE(D55,12,25)","v":"2024-12-25"},"Christmas Day",null,null,null,null,null,null,null,null,null,null,2022,26,"2022-12-04",2022,26,"2022-12-09",null,null,"2021-04-24",7]
[null,"",null,{"$f":"COUNTIF($F$12:F55,F56)+$D$12","v":2025},{"$f":"DATE(D56,1,1)","v":"2025-01-01"},"New Year's Day",null,null,null,null,null,null,null,null,null,null,2023,1,"2022-12-18",2023,1,"2022-12-23",null,null,"2021-04-25",1]
[null,"",null,{"$f":"COUNTIF($F$12:F56,F57)+$D$12","v":2025},{"$f":"DATE(D57,1,1)+14+CHOOSE(WEEKDAY(DATE(D57,1,1)),1,0,6,5,4,3,2)","v":"2025-01-20"},"Martin Luther King Jr. Day",null,null,null,null,null,null,null,null,null,null,2023,2,"2023-01-01",2023,2,"2023-01-06",null,null,"2021-05-01",7]
[null,"",null,{"$f":"COUNTIF($F$12:F57,F58)+$D$12","v":2025},{"$f":"DATE(D58,2,1)+14+CHOOSE(WEEKDAY(DATE(D58,2,1)),1,0,6,5,4,3,2)","v":"2025-02-17"},"President's Day",null,null,null,null,null,null,null,null,null,null,2023,3,"2023-01-15",2023,3,"2023-01-20",null,null,"2021-05-02",1]
[null,"",null,{"$f":"COUNTIF($F$12:F58,F59)+$D$12","v":2025},{"$f":"DATE(D59,5,31)-CHOOSE(WEEKDAY(DATE(D59,5,31)),6,0,1,2,3,4,5)","v":"2025-05-26"},"Memorial Day",null,null,null,null,null,null,null,null,null,null,2023,4,"2023-01-29",2023,4,"2023-02-03",null,null,"2021-05-08",7]
[null,"",null,{"$f":"COUNTIF($F$12:F59,F60)+$D$12","v":2025},{"$f":"DATE(D60,6,19)","v":"2025-06-19"},"Juneteenth",null,null,null,null,null,null,null,null,null,null,2023,5,"2023-02-12",2023,5,"2023-02-17",null,null,"2021-05-09",1]
[null,"",null,{"$f":"COUNTIF($F$12:F60,F61)+$D$12","v":2025},{"$f":"DATE(D61,7,4)","v":"2025-07-04"},"Independence Day",null,null,null,null,null,null,null,null,null,null,2023,6,"2023-02-26",2023,6,"2023-03-03",null,null,"2021-05-15",7]
[null,"",null,{"$f":"COUNTIF($F$12:F61,F62)+$D$12","v":2025},{"$f":"DATE(D62,9,1)+CHOOSE(WEEKDAY(DATE(D62,9,1)),1,0,6,5,4,3,2)","v":"2025-09-01"},"Labor Day",null,null,null,null,null,null,null,null,null,null,2023,7,"2023-03-12",2023,7,"2023-03-17",null,null,"2021-05-16",1]
[null,"",null,{"$f":"COUNTIF($F$12:F62,F63)+$D$12","v":2025},{"$f":"DATE(D63,10,1)+7+CHOOSE(WEEKDAY(DATE(D63,10,1)),1,0,6,5,4,3,2)","v":"2025-10-13"},"Columbus Day",null,null,null,null,null,null,null,null,null,null,2023,8,"2023-03-26",2023,8,"2023-03-31",null,null,"2021-05-22",7]
[null,"",null,{"$f":"COUNTIF($F$12:F63,F64)+$D$12","v":2025},{"$f":"DATE(D64,11,11)","v":"2025-11-11"},"Veteran's Day",null,null,null,null,null,null,null,null,null,null,2023,9,"2023-04-09",2023,9,"2023-04-14",null,null,"2021-05-23",1]
[null,"",null,{"$f":"COUNTIF($F$12:F64,F65)+$D$12","v":2025},{"$f":"DATE(D65,11,1)+21+CHOOSE(WEEKDAY(DATE(D65,11,1)),4,3,2,1,0,6,5)","v":"2025-11-27"},"Thanksgiving Day",null,null,null,null,null,null,null,null,null,null,2023,10,"2023-04-23",2023,10,"2023-04-28",null,null,"2021-05-29",7]
[null,"",null,{"$f":"COUNTIF($F$12:F65,F66)+$D$12","v":2025},{"$f":"DATE(D66,12,25)","v":"2025-12-25"},"Christmas Day",null,null,null,null,null,null,null,null,null,null,2023,11,"2023-05-07",2023,11,"2023-05-12",null,null,"2021-05-30",1]
[null,"",null,{"$f":"COUNTIF($F$12:F66,F67)+$D$12","v":2026},{"$f":"DATE(D67,1,1)","v":"2026-01-01"},"New Year's Day",null,null,null,null,null,null,null,null,null,null,2023,12,"2023-05-21",2023,12,"2023-05-26",null,null,"2021-06-05",7]
[null,"",null,{"$f":"COUNTIF($F$12:F67,F68)+$D$12","v":2026},{"$f":"DATE(D68,1,1)+14+CHOOSE(WEEKDAY(DATE(D68,1,1)),1,0,6,5,4,3,2)","v":"2026-01-19"},"Martin Luther King Jr. Day",null,null,null,null,null,null,null,null,null,null,2023,13,"2023-06-04",2023,13,"2023-06-09",null,null,"2021-06-06",1]
[null,"",null,{"$f":"COUNTIF($F$12:F68,F69)+$D$12","v":2026},{"$f":"DATE(D69,2,1)+14+CHOOSE(WEEKDAY(DATE(D69,2,1)),1,0,6,5,4,3,2)","v":"2026-02-16"},"President's Day",null,null,null,null,null,null,null,null,null,null,2023,14,"2023-06-18",{"$f":"Q69","v":2023},{"$f":"R69","v":14},{"$f":"S69+$C$5","v":"2023-06-23"},null,null,"2021-06-12",7]
[null,"",null,{"$f":"COUNTIF($F$12:F69,F70)+$D$12","v":2026},{"$f":"DATE(D70,5,31)-CHOOSE(WEEKDAY(DATE(D70,5,31)),6,0,1,2,3,4,5)","v":"2026-05-25"},"Memorial Day",null,null,null,null,null,null,null,null,null,null,2023,15,"2023-07-02",2023,15,"2023-07-07",null,null,"2021-06-13",1]
[null,"",null,{"$f":"COUNTIF($F$12:F70,F71)+$D$12","v":2026},{"$f":"DATE(D71,6,19)","v":"2026-06-19"},"Juneteenth",null,null,null,null,null,null,null,null,null,null,2023,16,"2023-07-16",2023,16,"2023-07-21",null,null,"2021-06-19",7]
[null,"",null,{"$f":"COUNTIF($F$12:F71,F72)+$D$12","v":2026},{"$f":"DATE(D72,7,4)","v":"2026-07-04"},"Independence Day",null,null,null,null,null,null,null,null,null,null,2023,17,"2023-07-30",2023,17,"2023-08-04",null,null,"2021-06-20",1]
[null,"",null,{"$f":"COUNTIF($F$12:F72,F73)+$D$12","v":2026},{"$f":"DATE(D73,9,1)+CHOOSE(WEEKDAY(DATE(D73,9,1)),1,0,6,5,4,3,2)","v":"2026-09-07"},"Labor Day",null,null,null,null,null,null,null,null,null,null,2023,18,"2023-08-13",2023,18,"2023-08-18",null,null,"2021-06-26",7]
[null,"",null,{"$f":"COUNTIF($F$12:F73,F74)+$D$12","v":2026},{"$f":"DATE(D74,10,1)+7+CHOOSE(WEEKDAY(DATE(D74,10,1)),1,0,6,5,4,3,2)","v":"2026-10-12"},"Columbus Day",null,null,null,null,null,null,null,null,null,null,2023,19,"2023-08-27",2023,19,"2023-09-01",null,null,"2021-06-27",1]
[null,"",null,{"$f":"COUNTIF($F$12:F74,F75)+$D$12","v":2026},{"$f":"DATE(D75,11,11)","v":"2026-11-11"},"Veteran's Day",null,null,null,null,null,null,null,null,null,null,2023,20,"2023-09-10",2023,20,"2023-09-15",null,null,"2021-07-03",7]
[null,"",null,{"$f":"COUNTIF($F$12:F75,F76)+$D$12","v":2026},{"$f":"DATE(D76,11,1)+21+CHOOSE(WEEKDAY(DATE(D76,11,1)),4,3,2,1,0,6,5)","v":"2026-11-26"},"Thanksgiving Day",null,null,null,null,null,null,null,null,null,null,2023,21,"2023-09-24",2023,21,"2023-09-29",null,null,"2021-07-04",1]
[null,{"$f":"IFERROR(IF($A77>0,VLOOKUP(WEEKDAY($A77),$AH$2:$AI$8,2,FALSE),\"\"),\"\")","v":""},null,{"$f":"COUNTIF($F$12:F76,F77)+$D$12","v":2026},{"$f":"DATE(D77,12,25)","v":"2026-12-25"},"Christmas Day",null,null,null,null,null,null,null,null,null,null,2023,22,"2023-10-08",2023,22,"2023-10-13",null,null,"2021-07-10",7]
[null,"",null,{"$f":"COUNTIF($F$12:F77,F78)+$D$12","v":2027},{"$f":"DATE(D78,1,1)","v":"2027-01-01"},"New Year's Day",null,null,null,null,null,null,null,null,null,null,2023,23,"2023-10-22",2023,23,"2023-10-27",null,null,"2021-07-11",1]
[null,"",null,{"$f":"COUNTIF($F$12:F78,F79)+$D$12","v":2027},{"$f":"DATE(D79,1,1)+14+CHOOSE(WEEKDAY(DATE(D79,1,1)),1,0,6,5,4,3,2)","v":"2027-01-18"},"Martin Luther King Jr. Day",null,null,null,null,null,null,null,null,null,null,2023,24,"2023-11-05",2023,24,"2023-11-10",null,null,"2021-07-17",7]
[null,"",null,{"$f":"COUNTIF($F$12:F79,F80)+$D$12","v":2027},{"$f":"DATE(D80,2,1)+14+CHOOSE(WEEKDAY(DATE(D80,2,1)),1,0,6,5,4,3,2)","v":"2027-02-15"},"President's Day",null,null,null,null,null,null,null,null,null,null,2023,25,"2023-11-19",2023,25,"2023-11-24",null,null,"2021-07-18",1]
[null,"",null,{"$f":"COUNTIF($F$12:F80,F81)+$D$12","v":2027},{"$f":"DATE(D81,5,31)-CHOOSE(WEEKDAY(DATE(D81,5,31)),6,0,1,2,3,4,5)","v":"2027-05-31"},"Memorial Day",null,null,null,null,null,null,null,null,null,null,2023,26,"2023-12-03",2023,26,"2023-12-08",null,null,"2021-07-24",7]
[null,"",null,{"$f":"COUNTIF($F$12:F81,F82)+$D$12","v":2027},{"$f":"DATE(D82,6,19)","v":"2027-06-19"},"Juneteenth",null,null,null,null,null,null,null,null,null,null,2024,1,"2023-12-17",2024,1,"2023-12-22",null,null,"2021-07-25",1]
[null,"",null,{"$f":"COUNTIF($F$12:F82,F83)+$D$12","v":2027},{"$f":"DATE(D83,7,4)","v":"2027-07-04"},"Independence Day",null,null,null,null,null,null,null,null,null,null,2024,2,"2023-12-31",2024,2,"2024-01-05",null,null,"2021-07-31",7]
[null,"",null,{"$f":"COUNTIF($F$12:F83,F84)+$D$12","v":2027},{"$f":"DATE(D84,9,1)+CHOOSE(WEEKDAY(DATE(D84,9,1)),1,0,6,5,4,3,2)","v":"2027-09-06"},"Labor Day",null,null,null,null,null,null,null,null,null,null,2024,3,"2024-01-14",2024,3,"2024-01-19",null,null,"2021-08-01",1]
[null,"",null,{"$f":"COUNTIF($F$12:F84,F85)+$D$12","v":2027},{"$f":"DATE(D85,10,1)+7+CHOOSE(WEEKDAY(DATE(D85,10,1)),1,0,6,5,4,3,2)","v":"2027-10-11"},"Columbus Day",null,null,null,null,null,null,null,null,null,null,2024,4,"2024-01-28",2024,4,"2024-02-02",null,null,"2021-08-07",7]
[null,"",null,{"$f":"COUNTIF($F$12:F85,F86)+$D$12","v":2027},{"$f":"DATE(D86,11,11)","v":"2027-11-11"},"Veteran's Day",null,null,null,null,null,null,null,null,null,null,2024,5,"2024-02-11",2024,5,"2024-02-16",null,null,"2021-08-08",1]
[null,"",null,{"$f":"COUNTIF($F$12:F86,F87)+$D$12","v":2027},{"$f":"DATE(D87,11,1)+21+CHOOSE(WEEKDAY(DATE(D87,11,1)),4,3,2,1,0,6,5)","v":"2027-11-25"},"Thanksgiving Day",null,null,null,null,null,null,null,null,null,null,{"$f":"IF(R86=26,Q86+1,Q86)","v":2024},{"$f":"IF(R86=26,1,R86+1)","v":6},{"$f":"S86+14","v":"2024-02-25"},2024,6,"2024-03-01",null,null,"2021-08-14",7]
[null,"",null,{"$f":"COUNTIF($F$12:F87,F88)+$D$12","v":2027},{"$f":"DATE(D88,12,25)","v":"2027-12-25"},"Christmas Day",null,null,null,null,null,null,null,null,null,null,2024,7,"2024-03-10",2024,7,"2024-03-15",null,null,"2021-08-15",1]
[null,"",null,{"$f":"COUNTIF($F$12:F88,F89)+$D$12","v":2028},{"$f":"DATE(D89,1,1)","v":"2028-01-01"},"New Year's Day",null,null,null,null,null,null,null,null,null,null,2024,8,"2024-03-24",2024,8,"2024-03-29",null,null,{"$f":"IFERROR(IF(IF(Z88=$AH$8,Y88+1,Y88+6)<=DATE($AA$3,12,31),IF(Z88=$AH$8,Y88+1,Y88+6),\"x\"),\"x\")","v":"2021-08-21"},{"$f":"IFERROR(WEEKDAY(Y89,1),\"\")","v":7}]
[null,"",null,{"$f":"COUNTIF($F$12:F89,F90)+$D$12","v":2028},{"$f":"DATE(D90,1,1)+14+CHOOSE(WEEKDAY(DATE(D90,1,1)),1,0,6,5,4,3,2)","v":"2028-01-17"},"Martin Luther King Jr. Day",null,null,null,null,null,null,null,null,null,null,2024,9,"2024-04-07",2024,9,"2024-04-12",null,null,"2021-08-22",1]
[null,"",null,{"$f":"COUNTIF($F$12:F90,F91)+$D$12","v":2028},{"$f":"DATE(D91,2,1)+14+CHOOSE(WEEKDAY(DATE(D91,2,1)),1,0,6,5,4,3,2)","v":"2028-02-21"},"President's Day",null,null,null,null,null,null,null,null,null,null,2024,10,"2024-04-21",2024,10,"2024-04-26",null,null,"2021-08-28",7]
[null,"",null,{"$f":"COUNTIF($F$12:F91,F92)+$D$12","v":2028},{"$f":"DATE(D92,5,31)-CHOOSE(WEEKDAY(DATE(D92,5,31)),6,0,1,2,3,4,5)","v":"2028-05-29"},"Memorial Day",null,null,null,null,null,null,null,null,null,null,2024,11,"2024-05-05",2024,11,"2024-05-10",null,null,"2021-08-29",1]
[null,"",null,{"$f":"COUNTIF($F$12:F92,F93)+$D$12","v":2028},{"$f":"DATE(D93,6,19)","v":"2028-06-19"},"Juneteenth",null,null,null,null,null,null,null,null,null,null,2024,12,"2024-05-19",2024,12,"2024-05-24",null,null,"2021-09-04",7]
[null,"",null,{"$f":"COUNTIF($F$12:F93,F94)+$D$12","v":2028},{"$f":"DATE(D94,7,4)","v":"2028-07-04"},"Independence Day",null,null,null,null,null,null,null,null,null,null,2024,13,"2024-06-02",2024,13,"2024-06-07",null,null,"2021-09-05",1]
[null,"",null,{"$f":"COUNTIF($F$12:F94,F95)+$D$12","v":2028},{"$f":"DATE(D95,9,1)+CHOOSE(WEEKDAY(DATE(D95,9,1)),1,0,6,5,4,3,2)","v":"2028-09-04"},"Labor Day",null,null,null,null,null,null,null,null,null,null,2024,14,"2024-06-16",2024,14,"2024-06-21",null,null,"2021-09-11",7]
[null,"",null,{"$f":"COUNTIF($F$12:F95,F96)+$D$12","v":2028},{"$f":"DATE(D96,10,1)+7+CHOOSE(WEEKDAY(DATE(D96,10,1)),1,0,6,5,4,3,2)","v":"2028-10-09"},"Columbus Day",null,null,null,null,null,null,null,null,null,null,2024,15,"2024-06-30",2024,15,"2024-07-05",null,null,"2021-09-12",1]
[null,"",null,{"$f":"COUNTIF($F$12:F96,F97)+$D$12","v":2028},{"$f":"DATE(D97,11,11)","v":"2028-11-11"},"Veteran's Day",null,null,null,null,null,null,null,null,null,null,2024,16,"2024-07-14",2024,16,"2024-07-19",null,null,"2021-09-18",7]
[null,"",null,{"$f":"COUNTIF($F$12:F97,F98)+$D$12","v":2028},{"$f":"DATE(D98,11,1)+21+CHOOSE(WEEKDAY(DATE(D98,11,1)),4,3,2,1,0,6,5)","v":"2028-11-23"},"Thanksgiving Day",null,null,null,null,null,null,null,null,null,null,2024,17,"2024-07-28",2024,17,"2024-08-02",null,null,"2021-09-19",1]
[null,"",null,{"$f":"COUNTIF($F$12:F98,F99)+$D$12","v":2028},{"$f":"DATE(D99,12,25)","v":"2028-12-25"},"Christmas Day",null,null,null,null,null,null,null,null,null,null,2024,18,"2024-08-11",2024,18,"2024-08-16",null,null,"2021-09-25",7]
[null,"",null,{"$f":"COUNTIF($F$12:F99,F100)+$D$12","v":2029},{"$f":"DATE(D100,1,1)","v":"2029-01-01"},"New Year's Day",null,null,null,null,null,null,null,null,null,null,2024,19,"2024-08-25",2024,19,"2024-08-30",null,null,"2021-09-26",1]
[null,"",null,{"$f":"COUNTIF($F$12:F100,F101)+$D$12","v":2029},{"$f":"DATE(D101,1,1)+14+CHOOSE(WEEKDAY(DATE(D101,1,1)),1,0,6,5,4,3,2)","v":"2029-01-15"},"Martin Luther King Jr. Day",null,null,null,null,null,null,null,null,null,null,2024,20,"2024-09-08",2024,20,"2024-09-13",null,null,"2021-10-02",7]
[null,"",null,{"$f":"COUNTIF($F$12:F101,F102)+$D$12","v":2029},{"$f":"DATE(D102,2,1)+14+CHOOSE(WEEKDAY(DATE(D102,2,1)),1,0,6,5,4,3,2)","v":"2029-02-19"},"President's Day",null,null,null,null,null,null,null,null,null,null,2024,21,"2024-09-22",2024,21,"2024-09-27",null,null,"2021-10-03",1]
[null,"",null,{"$f":"COUNTIF($F$12:F102,F103)+$D$12","v":2029},{"$f":"DATE(D103,5,31)-CHOOSE(WEEKDAY(DATE(D103,5,31)),6,0,1,2,3,4,5)","v":"2029-05-28"},"Memorial Day",null,null,null,null,null,null,null,null,null,null,2024,22,"2024-10-06",2024,22,"2024-10-11",null,null,"2021-10-09",7]
[null,"",null,{"$f":"COUNTIF($F$12:F103,F104)+$D$12","v":2029},{"$f":"DATE(D104,6,19)","v":"2029-06-19"},"Juneteenth",null,null,null,null,null,null,null,null,null,null,2024,23,"2024-10-20",2024,23,"2024-10-25",null,null,"2021-10-10",1]
[null,"",null,{"$f":"COUNTIF($F$12:F104,F105)+$D$12","v":2029},{"$f":"DATE(D105,7,4)","v":"2029-07-04"},"Independence Day",null,null,null,null,null,null,null,null,null,null,2024,24,"2024-11-03",2024,24,"2024-11-08",null,null,"2021-10-16",7]
[null,"",null,{"$f":"COUNTIF($F$12:F105,F106)+$D$12","v":2029},{"$f":"DATE(D106,9,1)+CHOOSE(WEEKDAY(DATE(D106,9,1)),1,0,6,5,4,3,2)","v":"2029-09-03"},"Labor Day",null,null,null,null,null,null,null,null,null,null,2024,25,"2024-11-17",2024,25,"2024-11-22",null,null,"2021-10-17",1]
[null,"",null,{"$f":"COUNTIF($F$12:F106,F107)+$D$12","v":2029},{"$f":"DATE(D107,10,1)+7+CHOOSE(WEEKDAY(DATE(D107,10,1)),1,0,6,5,4,3,2)","v":"2029-10-08"},"Columbus Day",null,null,null,null,null,null,null,null,null,null,2024,26,"2024-12-01",2024,26,"2024-12-06",null,null,"2021-10-23",7]
[null,"",null,{"$f":"COUNTIF($F$12:F107,F108)+$D$12","v":2029},{"$f":"DATE(D108,11,11)","v":"2029-11-11"},"Veteran's Day",null,null,null,null,null,null,null,null,null,null,2025,1,"2024-12-15",2025,1,"2024-12-20",null,null,"2021-10-24",1]
[null,"",null,{"$f":"COUNTIF($F$12:F108,F109)+$D$12","v":2029},{"$f":"DATE(D109,11,1)+21+CHOOSE(WEEKDAY(DATE(D109,11,1)),4,3,2,1,0,6,5)","v":"2029-11-22"},"Thanksgiving Day",null,null,null,null,null,null,null,null,null,null,2025,2,"2024-12-29",2025,2,"2025-01-03",null,null,"2021-10-30",7]
[null,"",null,{"$f":"COUNTIF($F$12:F109,F110)+$D$12","v":2029},{"$f":"DATE(D110,12,25)","v":"2029-12-25"},"Christmas Day",null,null,null,null,null,null,null,null,null,null,2025,3,"2025-01-12",2025,3,"2025-01-17",null,null,"2021-10-31",1]
[null,"",null,{"$f":"COUNTIF($F$12:F110,F111)+$D$12","v":2030},{"$f":"DATE(D111,1,1)","v":"2030-01-01"},"New Year's Day",null,null,null,null,null,null,null,null,null,null,2025,4,"2025-01-26",2025,4,"2025-01-31",null,null,"2021-11-06",7]
[null,"",null,{"$f":"COUNTIF($F$12:F111,F112)+$D$12","v":2030},{"$f":"DATE(D112,1,1)+14+CHOOSE(WEEKDAY(DATE(D112,1,1)),1,0,6,5,4,3,2)","v":"2030-01-21"},"Martin Luther King Jr. Day",null,null,null,null,null,null,null,null,null,null,2025,5,"2025-02-09",2025,5,"2025-02-14",null,null,"2021-11-07",1]
[null,"",null,{"$f":"COUNTIF($F$12:F112,F113)+$D$12","v":2030},{"$f":"DATE(D113,2,1)+14+CHOOSE(WEEKDAY(DATE(D113,2,1)),1,0,6,5,4,3,2)","v":"2030-02-18"},"President's Day",null,null,null,null,null,null,null,null,null,null,2025,6,"2025-02-23",2025,6,"2025-02-28",null,null,"2021-11-13",7]
[null,"",null,{"$f":"COUNTIF($F$12:F113,F114)+$D$12","v":2030},{"$f":"DATE(D114,5,31)-CHOOSE(WEEKDAY(DATE(D114,5,31)),6,0,1,2,3,4,5)","v":"2030-05-27"},"Memorial Day",null,null,null,null,null,null,null,null,null,null,2025,7,"2025-03-09",2025,7,"2025-03-14",null,null,"2021-11-14",1]
[null,"",null,{"$f":"COUNTIF($F$12:F114,F115)+$D$12","v":2030},{"$f":"DATE(D115,6,19)","v":"2030-06-19"},"Juneteenth",null,null,null,null,null,null,null,null,null,null,2025,8,"2025-03-23",2025,8,"2025-03-28",null,null,"2021-11-20",7]
[null,"",null,{"$f":"COUNTIF($F$12:F115,F116)+$D$12","v":2030},{"$f":"DATE(D116,7,4)","v":"2030-07-04"},"Independence Day",null,null,null,null,null,null,null,null,null,null,2025,9,"2025-04-06",2025,9,"2025-04-11",null,null,"2021-11-21",1]
[null,"",null,{"$f":"COUNTIF($F$12:F116,F117)+$D$12","v":2030},{"$f":"DATE(D117,9,1)+CHOOSE(WEEKDAY(DATE(D117,9,1)),1,0,6,5,4,3,2)","v":"2030-09-02"},"Labor Day",null,null,null,null,null,null,null,null,null,null,2025,10,"2025-04-20",2025,10,"2025-04-25",null,null,"2021-11-27",7]
[null,"",null,{"$f":"COUNTIF($F$12:F117,F118)+$D$12","v":2030},{"$f":"DATE(D118,10,1)+7+CHOOSE(WEEKDAY(DATE(D118,10,1)),1,0,6,5,4,3,2)","v":"2030-10-14"},"Columbus Day",null,null,null,null,null,null,null,null,null,null,2025,11,"2025-05-04",2025,11,"2025-05-09",null,null,"2021-11-28",1]
[null,"",null,{"$f":"COUNTIF($F$12:F118,F119)+$D$12","v":2030},{"$f":"DATE(D119,11,11)","v":"2030-11-11"},"Veteran's Day",null,null,null,null,null,null,null,null,null,null,2025,12,"2025-05-18",2025,12,"2025-05-23",null,null,"2021-12-04",7]
[null,"",null,{"$f":"COUNTIF($F$12:F119,F120)+$D$12","v":2030},{"$f":"DATE(D120,11,1)+21+CHOOSE(WEEKDAY(DATE(D120,11,1)),4,3,2,1,0,6,5)","v":"2030-11-28"},"Thanksgiving Day",null,null,null,null,null,null,null,null,null,null,2025,13,"2025-06-01",2025,13,"2025-06-06",null,null,"2021-12-05",1]
[null,"",null,{"$f":"COUNTIF($F$12:F120,F121)+$D$12","v":2030},{"$f":"DATE(D121,12,25)","v":"2030-12-25"},"Christmas Day",null,null,null,null,null,null,null,null,null,null,2025,14,"2025-06-15",2025,14,"2025-06-20",null,null,"2021-12-11",7]
[null,"",null,null,null,null,null,null,null,null,null,null,null,null,null,null,2025,15,"2025-06-29",2025,15,"2025-07-04",null,null,"2021-12-12",1]
[null,"",null,null,null,null,null,null,null,null,null,null,null,null,null,null,2025,16,"2025-07-13",2025,16,"2025-07-18",null,null,"2021-12-18",7]
[null,"",null,null,null,null,null,null,null,null,null,null,null,null,null,null,2025,17,"2025-07-27",2025,17,"2025-08-01",null,null,"2021-12-19",1]
[null,"",null,null,null,null,null,null,null,null,null,null,null,null,null,null,2025,18,"2025-08-10",2025,18,"2025-08-15",null,null,"2021-12-25",7]
[null,"",null,null,null,null,null,null,null,null,null,null,null,null,null,null,2025,19,"2025-08-24",2025,19,"2025-08-29",null,null,"2021-12-26",1]
[null,"",null,null,null,null,null,null,null,null,null,null,null,null,null,null,2025,20,"2025-09-07",2025,20,"2025-09-12",null,null,"x",""]
[null,"",null,null,null,null,null,null,null,null,null,null,null,null,null,null,2025,21,"2025-09-21",2025,21,"2025-09-26",null,null,"x",""]
[null,"",null,null,null,null,null,null,null,null,null,null,null,null,null,null,2025,22,"2025-10-05",2025,22,"2025-10-10",null,null,"x",""]
[null,"",null,null,null,null,null,null,null,null,null,null,null,null,null,null,2025,23,"2025-10-19",2025,23,"2025-10-24",null,null,"x",""]
[null,"",null,null,null,null,null,null,null,null,null,null,null,null,null,null,2025,24,"2025-11-02",2025,24,"2025-11-07",null,null,"x",""]
[null,"",null,null,null,null,null,null,null,null,null,null,null,null,null,null,2025,25,"2025-11-16",2025,25,"2025-11-21",null,null,"x",""]
[null,"",null,null,null,null,null,null,null,null,null,null,null,null,null,null,2025,26,"2025-11-30",{"$f":"Q133","v":2025},{"$f":"R133","v":26},{"$f":"S133+$C$5","v":"2025-12-05"},null,null,"x",{"$f":"IFERROR(WEEKDAY(Y133,1),\"\")","v":""}]
[null,"",null,null,null,null,null,null,null,null,null,null,null,null,null,null,2026,1,"2025-12-14",2026,1,"2025-12-19",null,null,"x",{"$f":"IFERROR(WEEKDAY(Y134,1),\"\")","v":""}]
[null,"",null,null,null,null,null,null,null,null,null,null,null,null,null,null,2026,2,"2025-12-28",2026,2,"2026-01-02"]
[null,"",null,null,null,null,null,null,null,null,null,null,null,null,null,null,2026,3,"2026-01-11",2026,3,"2026-01-16"]
[null,"",null,null,null,null,null,null,null,null,null,null,null,null,null,null,2026,4,"2026-01-25",2026,4,"2026-01-30"]
[null,"",null,null,null,null,null,null,null,null,null,null,null,null,null,null,2026,5,"2026-02-08",2026,5,"2026-02-13"]
[null,"",null,null,null,null,null,null,null,null,null,null,null,null,null,null,2026,6,"2026-02-22",2026,6,"2026-02-27"]
[null,"",null,null,null,null,null,null,null,null,null,null,null,null,null,null,2026,7,"2026-03-08",2026,7,"2026-03-13"]
[null,{"$f":"IFERROR(IF($A141>0,VLOOKUP(WEEKDAY($A141),$AH$2:$AI$8,2,FALSE),\"\"),\"\")","v":""},null,null,null,null,null,null,null,null,null,null,null,null,null,null,2026,8,"2026-03-22",2026,8,"2026-03-27"]
[null,"",null,null,null,null,null,null,null,null,null,null,null,null,null,null,2026,9,"2026-04-05",2026,9,"2026-04-10"]
[null,"",null,null,null,null,null,null,null,null,null,null,null,null,null,null,2026,10,"2026-04-19",2026,10,"2026-04-24"]
[null,"",null,null,null,null,null,null,null,null,null,null,null,null,null,null,2026,11,"2026-05-03",2026,11,"2026-05-08"]
[null,"",null,null,null,null,null,null,null,null,null,null,null,null,null,null,2026,12,"2026-05-17",2026,12,"2026-05-22"]
[null,"",null,null,null,null,null,null,null,null,null,null,null,null,null,null,2026,13,"2026-05-31",2026,13,"2026-06-05"]
[null,"",null,null,null,null,null,null,null,null,null,null,null,null,null,null,2026,14,"2026-06-14",2026,14,"2026-06-19"]
[null,"",null,null,null,null,null,null,null,null,null,null,null,null,null,null,2026,15,"2026-06-28",2026,15,"2026-07-03"]
[null,"",null,null,null,null,null,null,null,null,null,null,null,null,null,null,2026,16,"2026-07-12",2026,16,"2026-07-17"]
[null,"",null,null,null,null,null,null,null,null,null,null,null,null,null,null,2026,17,"2026-07-26",2026,17,"2026-07-31"]
[null,"",null,null,null,null,null,null,null,null,null,null,null,null,null,null,{"$f":"IF(R150=26,Q150+1,Q150)","v":2026},{"$f":"IF(R150=26,1,R150+1)","v":18},{"$f":"S150+14","v":"2026-08-09"},2026,18,"2026-08-14"]
[null,"",null,null,null,null,null,null,null,null,null,null,null,null,null,null,2026,19,"2026-08-23",2026,19,"2026-08-28"]
[null,"",null,null,null,null,null,null,null,null,null,null,null,null,null,null,2026,20,"2026-09-06",2026,20,"2026-09-11"]
[null,"",null,null,null,null,null,null,null,null,null,null,null,null,null,null,2026,21,"2026-09-20",2026,21,"2026-09-25"]
[null,"",null,null,null,null,null,null,null,null,null,null,null,null,null,null,2026,22,"2026-10-04",2026,22,"2026-10-09"]
[null,"",null,null,null,null,null,null,null,null,null,null,null,null,null,null,2026,23,"2026-10-18",2026,23,"2026-10-23"]
[null,"",null,null,null,null,null,null,null,null,null,null,null,null,null,null,2026,24,"2026-11-01",2026,24,"2026-11-06"]
[null,"",null,null,null,null,null,null,null,null,null,null,null,null,null,null,2026,25,"2026-11-15",2026,25,"2026-11-20"]
[null,"",null,null,null,null,null,null,null,null,null,null,null,null,null,null,2026,26,"2026-11-29",2026,26,"2026-12-04"]
[null,"",null,null,null,null,null,null,null,null,null,null,null,null,null,null,2027,1,"2026-12-13",2027,1,"2026-12-18"]
[null,"",null,null,null,null,null,null,null,null,null,null,null,null,null,null,2027,2,"2026-12-27",2027,2,"2027-01-01"]
[null,"",null,null,null,null,null,null,null,null,null,null,null,null,null,null,2027,3,"2027-01-10",2027,3,"2027-01-15"]
[null,"",null,null,null,null,null,null,null,null,null,null,null,null,null,null,2027,4,"2027-01-24",2027,4,"2027-01-29"]
[null,"",null,null,null,null,null,null,null,null,null,null,null,null,null,null,2027,5,"2027-02-07",2027,5,"2027-02-12"]
[null,"",null,null,null,null,null,null,null,null,null,null,null,null,null,null,2027,6,"2027-02-21",2027,6,"2027-02-26"]
[null,"",null,null,null,null,null,null,null,null,null,null,null,null,null,null,2027,7,"2027-03-07",2027,7,"2027-03-12"]
[null,"",null,null,null,null,null,null,null,null,null,null,null,null,null,null,2027,8,"2027-03-21",2027,8,"2027-03-26"]
[null,"",null,null,null,null,null,null,null,null,null,null,null,null,null,null,2027,9,"2027-04-04",2027,9,"2027-04-09"]
[null,"",null,null,null,null,null,null,null,null,null,null,null,null,null,null,2027,10,"2027-04-18",2027,10,"2027-04-23"]
[null,"",null,null,null,null,null,null,null,null,null,null,null,null,null,null,2027,11,"2027-05-02",2027,11,"2027-05-07"]
[null,"",null,null,null,null,null,null,null,null,null,null,null,null,null,null,2027,12,"2027-05-16",2027,12,"2027-05-21"]
[null,"",null,null,null,null,null,null,null,null,null,null,null,null,null,null,2027,13,"2027-05-30",2027,13,"2027-06-04"]
[null,"",null,null,null,null,null,null,null,null,null,null,null,null,null,null,2027,14,"2027-06-13",2027,14,"2027-06-18"]
[null,"",null,null,null,null,null,null,null,null,null,null,null,null,null,null,2027,15,"2027-06-27",2027,15,"2027-07-02"]
[null,"",null,null,null,null,null,null,null,null,null,null,null,null,null,null,2027,16,"2027-07-11",2027,16,"2027-07-16"]
[null,"",null,null,null,null,null,null,null,null,null,null,null,null,null,null,2027,17,"2027-07-25",2027,17,"2027-07-30"]
[null,"",null,null,null,null,null,null,null,null,null,null,null,null,null,null,2027,18,"2027-08-08",2027,18,"2027-08-13"]
[null,"",null,null,null,null,null,null,null,null,null,null,null,null,null,null,2027,19,"2027-08-22",2027,19,"2027-08-27"]
[null,"",null,null,null,null,null,null,null,null,null,null,null,null,null,null,2027,20,"2027-09-05",2027,20,"2027-09-10"]
[null,"",null,null,null,null,null,null,null,null,null,null,null,null,null,null,2027,21,"2027-09-19",2027,21,"2027-09-24"]
[null,"",null,null,null,null,null,null,null,null,null,null,null,null,null,null,2027,22,"2027-10-03",2027,22,"2027-10-08"]
[null,"",null,null,null,null,null,null,null,null,null,null,null,null,null,null,2027,23,"2027-10-17",2027,23,"2027-10-22"]
[null,"",null,null,null,null,null,null,null,null,null,null,null,null,null,null,2027,24,"2027-10-31",2027,24,"2027-11-05"]
[null,"",null,null,null,null,null,null,null,null,null,null,null,null,null,null,2027,25,"2027-11-14",2027,25,"2027-11-19"]
[null,"",null,null,null,null,null,null,null,null,null,null,null,null,null,null,2027,26,"2027-11-28",2027,26,"2027-12-03"]
[null,"",null,null,null,null,null,null,null,null,null,null,null,null,null,null,2028,1,"2027-12-12",2028,1,"2027-12-17"]
[null,"",null,null,null,null,null,null,null,null,null,null,null,null,null,null,2028,2,"2027-12-26",2028,2,"2027-12-31"]
[null,"",null,null,null,null,null,null,null,null,null,null,null,null,null,null,2028,3,"2028-01-09",2028,3,"2028-01-14"]
[null,"",null,null,null,null,null,null,null,null,null,null,null,null,null,null,2028,4,"2028-01-23",2028,4,"2028-01-28"]
[null,"",null,null,null,null,null,null,null,null,null,null,null,null,null,null,2028,5,"2028-02-06",2028,5,"2028-02-11"]
[null,"",null,null,null,null,null,null,null,null,null,null,null,null,null,null,2028,6,"2028-02-20",2028,6,"2028-02-25"]
[null,"",null,null,null,null,null,null,null,null,null,null,null,null,null,null,2028,7,"2028-03-05",2028,7,"2028-03-10"]
[null,"",null,null,null,null,null,null,null,null,null,null,null,null,null,null,2028,8,"2028-03-19",2028,8,"2028-03-24"]
[null,"",null,null,null,null,null,null,null,null,null,null,null,null,null,null,2028,9,"2028-04-02",2028,9,"2028-04-07"]
[null,"",null,null,null,null,null,null,null,null,null,null,null,null,null,null,2028,10,"2028-04-16",2028,10,"2028-04-21"]
[null,"",null,null,null,null,null,null,null,null,null,null,null,null,null,null,2028,11,"2028-04-30",2028,11,"2028-05-05"]
[null,"",null,null,null,null,null,null,null,null,null,null,null,null,null,null,2028,12,"2028-05-14",{"$f":"Q197","v":2028},{"$f":"R197","v":12},{"$f":"S197+$C$5","v":"2028-05-19"}]
[null,"",null,null,null,null,null,null,null,null,null,null,null,null,null,null,2028,13,"2028-05-28",2028,13,"2028-06-02"]
[null,"",null,null,null,null,null,null,null,null,null,null,null,null,null,null,2028,14,"2028-06-11",2028,14,"2028-06-16"]
[null,"",null,null,null,null,null,null,null,null,null,null,null,null,null,null,2028,15,"2028-06-25",2028,15,"2028-06-30"]
[null,null,null,null,null,null,null,null,null,null,null,null,null,null,null,null,2028,16,"2028-07-09",2028,16,"2028-07-14"]
[null,null,null,null,null,null,null,null,null,null,null,null,null,null,null,null,2028,17,"2028-07-23",2028,17,"2028-07-28"]
[null,null,null,null,null,null,null,null,null,null,null,null,null,null,null,null,2028,18,"2028-08-06",2028,18,"2028-08-11"]
[null,null,null,null,null,null,null,null,null,null,null,null,null,null,null,null,2028,19,"2028-08-20",2028,19,"2028-08-25"]
[null,null,null,null,null,null,null,null,null,null,null,null,null,null,null,null,2028,20,"2028-09-03",2028,20,"2028-09-08"]
[null,null,null,null,null,null,null,null,null,null,null,null,null,null,null,null,2028,21,"2028-09-17",2028,21,"2028-09-22"]
[null,null,null,null,null,null,null,null,null,null,null,null,null,null,null,null,2028,22,"2028-10-01",2028,22,"2028-10-06"]
[null,null,null,null,null,null,null,null,null,null,null,null,null,null,null,null,2028,23,"2028-10-15",2028,23,"2028-10-20"]
[null,null,null,null,null,null,null,null,null,null,null,null,null,null,null,null,2028,24,"2028-10-29",2028,24,"2028-11-03"]
[null,null,null,null,null,null,null,null,null,null,null,null,null,null,null,null,2028,25,"2028-11-12",2028,25,"2028-11-17"]
[null,null,null,null,null,null,null,null,null,null,null,null,null,null,null,null,2028,26,"2028-11-26",2028,26,"2028-12-01"]
[null,null,null,null,null,null,null,null,null,null,null,null,null,null,null,null,2029,1,"2028-12-10",2029,1,"2028-12-15"]
[null,null,null,null,null,null,null,null,null,null,null,null,null,null,null,null,2029,2,"2028-12-24",2029,2,"2028-12-29"]
[null,null,null,null,null,null,null,null,null,null,null,null,null,null,null,null,2029,3,"2029-01-07",2029,3,"2029-01-12"]
[null,null,null,null,null,null,null,null,null,null,null,null,null,null,null,null,{"$f":"IF(R214=26,Q214+1,Q214)","v":2029},{"$f":"IF(R214=26,1,R214+1)","v":4},{"$f":"S214+14","v":"2029-01-21"},2029,4,"2029-01-26"]
[null,null,null,null,null,null,null,null,null,null,null,null,null,null,null,null,2029,5,"2029-02-04",2029,5,"2029-02-09"]
[null,null,null,null,null,null,null,null,null,null,null,null,null,null,null,null,2029,6,"2029-02-18",2029,6,"2029-02-23"]
[null,null,null,null,null,null,null,null,null,null,null,null,null,null,null,null,2029,7,"2029-03-04",2029,7,"2029-03-09"]
[null,null,null,null,null,null,null,null,null,null,null,null,null,null,null,null,2029,8,"2029-03-18",2029,8,"2029-03-23"]
[null,null,null,null,null,null,null,null,null,null,null,null,null,null,null,null,2029,9,"2029-04-01",2029,9,"2029-04-06"]
[null,null,null,null,null,null,null,null,null,null,null,null,null,null,null,null,2029,10,"2029-04-15",2029,10,"2029-04-20"]
[null,null,null,null,null,null,null,null,null,null,null,null,null,null,null,null,2029,11,"2029-04-29",2029,11,"2029-05-04"]
[null,null,null,null,null,null,null,null,null,null,null,null,null,null,null,null,2029,12,"2029-05-13",2029,12,"2029-05-18"]
[null,null,null,null,null,null,null,null,null,null,null,null,null,null,null,null,2029,13,"2029-05-27",2029,13,"2029-06-01"]
[null,null,null,null,null,null,null,null,null,null,null,null,null,null,null,null,2029,14,"2029-06-10",2029,14,"2029-06-15"]
[null,null,null,null,null,null,null,null,null,null,null,null,null,null,null,null,2029,15,"2029-06-24",2029,15,"2029-06-29"]
[null,null,null,null,null,null,null,null,null,null,null,null,null,null,null,null,2029,16,"2029-07-08",2029,16,"2029-07-13"]
[null,null,null,null,null,null,null,null,null,null,null,null,null,null,null,null,2029,17,"2029-07-22",2029,17,"2029-07-27"]
[null,null,null,null,null,null,null,null,null,null,null,null,null,null,null,null,2029,18,"2029-08-05",2029,18,"2029-08-10"]
[null,null,null,null,null,null,null,null,null,null,null,null,null,null,null,null,2029,19,"2029-08-19",2029,19,"2029-08-24"]
[null,null,null,null,null,null,null,null,null,null,null,null,null,null,null,null,2029,20,"2029-09-02",2029,20,"2029-09-07"]
[null,null,null,null,null,null,null,null,null,null,null,null,null,null,null,null,2029,21,"2029-09-16",2029,21,"2029-09-21"]
[null,null,null,null,null,null,null,null,null,null,null,null,null,null,null,null,2029,22,"2029-09-30",2029,22,"2029-10-05"]
[null,null,null,null,null,null,null,null,null,null,null,null,null,null,null,null,2029,23,"2029-10-14",2029,23,"2029-10-19"]
[null,null,null,null,null,null,null,null,null,null,null,null,null,null,null,null,2029,24,"2029-10-28",2029,24,"2029-11-02"]
[null,null,null,null,null,null,null,null,null,null,null,null,null,null,null,null,2029,25,"2029-11-11",2029,25,"2029-11-16"]
[null,null,null,null,null,null,null,null,null,null,null,null,null,null,null,null,2029,26,"2029-11-25",2029,26,"2029-11-30"]

{"sheet":"Lookup","index":3,"n_rows":234,"n_cols":23,"rows_kept":234,"cut":false,"hidden":false,"merged":[]}
[]
[]
[]
["Start of First Pay Period (Ever):",null,null,"2020-12-27",null,null,null,"Choices:","Yes","x"]
[null,null,"First Pay Period Number:",1,null,null,null,null,"No"]
[]
[]
[]
["Weekdays"]
["Sunday",0]
["Monday",1]
["Tuesday",2]
["Wednesday",3]
["Thursday",4]
["Friday",5]
["Saturday",6]
[]
[]
["Sheet Path:","C:\\Users\\James.Talley\\Documents\\JTalley\\T&A\\"]
["Sheet Name:","Journal and Timesheet.xlsm",null,null,null,null,"='C:\\Users\\James.Talley\\Documents\\JTalley\\T&A\\[Journal and Timesheet.xlsm]Master Project List'!A3"]
[null,"Master Project List",null,null,null,null,"Activities"]
[{"$f":"\"'\"&$B$19&\"[\"&$B$20&\"]\"","v":"'C:\\Users\\James.Talley\\Documents\\JTalley\\T&A\\[Journal and Timesheet.xlsm]"}]
[null,null,null,null,null,null,null,null,null,null,null,null,null,null,"Macro Settings:"]
[null,null,null,null,null,null,null,null,null,null,null,null,null,null,"FindActive",null,null,"ForwardPass (In addition to FindActive variables)"]
[null,"Project List","Active?",null,null,null,"Activity List",null,null,null,null,null,null,null,"Debug Mode:","x",null,"Debug Mode:","x"]
[null,"Hindu Wedding (HW)",1,null,null,null,{"$f":"[1]Activities!A1","v":"Leave"},{"$f":"[1]Activities!B1","v":"Leave"},null,null,null,null,null,null,"Variable","Value",null,"Variable","Value"]
[null,"Civil Wedding (CW)",0,null,null,null,{"$f":"[1]Activities!A2","v":"Other"},{"$f":"[1]Activities!B2","v":"Other"},null,null,null,null,null,null,"ProjectStartRow",{"$f":"ROW(B26)","v":26},null,"ScheduleEarlyStartColumn",{"$f":"COLUMN(Schedule!V$19)","v":22}]
[null,null,null,null,null,null,{"$f":"[1]Activities!A3","v":"A1000"},{"$f":"[1]Activities!B3","v":"ROCR ES(2) Engineering Study"},null,null,null,null,null,null,"ProjectEndRow",{"$f":"P27+COUNTA($B$26:$B$500)-1","v":27},null,"ScheduleEarlyFinishColumn",{"$f":"COLUMN(Schedule!W$19)","v":23}]
[null,null,null,null,null,null,{"$f":"[1]Activities!A4","v":"A.1070"},{"$f":"[1]Activities!B4","v":"Engineering Labor"},null,null,null,null,null,null,"ProjectNameColumn",{"$f":"COLUMN(B25)","v":2},null,"ScheduleLateStartColumn",{"$f":"COLUMN(Schedule!X$19)","v":24}]
[null,null,null,null,null,null,{"$f":"[1]Activities!A5","v":"A-E-1115"},{"$f":"[1]Activities!B5","v":"Public Involvement Meeting"},null,null,null,null,null,null,"ProjectActiveColumn",{"$f":"COLUMN(C25)","v":3},null,"ScheduleLateFinishColumn",{"$f":"COLUMN(Schedule!Y$19)","v":25}]
[null,null,null,null,null,null,{"$f":"[1]Activities!A6","v":"A_E.1210"},{"$f":"[1]Activities!B6","v":" 30% Design (A&E) "},null,null,null,null,null,null,"ScheduleStartRow",{"$f":"ROW(Schedule!C20)","v":20},null,"ScheduleDurationColumn",{"$f":"COLUMN(Schedule!H18)","v":8}]
[null,null,null,null,null,null,{"$f":"[1]Activities!A7","v":"A_E.1220"},{"$f":"[1]Activities!B7","v":" 70% Design (A&E) "},null,null,null,null,null,null,"ScheduleEndRow",{"$f":"MAX(IF(ISBLANK(Schedule!C20:C20000),0,ROW(C20:C20000)))","v":59},null,"ScheduleLeadLagColumn",{"$f":"COLUMN(Schedule!J18)","v":10}]
[null,null,null,null,null,null,{"$f":"[1]Activities!A8","v":"A_E.1230"},{"$f":"[1]Activities!B8","v":" 95% Design (A&E) "},null,null,null,null,null,null,"ScheduleProjectColumn",{"$f":"COLUMN(Schedule!C19)","v":3},null,"ScheduleRelationshipToColumn",{"$f":"COLUMN(Schedule!G19)","v":7}]
[null,null,null,null,null,null,{"$f":"[1]Activities!A9","v":"A_E.1240"},{"$f":"[1]Activities!B9","v":" Revise PS&E from Ext Dist (A&E) "},null,null,null,null,null,null,"ScheduleRelationshipColumn",{"$f":"COLUMN(Schedule!F19)","v":6},null,"ProjectActivityNameRow",{"$f":"ROW(R50)","v":50}]
[null,null,null,null,null,null,{"$f":"[1]Activities!A10","v":"A_E.1250"},{"$f":"[1]Activities!B10","v":" Revise 99% Design. Submit 100% design (A&E) "},null,null,null,null,null,null,"ScheduleActualStartColumn",{"$f":"COLUMN(Schedule!M19)","v":13},null,"ProjectActivityNameColumn",{"$f":"COLUMN(R50)","v":18}]
[null,null,null,null,null,null,{"$f":"[1]Activities!A11","v":"A_E.1251"},{"$f":"[1]Activities!B11","v":" Revise 99% Design. Submit 100% design (A&E) "},null,null,null,null,null,null,"ScheduleActualEndColumn",{"$f":"COLUMN(Schedule!N19)","v":14},null,"ScheduleUseStartColumn",{"$f":"COLUMN(Schedule!O19)","v":15}]
[null,null,null,null,null,null,{"$f":"[1]Activities!A12","v":"ACQ.2329"},{"$f":"[1]Activities!B12","v":" First Advertisement - Open and Analyze Bids "},null,null,null,null,null,null,null,null,null,"ProjectEarlyFinishColumn",{"$f":"COLUMN(T49)","v":20}]
[null,null,null,null,null,null,{"$f":"[1]Activities!A13","v":"ACQ.2320"},{"$f":"[1]Activities!B13","v":" Open and Analyze Bids "},null,null,null,null,null,null,null,null,null,"ProjectLateStartColumn",{"$f":"COLUMN(U49)","v":21}]
[null,null,null,null,null,null,{"$f":"[1]Activities!A14","v":"ACQ.2330"},{"$f":"[1]Activities!B14","v":" Open and Analyze Bids "},null,null,null,null,null,null,null,null,null,"ProjectLeadLagColumn",{"$f":"COLUMN(W49)","v":23}]
[null,null,null,null,null,null,{"$f":"[1]Activities!A15","v":"ADM-21-4000"},{"$f":"[1]Activities!B15","v":"ADM - Pathways Student Program for FY21"},null,null,null,null,null,null,null,null,null,"ProjectEarlyStartColumn",{"$f":"COLUMN(S49)","v":19}]
[null,null,null,null,null,null,{"$f":"[1]Activities!A16","v":"CAD.15.1000"},{"$f":"[1]Activities!B16","v":"CADD Support"},null,null,null,null,null,null,null,null,null,"ProjectLateFinishColumn",{"$f":"COLUMN(V49)","v":22}]
[null,null,null,null,null,null,{"$f":"[1]Activities!A17","v":"CAD.15.2000"},{"$f":"[1]Activities!B17","v":"CADD Training"},null,null,null,null,null,null,null,null,null,"SchedulePredecessorColumn",{"$f":"COLUMN(Schedule!EC19)","v":133}]
[null,null,null,null,null,null,{"$f":"[1]Activities!A18","v":"CAD.16.1000"},{"$f":"[1]Activities!B18","v":"CADD Support"},null,null,null,null,null,null,null,null,null,"ScheduleMilestoneColumn",{"$f":"COLUMN(Schedule!B19)","v":2}]
[null,null,null,null,null,null,{"$f":"[1]Activities!A19","v":"CAD.16.2000"},{"$f":"[1]Activities!B19","v":"CADD Training"},null,null,null,null,null,null,null,null,null,"BackwardPassCheckRow",{"$f":"ROW(Schedule!U1)","v":1}]
[null,null,null,null,null,null,{"$f":"[1]Activities!A20","v":"CAD-18-2000"},{"$f":"[1]Activities!B20","v":"CADD Training"},null,null,null,null,null,null,null,null,null,"BackwardPassCheckColumn",{"$f":"COLUMN(Schedule!U1)","v":21}]
[null,null,null,null,null,null,{"$f":"[1]Activities!A21","v":"CAD-19-2000"},{"$f":"[1]Activities!B21","v":"CADD Training"},null,null,null,null,null,null,null,null,null,"BackwardPassResultRow",{"$f":"ROW(Schedule!U16)","v":16}]
[null,null,null,null,null,null,{"$f":"[1]Activities!A22","v":"DABO-R1020"},{"$f":"[1]Activities!B22","v":"Draft Report"},null,null,null,null,null,null,null,null,null,"BackwardPassResultColumn",{"$f":"COLUMN(Schedule!U16)","v":21}]
[null,null,null,null,null,null,{"$f":"[1]Activities!A23","v":"DV.1000"},{"$f":"[1]Activities!B23","v":"Preliminary Engineering"},null,null,null,null,null,null,null,null,null,null,{"$f":"$S$27-$P$29+1","v":21},{"$f":"$S$28-$P$29+1","v":22},{"$f":"$S$29-$P$29+1","v":23},{"$f":"$S$30-$P$29+1","v":24},{"$f":"$S$32-$P$29+1","v":9}]
[null,null,null,null,null,null,{"$f":"[1]Activities!A24","v":"DV.1000.100"},{"$f":"[1]Activities!B24","v":"Download DEM/Imagery"},null,null,null,null,null,null,null,null,null,"Activity Name","Early Start","Early Finish","Late Start","Late Finish","Lead/Lag"]
[null,null,null,null,null,null,{"$f":"[1]Activities!A25","v":"DV.2000"},{"$f":"[1]Activities!B25","v":"Design Visualization"},null,null,null,null,null,null,null,null,null,"Hindu Wedding (HW)----Project Start",{"$f":"IFERROR(VLOOKUP($R50,Schedule!$B$20:$Y$20000,S$48,FALSE),0)","v":"2021-11-21"},{"$f":"IFERROR(VLOOKUP($R50,Schedule!$B$20:$Y$20000,T$48,FALSE),0)","v":"2021-11-21"},{"$f":"IFERROR(VLOOKUP($R50,Schedule!$B$20:$Y$20000,U$48,FALSE),0)","v":"2021-11-21"},{"$f":"IFERROR(VLOOKUP($R50,Schedule!$B$20:$Y$20000,V$48,FALSE),0)","v":"2021-11-21"},{"$f":"IFERROR(VLOOKUP($R50,Schedule!$B$20:$Y$20000,W$48,FALSE),0)","v":0}]
[null,null,null,null,null,null,{"$f":"[1]Activities!A26","v":"DV.2000.100"},{"$f":"[1]Activities!B26","v":"Download DEM/Imagery"}]
[null,null,null,null,null,null,{"$f":"[1]Activities!A27","v":"DV.2000.200"},{"$f":"[1]Activities!B27","v":"Model existing structure(s)"}]
[null,null,null,null,null,null,{"$f":"[1]Activities!A28","v":"DV.2000.300"},{"$f":"[1]Activities!B28","v":"Model proposed structure(s)"}]
[null,null,null,null,null,null,{"$f":"[1]Activities!A29","v":"DV.2000.400"},{"$f":"[1]Activities!B29","v":"Photoshop Work"}]
[null,null,null,null,null,null,{"$f":"[1]Activities!A30","v":"DV.2000.500"},{"$f":"[1]Activities!B30","v":"Visualize in LumenRT"}]
[null,null,null,null,null,null,{"$f":"[1]Activities!A31","v":"DV.2000.600"},{"$f":"[1]Activities!B31","v":"Prepare Animation"}]
[null,null,null,null,null,null,{"$f":"[1]Activities!A32","v":"DV.2000.1000"},{"$f":"[1]Activities!B32","v":"Modeling in ConceptStation"}]
[null,null,null,null,null,null,{"$f":"[1]Activities!A33","v":"CON.3000"},{"$f":"[1]Activities!B33","v":" Pre-Construction Conference and Activities "}]
[null,null,null,null,null,null,{"$f":"[1]Activities!A34","v":"CON.3100"},{"$f":"[1]Activities!B34","v":" Under Construction "}]
[null,null,null,null,null,null,{"$f":"[1]Activities!A35","v":"ENV.1300"},{"$f":"[1]Activities!B35","v":"Early Public Scoping Activities"}]
[null,null,null,null,null,null,{"$f":"[1]Activities!A36","v":"ENV.1500.100"},{"$f":"[1]Activities!B36","v":"E&S Plan - Prepare Application"}]
[null,null,null,null,null,null,{"$f":"[1]Activities!A37","v":"HWY.1100"},{"$f":"[1]Activities!B37","v":" Design Scoping Field Review "}]
[null,null,null,null,null,null,{"$f":"[1]Activities!A38","v":"HWY.1120"},{"$f":"[1]Activities!B38","v":" Prepare Draft DSR and Preliminary Project Agreement "}]
[null,null,null,null,null,null,{"$f":"[1]Activities!A39","v":"HWY.1122"},{"$f":"[1]Activities!B39","v":" Prepare Preliminary Project Agreement "}]
[null,null,null,null,null,null,{"$f":"[1]Activities!A40","v":"HWY.1130"},{"$f":"[1]Activities!B40","v":" Prepare Field Trip Report and Preliminary Project Agreement "}]
[null,null,null,null,null,null,{"$f":"[1]Activities!A41","v":"HWY.1140"},{"$f":"[1]Activities!B41","v":" Review of Draft DSR and Internal Project Kick-off Meeting "}]
[null,null,null,null,null,null,{"$f":"[1]Activities!A42","v":"HWY.1200"},{"$f":"[1]Activities!B42","v":" Revise Draft DSR (For External) "}]
[null,null,null,null,null,null,{"$f":"[1]Activities!A43","v":"HWY.1230"},{"$f":"[1]Activities!B43","v":" Finalize DSR "}]
[null,null,null,null,null,null,{"$f":"[1]Activities!A44","v":"HWY.1240"},{"$f":"[1]Activities!B44","v":" Develop Comprehensive Project Agreement "}]
[null,null,null,null,null,null,{"$f":"[1]Activities!A45","v":"HWY.1250"},{"$f":"[1]Activities!B45","v":" Prepare Draft RFQ, RFP and Estimate "}]
[null,null,null,null,null,null,{"$f":"[1]Activities!A46","v":"HWY.1260"},{"$f":"[1]Activities!B46","v":" Review Draft RFQ, RFP and Estimate (Internal/External Review) "}]
[null,null,null,null,null,null,{"$f":"[1]Activities!A47","v":"HWY.1270"},{"$f":"[1]Activities!B47","v":" Prepare Final RFQ, Draft RFP and Estimate "}]
[null,null,null,null,null,null,{"$f":"[1]Activities!A48","v":"HWY.1275"},{"$f":"[1]Activities!B48","v":" RFQ Approval "}]
[null,null,null,null,null,null,{"$f":"[1]Activities!A49","v":"HWY.1280"},{"$f":"[1]Activities!B49","v":" Prepare Final RFP "}]
[null,null,null,null,null,null,{"$f":"[1]Activities!A50","v":"HWY.1290"},{"$f":"[1]Activities!B50","v":" RFP Certification "}]
[null,null,null,null,null,null,{"$f":"[1]Activities!A51","v":"HWY.1300"},{"$f":"[1]Activities!B51","v":" Prepare Draft SOW/IGE "}]
[null,null,null,null,null,null,{"$f":"[1]Activities!A52","v":"HWY.1300"},{"$f":"[1]Activities!B52","v":" Develop A/E Selection Memo (NEPA) "}]
[null,null,null,null,null,null,{"$f":"[1]Activities!A53","v":"HWY.1310"},{"$f":"[1]Activities!B53","v":" Pre-Proposal Meeting (IDIQ) "}]
[null,null,null,null,null,null,{"$f":"[1]Activities!A54","v":"HWY.1320"},{"$f":"[1]Activities!B54","v":" Issue RFP Amendments (IDIQ) "}]
[null,null,null,null,null,null,{"$f":"[1]Activities!A55","v":"HWY.1320"},{"$f":"[1]Activities!B55","v":" Assemble SOW for Int./Ext. Dist "}]
[null,null,null,null,null,null,{"$f":"[1]Activities!A56","v":"HWY.1330"},{"$f":"[1]Activities!B56","v":" Review Contractor Proposal (IDIQ) "}]
[null,null,null,null,null,null,{"$f":"[1]Activities!A57","v":"HWY.1330"},{"$f":"[1]Activities!B57","v":" Prepare Final SOW from Ext Dist "}]
[null,null,null,null,null,null,{"$f":"[1]Activities!A58","v":"HWY.1335"},{"$f":"[1]Activities!B58","v":" Revise Final SOW "}]
[null,null,null,null,null,null,{"$f":"[1]Activities!A59","v":"HWY.1340"},{"$f":"[1]Activities!B59","v":" Final Evaluations of Technical and Price Proposals and Selection Memo (IDIQ) "}]
[null,null,null,null,null,null,{"$f":"[1]Activities!A60","v":"HWY.1350"},{"$f":"[1]Activities!B60","v":" Task Order, Performance, and Need Evaluation (Year 1, IDIQ) "}]
[null,null,null,null,null,null,{"$f":"[1]Activities!A61","v":"HWY.1360"},{"$f":"[1]Activities!B61","v":" Task Order, Performance, and Need Evaluation, (Year 2, IDIQ) "}]
[null,null,null,null,null,null,{"$f":"[1]Activities!A62","v":"HWY.1370"},{"$f":"[1]Activities!B62","v":" Task Order, Performance, and Need Evaluation, (Year 3, IDIQ) "}]
[null,null,null,null,null,null,{"$f":"[1]Activities!A63","v":"HWY.1380"},{"$f":"[1]Activities!B63","v":" Task Order, Performance, and Need Evaluation, (Year 4, IDIQ) "}]
[null,null,null,null,null,null,{"$f":"[1]Activities!A64","v":"HWY.1400"},{"$f":"[1]Activities!B64","v":" Develop Candidate Alternative Plans "}]
[null,null,null,null,null,null,{"$f":"[1]Activities!A65","v":"HWY.1410"},{"$f":"[1]Activities!B65","v":" Refine Candidate Alternatives "}]
[null,null,null,null,null,null,{"$f":"[1]Activities!A66","v":"HWY.1500"},{"$f":"[1]Activities!B66","v":" SOW / IGE / PR (Design) "}]
[null,null,null,null,null,null,{"$f":"[1]Activities!A67","v":"HWY.1510"},{"$f":"[1]Activities!B67","v":" Develop A&E Selection Memo (Design) "}]
[null,null,null,null,null,null,{"$f":"[1]Activities!A68","v":"HWY.1520"},{"$f":"[1]Activities!B68","v":" Technical Review (Design) "}]
[null,null,null,null,null,null,{"$f":"[1]Activities!A69","v":"HWY.1600"},{"$f":"[1]Activities!B69","v":" Prepare 30% PS&E "}]
[null,null,null,null,null,null,{"$f":"[1]Activities!A70","v":"HWY.1610"},{"$f":"[1]Activities!B70","v":" Assemble & Distribute 30% Design "}]
[null,null,null,null,null,null,{"$f":"[1]Activities!A71","v":"HWY.1620"},{"$f":"[1]Activities!B71","v":" 30% Design Review "}]
[null,null,null,null,null,null,{"$f":"[1]Activities!A72","v":"HWY.1630"},{"$f":"[1]Activities!B72","v":" 30% Field Review "}]
[null,null,null,null,null,null,{"$f":"[1]Activities!A73","v":"HWY.1640"},{"$f":"[1]Activities!B73","v":" Revise 30% PS&E "}]
[null,null,null,null,null,null,{"$f":"[1]Activities!A74","v":"HWY.1800"},{"$f":"[1]Activities!B74","v":" Review Contractor Qualifications and Selection Memo "}]
[null,null,null,null,null,null,{"$f":"[1]Activities!A75","v":"HWY.1805"},{"$f":"[1]Activities!B75","v":" Revise Final RFP "}]
[null,null,null,null,null,null,{"$f":"[1]Activities!A76","v":"HWY.1810"},{"$f":"[1]Activities!B76","v":" Pre-Proposal Meeting "}]
[null,null,null,null,null,null,{"$f":"[1]Activities!A77","v":"HWY.1820"},{"$f":"[1]Activities!B77","v":" Issue RFP Amendments "}]
[null,null,null,null,null,null,{"$f":"[1]Activities!A78","v":"HWY.1830"},{"$f":"[1]Activities!B78","v":" Review Contractor Proposal "}]
[null,null,null,null,null,null,{"$f":"[1]Activities!A79","v":"HWY.1840"},{"$f":"[1]Activities!B79","v":" Contractor Technical Presentations "}]
[null,null,null,null,null,null,{"$f":"[1]Activities!A80","v":"HWY.1850"},{"$f":"[1]Activities!B80","v":" Final Evaluations of Technical and Price Proposals and Selection Memo "}]
[null,null,null,null,null,null,{"$f":"[1]Activities!A81","v":"HWY.1990"},{"$f":"[1]Activities!B81","v":" 30% Complete w/o NEPA - Can Design Progress? "}]
[null,null,null,null,null,null,{"$f":"[1]Activities!A82","v":"HWY.2000"},{"$f":"[1]Activities!B82","v":" Predesign Conference "}]
[null,null,null,null,null,null,{"$f":"[1]Activities!A83","v":"HWY.2010"},{"$f":"[1]Activities!B83","v":" Rev/App QA, Geot., Srv & Util. Inv. Plans "}]
[null,null,null,null,null,null,{"$f":"[1]Activities!A84","v":"HWY.2020"},{"$f":"[1]Activities!B84","v":" Review/Update Project Agreement "}]
[null,null,null,null,null,null,{"$f":"[1]Activities!A85","v":"HWY.2200"},{"$f":"[1]Activities!B85","v":" Value Engineering "}]
[null,null,null,null,null,null,{"$f":"[1]Activities!A86","v":"HWY.2300"},{"$f":"[1]Activities!B86","v":" Prepare and Assemble 70% PS&E - Prepare Quantities, EE and SCR "}]
[null,null,null,null,null,null,{"$f":"[1]Activities!A87","v":"HWY.2310"},{"$f":"[1]Activities!B87","v":" 70% Internal/Client Review "}]
[null,null,null,null,null,null,{"$f":"[1]Activities!A88","v":"HWY.2320"},{"$f":"[1]Activities!B88","v":" 70% PS&E Field Review "}]
[null,null,null,null,null,null,{"$f":"[1]Activities!A89","v":"HWY.2330"},{"$f":"[1]Activities!B89","v":" Review/Update Project Agreement Again "}]
[null,null,null,null,null,null,{"$f":"[1]Activities!A90","v":"HWY.2340"},{"$f":"[1]Activities!B90","v":" Prepare ROW Plans (ROW as Resource too) "}]
[null,null,null,null,null,null,{"$f":"[1]Activities!A91","v":"HWY.2350"},{"$f":"[1]Activities!B91","v":" Prepare and Assemble 90% PS&E "}]
[null,null,null,null,null,null,{"$f":"[1]Activities!A92","v":"HWY.2360"},{"$f":"[1]Activities!B92","v":" 90% Internal Review/Comment "}]
[null,null,null,null,null,null,{"$f":"[1]Activities!A93","v":"HWY.2365"},{"$f":"[1]Activities!B93","v":" 95% Design Review "}]
[null,null,null,null,null,null,{"$f":"[1]Activities!A94","v":"HWY.2366"},{"$f":"[1]Activities!B94","v":" Partner Resolution Meeting "}]
[null,null,null,null,null,null,{"$f":"[1]Activities!A95","v":"HWY.2370"},{"$f":"[1]Activities!B95","v":" Prepare 95% PS&E "}]
[null,null,null,null,null,null,{"$f":"[1]Activities!A96","v":"HWY.2380"},{"$f":"[1]Activities!B96","v":" Review 99% Design "}]
[null,null,null,null,null,null,{"$f":"[1]Activities!A97","v":"HWY.2381"},{"$f":"[1]Activities!B97","v":" 100% Design Review & Approval "}]
[null,null,null,null,null,null,{"$f":"[1]Activities!A98","v":"HWY.2390"},{"$f":"[1]Activities!B98","v":" Assemble PS&E for Int./Ext. Dist "}]
[null,null,null,null,null,null,{"$f":"[1]Activities!A99","v":"HWY.2400"},{"$f":"[1]Activities!B99","v":" Prepare Final PS&E "}]
[null,null,null,null,null,null,{"$f":"[1]Activities!A100","v":"HWY.2404"},{"$f":"[1]Activities!B100","v":" First Advertisement - Revise Final PS&E "}]
[null,null,null,null,null,null,{"$f":"[1]Activities!A101","v":"HWY.2405"},{"$f":"[1]Activities!B101","v":" Revise Final PS&E "}]
[null,null,null,null,null,null,{"$f":"[1]Activities!A102","v":"HWY.2406"},{"$f":"[1]Activities!B102","v":" Revise Final PS&E Again As Necessary "}]
[null,null,null,null,null,null,{"$f":"[1]Activities!A103","v":"HWY.2410"},{"$f":"[1]Activities!B103","v":" Design Data for Construction "}]
[null,null,null,null,null,null,{"$f":"[1]Activities!A104","v":"HWY.2500"},{"$f":"[1]Activities!B104","v":" Distribute As-Builts to Partner "}]
[null,null,null,null,null,null,{"$f":"[1]Activities!A105","v":"HYD.1010"},{"$f":"[1]Activities!B105","v":"Design for Minor Culverts"}]
[null,null,null,null,null,null,{"$f":"[1]Activities!A106","v":"INDU-R1030"},{"$f":"[1]Activities!B106","v":"RSA Assistance"}]
[null,null,null,null,null,null,{"$f":"[1]Activities!A107","v":"KENA-R1020"},{"$f":"[1]Activities!B107","v":"RSA Assistance"}]
[null,null,null,null,null,null,{"$f":"[1]Activities!A108","v":"NON.1000"},{"$f":"[1]Activities!B108","v":" Administrative Activities Charged to Project "}]
[null,null,null,null,null,null,{"$f":"[1]Activities!A109","v":"NON.2000"},{"$f":"[1]Activities!B109","v":" Meeting Charged to Project "}]
[null,null,null,null,null,null,{"$f":"[1]Activities!A110","v":"NON.3000"},{"$f":"[1]Activities!B110","v":" Project Management "}]
[null,null,null,null,null,null,{"$f":"[1]Activities!A111","v":"PDS.14.1000"},{"$f":"[1]Activities!B111","v":"Training"}]
[null,null,null,null,null,null,{"$f":"[1]Activities!A112","v":"PDS.15.1000"},{"$f":"[1]Activities!B112","v":"Training"}]
[null,null,null,null,null,null,{"$f":"[1]Activities!A113","v":"PDS.15.2000"},{"$f":"[1]Activities!B113","v":"Training"}]
[null,null,null,null,null,null,{"$f":"[1]Activities!A114","v":"PDS.17.2000"},{"$f":"[1]Activities!B114","v":"Training"}]
[null,null,null,null,null,null,{"$f":"[1]Activities!A115","v":"PDS.18.2000"},{"$f":"[1]Activities!B115","v":"Training"}]
[null,null,null,null,null,null,{"$f":"[1]Activities!A116","v":"PDS.19.2000"},{"$f":"[1]Activities!B116","v":"Training"}]
[null,null,null,null,null,null,{"$f":"[1]Activities!A117","v":"PDS.20.2000"},{"$f":"[1]Activities!B117","v":"Training"}]
[null,null,null,null,null,null,{"$f":"[1]Activities!A118","v":"PDS.21.2000"},{"$f":"[1]Activities!B118","v":"Training"}]
[null,null,null,null,null,null,{"$f":"[1]Activities!A120","v":"PM.1000"},{"$f":"[1]Activities!B120","v":"Miscellaneous PM-branch related activities"}]
[null,null,null,null,null,null,{"$f":"[1]Activities!A121","v":"PM.A1000"},{"$f":"[1]Activities!B121","v":"Project Management (Safety)"}]
[null,null,null,null,null,null,{"$f":"[1]Activities!A122","v":"PM.A1020"},{"$f":"[1]Activities!B122","v":"Project Management (Safety)"}]
[null,null,null,null,null,null,{"$f":"[1]Activities!A123","v":"PM.1100"},{"$f":"[1]Activities!B123","v":"Processing of NATR Culvert Data"}]
[null,null,null,null,null,null,{"$f":"[1]Activities!A124","v":"PM.1140"},{"$f":"[1]Activities!B124","v":"Review of Draft DSR and Internal Project Kickoff Meeting"}]
[null,null,null,null,null,null,{"$f":"[1]Activities!A125","v":"PST.2100"},{"$f":"[1]Activities!B125","v":" 95% Internal/External Review/Comment "}]
[null,null,null,null,null,null,{"$f":"[1]Activities!A126","v":"PST.2200"},{"$f":"[1]Activities!B126","v":" Resolution Meeting "}]
[null,null,null,null,null,null,{"$f":"[1]Activities!A127","v":"SFT.1000"},{"$f":"[1]Activities!B127","v":"Safety work"}]
[null,null,null,null,null,null,{"$f":"[1]Activities!A128","v":"TRL-STUDY-PRG"},{"$f":"[1]Activities!B128","v":"DE FLAP Pedestrian Safety Analysis graphics and estimates"}]
[null,null,null,null,null,null,{"$f":"[1]Activities!A129","v":"TTD-20-1000"},{"$f":"[1]Activities!B129","v":"TTD Overhead for FY20 (Maria)"}]
[null,null,null,null,null,null,{"$f":"[1]Activities!A130","v":"WICR.R1000"},{"$f":"[1]Activities!B130","v":"Wilson's Creek NHB Site Visit"}]
[null,null,null,null,null,null,{"$f":"[1]Activities!A131","v":"WICR.R1020"},{"$f":"[1]Activities!B131","v":"Wilson's Creek NHB Draft Report"}]
[null,null,null,null,null,null,{"$f":"[1]Activities!A132","v":"WICR.R1030"},{"$f":"[1]Activities!B132","v":"Wilson's Creek NHB Final Report"}]
[null,null,null,null,null,null,{"$f":"[1]Activities!A133","v":""},{"$f":"[1]Activities!B133","v":0}]
[null,null,null,null,null,null,{"$f":"[1]Activities!A134","v":"GIS"},{"$f":"[1]Activities!B134","v":"GIS Training"}]
[null,null,null,null,null,null,{"$f":"[1]Activities!A135","v":"Corridor Modeler"},{"$f":"[1]Activities!B135","v":"Generic Corridor Modeler Training"}]
[null,null,null,null,null,null,{"$f":"[1]Activities!A136","v":"VWG"},{"$f":"[1]Activities!B136","v":"Visualization Working Group"}]
[null,null,null,null,null,null,{"$f":"[1]Activities!A137","v":"Laptop Inventory"},{"$f":"[1]Activities!B137","v":"Technical Services Laptop Inventory"}]
[null,null,null,null,null,null,{"$f":"[1]Activities!A138","v":"Marketing Plan"},{"$f":"[1]Activities!B138","v":"DV Marketing Plan"}]
[null,null,null,null,null,null,{"$f":"[1]Activities!A139","v":"Sherry"},{"$f":"[1]Activities!B139","v":"Work for Sherry"}]
[null,null,null,null,null,null,{"$f":"[1]Activities!A140","v":"EFL CADD Support"},{"$f":"[1]Activities!B140","v":"Assisting users, performing miscellaneous CADD tasks for other branches"}]
[null,null,null,null,null,null,{"$f":"[1]Activities!A141","v":"Design Vis"},{"$f":"[1]Activities!B141","v":"Miscellaneous Design Visualization work"}]
[null,null,null,null,null,null,{"$f":"[1]Activities!A142","v":"FY19-TPM-1000"},{"$f":"[1]Activities!B142","v":"Teaching the Design Visualization portion of the GMU class"}]
[null,null,null,null,null,null,{"$f":"[1]Activities!A143","v":"Jack"},{"$f":"[1]Activities!B143","v":"Miscellaneous work for Jack"}]
[null,null,null,null,null,null,{"$f":"[1]Activities!A144","v":"3D AMG"},{"$f":"[1]Activities!B144","v":"Work done for the 3D AMG Team"}]
[null,null,null,null,null,null,{"$f":"[1]Activities!A145","v":"Special Projects"},{"$f":"[1]Activities!B145","v":"Work done for the Special Projects team"}]
[null,null,null,null,null,null,{"$f":"[1]Activities!A146","v":"NPS GIS"},{"$f":"[1]Activities!B146","v":"Assembling GIS data on old projects for the NPS"}]
[null,null,null,null,null,null,{"$f":"[1]Activities!A147","v":"Remedy Requests"},{"$f":"[1]Activities!B147","v":"Resolving Remedy Incidents (not software installs)"}]
[null,null,null,null,null,null,{"$f":"[1]Activities!A148","v":"EEBACS"},{"$f":"[1]Activities!B148","v":"EEBACS and Estimating Support"}]
[null,null,null,null,null,null,{"$f":"[1]Activities!A149","v":"Project Database"},{"$f":"[1]Activities!B149","v":"Development of the Project Database Notion"}]
[null,null,null,null,null,null,{"$f":"[1]Activities!A150","v":"NASA DV"},{"$f":"[1]Activities!B150","v":"NASA Indian River Causeway DV"}]
[null,null,null,null,null,null,{"$f":"[1]Activities!A151","v":"TFHRC EAR BAA 2016"},{"$f":"[1]Activities!B151","v":"Review of proposals for Joe Moyer"}]
[null,null,null,null,null,null,{"$f":"[1]Activities!A152","v":"CATO-2017-01"},{"$f":"[1]Activities!B152","v":"CATO Scoping Assistance"}]
[null,null,null,null,null,null,{"$f":"[1]Activities!A153","v":"EDC"},{"$f":"[1]Activities!B153","v":"Support for the EDC-5/EDC-6 Virtual Public Involvement Initiative"}]
[null,null,null,null,null,null,{"$f":"[1]Activities!A154","v":"ENV20"},{"$f":"[1]Activities!B154","v":"Visualization presentation for the FHWA Resource Center/Environmental Discipline"}]
[null,null,null,null,null,null,{"$f":"[1]Activities!A155","v":"ENV21"},{"$f":"[1]Activities!B155","v":"Visualization presentation for the FHWA Resource Center/Environmental Discipline"}]
[null,null,null,null,null,null,{"$f":"[1]Activities!A156","v":"TTD-18-1000"},{"$f":"[1]Activities!B156","v":"Support for the EDC-5 Virtual Public Involvement Initiative"}]
[null,null,null,null,null,null,{"$f":"[1]Activities!A157","v":"ERFO-ASMNTS"},{"$f":"[1]Activities!B157","v":"GIS/ERFO assistance for Sergio Mayorga"}]
[null,null,null,null,null,null,{"$f":"[1]Activities!A158","v":"NERI"},{"$f":"[1]Activities!B158","v":"Miscellaneous pre-work for the NERI projects, including estimating hours and miscellaneous meetings."}]
[null,null,null,null,null,null,{"$f":"[1]Activities!A159","v":"NATR_1A2"},{"$f":"[1]Activities!B159","v":"Modeled and visualized suicide-prevention railing for the Double Arch Bridge"}]
[null,null,null,null,null,null,{"$f":"[1]Activities!A160","v":"WV_Trail"},{"$f":"[1]Activities!B160","v":"Preliminary DV work for the WV Multi-Use Trail (FLAP)"}]
[null,null,null,null,null,null,{"$f":"[1]Activities!A161","v":""},{"$f":"[1]Activities!B161","v":0}]
[null,null,null,null,null,null,{"$f":"[1]Activities!A162","v":""},{"$f":"[1]Activities!B162","v":0}]
[null,null,null,null,null,null,{"$f":"[1]Activities!A163","v":""},{"$f":"[1]Activities!B163","v":0}]
[null,null,null,null,null,null,{"$f":"[1]Activities!A164","v":""},{"$f":"[1]Activities!B164","v":0}]
[null,null,null,null,null,null,{"$f":"[1]Activities!A165","v":""},{"$f":"[1]Activities!B165","v":0}]
[null,null,null,null,null,null,{"$f":"[1]Activities!A166","v":""},{"$f":"[1]Activities!B166","v":0}]
[null,null,null,null,null,null,{"$f":"[1]Activities!A167","v":""},{"$f":"[1]Activities!B167","v":0}]
[null,null,null,null,null,null,{"$f":"[1]Activities!A168","v":""},{"$f":"[1]Activities!B168","v":0}]
[null,null,null,null,null,null,{"$f":"[1]Activities!A169","v":""},{"$f":"[1]Activities!B169","v":0}]
[null,null,null,null,null,null,{"$f":"[1]Activities!A170","v":""},{"$f":"[1]Activities!B170","v":0}]
[null,null,null,null,null,null,{"$f":"[1]Activities!A171","v":""},{"$f":"[1]Activities!B171","v":0}]
[null,null,null,null,null,null,{"$f":"[1]Activities!A172","v":""},{"$f":"[1]Activities!B172","v":0}]
[null,null,null,null,null,null,{"$f":"[1]Activities!A173","v":""},{"$f":"[1]Activities!B173","v":0}]
[null,null,null,null,null,null,{"$f":"[1]Activities!A174","v":""},{"$f":"[1]Activities!B174","v":0}]
[null,null,null,null,null,null,{"$f":"[1]Activities!A175","v":""},{"$f":"[1]Activities!B175","v":0}]
[null,null,null,null,null,null,{"$f":"[1]Activities!A176","v":""},{"$f":"[1]Activities!B176","v":0}]
[null,null,null,null,null,null,{"$f":"[1]Activities!A177","v":""},{"$f":"[1]Activities!B177","v":0}]
[null,null,null,null,null,null,{"$f":"[1]Activities!A178","v":""},{"$f":"[1]Activities!B178","v":0}]
[null,null,null,null,null,null,{"$f":"[1]Activities!A179","v":""},{"$f":"[1]Activities!B179","v":0}]
[null,null,null,null,null,null,{"$f":"[1]Activities!A180","v":""},{"$f":"[1]Activities!B180","v":0}]
[null,null,null,null,null,null,{"$f":"[1]Activities!A181","v":""},{"$f":"[1]Activities!B181","v":0}]
[null,null,null,null,null,null,{"$f":"[1]Activities!A182","v":""},{"$f":"[1]Activities!B182","v":0}]
[null,null,null,null,null,null,{"$f":"[1]Activities!A183","v":""},{"$f":"[1]Activities!B183","v":0}]
[null,null,null,null,null,null,{"$f":"[1]Activities!A184","v":""},{"$f":"[1]Activities!B184","v":0}]
[null,null,null,null,null,null,{"$f":"[1]Activities!A185","v":""},{"$f":"[1]Activities!B185","v":0}]
[null,null,null,null,null,null,{"$f":"[1]Activities!A186","v":0},{"$f":"[1]Activities!B186","v":0}]
[null,null,null,null,null,null,{"$f":"[1]Activities!A187","v":0},{"$f":"[1]Activities!B187","v":0}]
[null,null,null,null,null,null,{"$f":"[1]Activities!A188","v":0},{"$f":"[1]Activities!B188","v":0}]
[null,null,null,null,null,null,{"$f":"[1]Activities!A189","v":0},{"$f":"[1]Activities!B189","v":0}]
[null,null,null,null,null,null,{"$f":"[1]Activities!A190","v":0},{"$f":"[1]Activities!B190","v":0}]
[null,null,null,null,null,null,{"$f":"[1]Activities!A191","v":0},{"$f":"[1]Activities!B191","v":0}]
[null,null,null,null,null,null,{"$f":"[1]Activities!A192","v":0},{"$f":"[1]Activities!B192","v":0}]
[null,null,null,null,null,null,{"$f":"[1]Activities!A193","v":0},{"$f":"[1]Activities!B193","v":0}]
[null,null,null,null,null,null,{"$f":"[1]Activities!A194","v":0},{"$f":"[1]Activities!B194","v":0}]
[null,null,null,null,null,null,{"$f":"[1]Activities!A195","v":0},{"$f":"[1]Activities!B195","v":0}]
[null,null,null,null,null,null,{"$f":"[1]Activities!A196","v":0},{"$f":"[1]Activities!B196","v":0}]
[null,null,null,null,null,null,{"$f":"[1]Activities!A197","v":0},{"$f":"[1]Activities!B197","v":0}]
[null,null,null,null,null,null,{"$f":"[1]Activities!A198","v":0},{"$f":"[1]Activities!B198","v":0}]
[null,null,null,null,null,null,{"$f":"[1]Activities!A199","v":0},{"$f":"[1]Activities!B199","v":0}]
[null,null,null,null,null,null,{"$f":"[1]Activities!A200","v":0},{"$f":"[1]Activities!B200","v":0}]
[null,null,null,null,null,null,{"$f":"[1]Activities!A201","v":0},{"$f":"[1]Activities!B201","v":0}]
[null,null,null,null,null,null,{"$f":"[1]Activities!A202","v":0},{"$f":"[1]Activities!B202","v":0}]
[null,null,null,null,null,null,{"$f":"[1]Activities!A203","v":0},{"$f":"[1]Activities!B203","v":0}]
[null,null,null,null,null,null,{"$f":"[1]Activities!A204","v":0},{"$f":"[1]Activities!B204","v":0}]
[null,null,null,null,null,null,{"$f":"[1]Activities!A205","v":0},{"$f":"[1]Activities!B205","v":0}]
[null,null,null,null,null,null,{"$f":"[1]Activities!A206","v":0},{"$f":"[1]Activities!B206","v":0}]
[null,null,null,null,null,null,{"$f":"[1]Activities!A207","v":0},{"$f":"[1]Activities!B207","v":0}]
[null,null,null,null,null,null,{"$f":"[1]Activities!A208","v":0},{"$f":"[1]Activities!B208","v":0}]
[null,null,null,null,null,null,{"$f":"[1]Activities!A209","v":0},{"$f":"[1]Activities!B209","v":0}]
[null,null,null,null,null,null,{"$f":"[1]Activities!A210","v":0},{"$f":"[1]Activities!B210","v":0}]